BEGIN:VCALENDAR
VERSION:2.0
PRODID:-//Women Against Military Madness - ECPv6.15.20//NONSGML v1.0//EN
CALSCALE:GREGORIAN
METHOD:PUBLISH
X-WR-CALNAME:Women Against Military Madness
X-ORIGINAL-URL:https://womenagainstmilitarymadness.org
X-WR-CALDESC:Events for Women Against Military Madness
REFRESH-INTERVAL;VALUE=DURATION:PT1H
X-Robots-Tag:noindex
X-PUBLISHED-TTL:PT1H
BEGIN:VTIMEZONE
TZID:America/Chicago
BEGIN:DAYLIGHT
TZOFFSETFROM:-0600
TZOFFSETTO:-0500
TZNAME:CDT
DTSTART:20240310T080000
END:DAYLIGHT
BEGIN:STANDARD
TZOFFSETFROM:-0500
TZOFFSETTO:-0600
TZNAME:CST
DTSTART:20241103T070000
END:STANDARD
BEGIN:DAYLIGHT
TZOFFSETFROM:-0600
TZOFFSETTO:-0500
TZNAME:CDT
DTSTART:20250309T080000
END:DAYLIGHT
BEGIN:STANDARD
TZOFFSETFROM:-0500
TZOFFSETTO:-0600
TZNAME:CST
DTSTART:20251102T070000
END:STANDARD
BEGIN:DAYLIGHT
TZOFFSETFROM:-0600
TZOFFSETTO:-0500
TZNAME:CDT
DTSTART:20260308T080000
END:DAYLIGHT
BEGIN:STANDARD
TZOFFSETFROM:-0500
TZOFFSETTO:-0600
TZNAME:CST
DTSTART:20261101T070000
END:STANDARD
END:VTIMEZONE
BEGIN:VEVENT
DTSTART;TZID=America/Chicago:20250414T140000
DTEND;TZID=America/Chicago:20250414T160000
DTSTAMP:20260423T192105
CREATED:20240229T210447Z
LAST-MODIFIED:20240312T201819Z
UID:27050-1744639200-1744646400@womenagainstmilitarymadness.org
SUMMARY:WAMM Art Build - Banner + Sign Making for Gaza
DESCRIPTION:Sunday\, April 14\, 2024\, 2:00 – 4:00 PM\, 4200 Cedar Ave S\, MPLS\nTo follow up with new WAMM members and volunteers from our New Members Meeting\, we encourage all of you as well as your friends/family/interested strangers to join us for an art build! The fight for Gaza’s freedom is not slowing down anytime soon\, and being prepared for future emergency protests is always important. We are planning to lay out a banner or two to paint in the main room\, as well as make signs. Snacks will be provided as well as all materials\, so no need to bring anything except yourself and a buddy!\nOrganized by the WAMM Membership Committee \n\n\n	Related
URL:https://womenagainstmilitarymadness.org/events/wamm-action-night-banner-sign-making-for-rafah/
LOCATION:4200 Cedar Ave S\, Minneapolis MN 55407\, 4200 Cedar Ave S\, Minneapolis\, MN\, 55407\, United States
CATEGORIES:Featured Events,Upcoming Events
ATTACH;FMTTYPE=image/png:https://womenagainstmilitarymadness.org/wp-content/uploads/2024/02/Art-Action-night.png
END:VEVENT
END:VCALENDAR