BEGIN:VCALENDAR
VERSION:2.0
PRODID:-//Women Against Military Madness - ECPv6.15.20//NONSGML v1.0//EN
CALSCALE:GREGORIAN
METHOD:PUBLISH
X-WR-CALNAME:Women Against Military Madness
X-ORIGINAL-URL:https://womenagainstmilitarymadness.org
X-WR-CALDESC:Events for Women Against Military Madness
REFRESH-INTERVAL;VALUE=DURATION:PT1H
X-Robots-Tag:noindex
X-PUBLISHED-TTL:PT1H
BEGIN:VTIMEZONE
TZID:America/Chicago
BEGIN:DAYLIGHT
TZOFFSETFROM:-0600
TZOFFSETTO:-0500
TZNAME:CDT
DTSTART:20240310T080000
END:DAYLIGHT
BEGIN:STANDARD
TZOFFSETFROM:-0500
TZOFFSETTO:-0600
TZNAME:CST
DTSTART:20241103T070000
END:STANDARD
BEGIN:DAYLIGHT
TZOFFSETFROM:-0600
TZOFFSETTO:-0500
TZNAME:CDT
DTSTART:20250309T080000
END:DAYLIGHT
BEGIN:STANDARD
TZOFFSETFROM:-0500
TZOFFSETTO:-0600
TZNAME:CST
DTSTART:20251102T070000
END:STANDARD
BEGIN:DAYLIGHT
TZOFFSETFROM:-0600
TZOFFSETTO:-0500
TZNAME:CDT
DTSTART:20260308T080000
END:DAYLIGHT
BEGIN:STANDARD
TZOFFSETFROM:-0500
TZOFFSETTO:-0600
TZNAME:CST
DTSTART:20261101T070000
END:STANDARD
END:VTIMEZONE
BEGIN:VEVENT
DTSTART;TZID=America/Chicago:20250428T130000
DTEND;TZID=America/Chicago:20250428T140000
DTSTAMP:20260424T001010
CREATED:20240417T183220Z
LAST-MODIFIED:20240424T162149Z
UID:27318-1745845200-1745848800@womenagainstmilitarymadness.org
SUMMARY:War on the Planet: Imperialism\, Environmental Destruction\, and the Climate Crisis
DESCRIPTION:Sunday\, April 28\, 2024\, 1:00 pm\, MayDay Books\, 301 Cedar Ave\, MPLS \nA panel to explore local and global connections around militarism\, wars\, the environment\, and climate change. \nThe twin specters of imperialistic militarism and neo-colonialism haunt the earth\, and nowhere are they now more obvious than in Palestine with Israel’s genocidal attacks. Join us as we explore the local and worldwide connections between imperialism\, militarism\, environmental destruction\, and climate change. \nCo-sponsored by Climate Justice Committee MN and WAMM’s End Military Madness Against the Earth Committee (EMMAE). \nPanel in formation\, including: \nJohn LaForge\, NukeWatch \nSue Ann Martinson\, EMMAE \nKay Lerohl\, Climate Justice Committee \nDonia\, Students for Justice in Palestine – UMN \nJoe Vital – East Philips Neighborhood Institute \n\n\n	Related
URL:https://womenagainstmilitarymadness.org/events/war-on-the-planet-imperialism-environmental-destruction-and-the-climate-crisis/
LOCATION:Mayday Bookstore\, 301 Cedar Ave S.\, Minneapolis\, MN\, 55454
CATEGORIES:Featured Events,Sponsored Events,Upcoming Events
ATTACH;FMTTYPE=image/png:https://womenagainstmilitarymadness.org/wp-content/uploads/2024/04/Screenshot-2024-04-19-at-3.58.51 PM.png
END:VEVENT
END:VCALENDAR