BEGIN:VCALENDAR
VERSION:2.0
PRODID:-//Women Against Military Madness - ECPv6.15.20//NONSGML v1.0//EN
CALSCALE:GREGORIAN
METHOD:PUBLISH
X-WR-CALNAME:Women Against Military Madness
X-ORIGINAL-URL:https://womenagainstmilitarymadness.org
X-WR-CALDESC:Events for Women Against Military Madness
REFRESH-INTERVAL;VALUE=DURATION:PT1H
X-Robots-Tag:noindex
X-PUBLISHED-TTL:PT1H
BEGIN:VTIMEZONE
TZID:America/Chicago
BEGIN:DAYLIGHT
TZOFFSETFROM:-0600
TZOFFSETTO:-0500
TZNAME:CDT
DTSTART:20250309T080000
END:DAYLIGHT
BEGIN:STANDARD
TZOFFSETFROM:-0500
TZOFFSETTO:-0600
TZNAME:CST
DTSTART:20251102T070000
END:STANDARD
BEGIN:DAYLIGHT
TZOFFSETFROM:-0600
TZOFFSETTO:-0500
TZNAME:CDT
DTSTART:20260308T080000
END:DAYLIGHT
BEGIN:STANDARD
TZOFFSETFROM:-0500
TZOFFSETTO:-0600
TZNAME:CST
DTSTART:20261101T070000
END:STANDARD
BEGIN:DAYLIGHT
TZOFFSETFROM:-0600
TZOFFSETTO:-0500
TZNAME:CDT
DTSTART:20270314T080000
END:DAYLIGHT
BEGIN:STANDARD
TZOFFSETFROM:-0500
TZOFFSETTO:-0600
TZNAME:CST
DTSTART:20271107T070000
END:STANDARD
END:VTIMEZONE
BEGIN:VEVENT
DTSTART;TZID=America/Chicago:20260117T180000
DTEND;TZID=America/Chicago:20260117T200000
DTSTAMP:20260423T164058
CREATED:20241216T192747Z
LAST-MODIFIED:20241220T192638Z
UID:29127-1768672800-1768680000@womenagainstmilitarymadness.org
SUMMARY:We Need to Talk - Discussion + Dinner
DESCRIPTION:Friday\, January 17\, 2025\, 6:00 – 8:00 pm\, Lucy Parsons Center\, 4100 28th Ave S\, Minneapolis\, MN\n\nJoin WAMM members for a facilitated discussion and dinner about the post-election landscape in the Twin Cities: how did we get here\, what we’re feeling and concerned about\, and how to show our solidarity for the people’s movement better than ever before! Pizza will be served. Parking available behind the building and on side streets.\n\nOrganized by WAMM Membership Committee.\n\n\n	Related
URL:https://womenagainstmilitarymadness.org/events/we-need-to-talk-discussion-dinner/
LOCATION:Lucy Parsons Center\, 4100 28th Ave S\, Minneapolis\, MN\, 55407\, United States
CATEGORIES:Featured Events,Upcoming Events
ATTACH;FMTTYPE=image/png:https://womenagainstmilitarymadness.org/wp-content/uploads/2024/12/We-Need-to-Talk-JANUARY.png
END:VEVENT
END:VCALENDAR