BEGIN:VCALENDAR
VERSION:2.0
PRODID:-//Women Against Military Madness - ECPv6.15.20//NONSGML v1.0//EN
CALSCALE:GREGORIAN
METHOD:PUBLISH
X-WR-CALNAME:Women Against Military Madness
X-ORIGINAL-URL:https://womenagainstmilitarymadness.org
X-WR-CALDESC:Events for Women Against Military Madness
REFRESH-INTERVAL;VALUE=DURATION:PT1H
X-Robots-Tag:noindex
X-PUBLISHED-TTL:PT1H
BEGIN:VTIMEZONE
TZID:America/Chicago
BEGIN:DAYLIGHT
TZOFFSETFROM:-0600
TZOFFSETTO:-0500
TZNAME:CDT
DTSTART:20260308T080000
END:DAYLIGHT
BEGIN:STANDARD
TZOFFSETFROM:-0500
TZOFFSETTO:-0600
TZNAME:CST
DTSTART:20261101T070000
END:STANDARD
BEGIN:DAYLIGHT
TZOFFSETFROM:-0600
TZOFFSETTO:-0500
TZNAME:CDT
DTSTART:20270314T080000
END:DAYLIGHT
BEGIN:STANDARD
TZOFFSETFROM:-0500
TZOFFSETTO:-0600
TZNAME:CST
DTSTART:20271107T070000
END:STANDARD
BEGIN:DAYLIGHT
TZOFFSETFROM:-0600
TZOFFSETTO:-0500
TZNAME:CDT
DTSTART:20280312T080000
END:DAYLIGHT
BEGIN:STANDARD
TZOFFSETFROM:-0500
TZOFFSETTO:-0600
TZNAME:CST
DTSTART:20281105T070000
END:STANDARD
END:VTIMEZONE
BEGIN:VEVENT
DTSTART;TZID=America/Chicago:20270212T160000
DTEND;TZID=America/Chicago:20270212T170000
DTSTAMP:20260423T144759
CREATED:20250501T180936Z
LAST-MODIFIED:20250501T180936Z
UID:10005291-1802448000-1802451600@womenagainstmilitarymadness.org
SUMMARY:Weekly Free Palestine Rally
DESCRIPTION:The Weekly Free Palestine Rally is sponsored and organized by the Palestine Solidarity Committee (PSC)\, the newest WAMM Committee. The PSC is an action-oriented committee that focuses on ongoing organizing for the liberation of Palestine through community education\, protest\, and outreach.\n\nWAMM’s weekly Friday Palestine vigils will now be rallies/bannerings at the same time and location every week to stand with the victims of the ongoing genocide and ethnic cleansing in Gaza and the West Bank. We will not stop raising awareness as global citizens against military madness until Palestine is free from apartheid! #LetGazaLive#FreePalestine #FromTheRiverToTheSeaPalestineWillBeFree \nFrom the river to the sea\, Palestine will be free! \n\n\n((Every Friday\, 4-5PM\, at the corner of Summit and Snelling Aves\, St Paul))\n\nPalestine Solidarity Committee meetings are the 2nd and 4th Friday of every month\, starting at 5:30PM at the Twin Cities Friends Meeting\, 1725 Grand Ave. FFI: 612-827-5364\, general@wamm.me\n\n\n	Related
URL:https://womenagainstmilitarymadness.org/events/weekly-free-palestine-rally/2027-02-12/
LOCATION:Corner of Summit & Snelling in St. Paul\, Corner of Summit Ave and Snelling Ave\, St. Paul\, Minneapolis\, MN\, 55407\, United States
CATEGORIES:Recurring Events
ATTACH;FMTTYPE=image/jpeg:https://womenagainstmilitarymadness.org/wp-content/uploads/2023/10/101523.jpg
END:VEVENT
END:VCALENDAR