BEGIN:VCALENDAR
VERSION:2.0
PRODID:-//Women Against Military Madness - ECPv6.15.20//NONSGML v1.0//EN
CALSCALE:GREGORIAN
METHOD:PUBLISH
X-WR-CALNAME:Women Against Military Madness
X-ORIGINAL-URL:https://womenagainstmilitarymadness.org
X-WR-CALDESC:Events for Women Against Military Madness
REFRESH-INTERVAL;VALUE=DURATION:PT1H
X-Robots-Tag:noindex
X-PUBLISHED-TTL:PT1H
BEGIN:VTIMEZONE
TZID:America/Chicago
BEGIN:DAYLIGHT
TZOFFSETFROM:-0600
TZOFFSETTO:-0500
TZNAME:CDT
DTSTART:20240310T080000
END:DAYLIGHT
BEGIN:STANDARD
TZOFFSETFROM:-0500
TZOFFSETTO:-0600
TZNAME:CST
DTSTART:20241103T070000
END:STANDARD
BEGIN:DAYLIGHT
TZOFFSETFROM:-0600
TZOFFSETTO:-0500
TZNAME:CDT
DTSTART:20250309T080000
END:DAYLIGHT
BEGIN:STANDARD
TZOFFSETFROM:-0500
TZOFFSETTO:-0600
TZNAME:CST
DTSTART:20251102T070000
END:STANDARD
BEGIN:DAYLIGHT
TZOFFSETFROM:-0600
TZOFFSETTO:-0500
TZNAME:CDT
DTSTART:20260308T080000
END:DAYLIGHT
BEGIN:STANDARD
TZOFFSETFROM:-0500
TZOFFSETTO:-0600
TZNAME:CST
DTSTART:20261101T070000
END:STANDARD
END:VTIMEZONE
BEGIN:VEVENT
DTSTART;TZID=America/Chicago:20251211T183000
DTEND;TZID=America/Chicago:20251211T213000
DTSTAMP:20260423T193137
CREATED:20221129T011741Z
LAST-MODIFIED:20221212T163349Z
UID:24213-1765477800-1765488600@womenagainstmilitarymadness.org
SUMMARY:Who We Are - Movie
DESCRIPTION:Return of the Second Monday Movies!\n\nMon\, December 12\, 2022\nNEW START TIME: 6:30 p.m.\n4200 Cedar Ave. So.\, Minneapolis\nWho We Are: A Chronicle of Racism in America\nMon\, December 12\, 2022NEW START TIME: 6:30 p.m.\n4200 Cedar Ave. So.\, Minneapolis \nWho We Are: A Chronicle of Racism in America\nInterweaving personal anecdotes\, interviews\, and shocking revelations in WHO WE ARE – A Chronicle of Racism in America\, Jeffrey Robinson draws a timeline of anti-black racism in the United States\, from slavery to the modern myth of a post-racial America.\n\nThe Who We Are Project\, founded by attorney and racial justice activist Robinson\, as well as the film\, are based on a talk he has been giving for the past 10 years on the history of anti-Black racism and white supremacy in the United States. Directed by Emily Kunstler and Sarah Kunstler.\n\nOff Center Media | US | 2021 | 117 mins\nMasks & social distancing by choice.\n\nhttps://thewhoweareproject.org/trailer\n\nConnecting the dots…discussion\n\nAlways FREE and open to the public \nALL ARE WELCOME!Free refreshments! \nSponsored by the WAMM Movie Committee  \n  \n\n\n\n	Related
URL:https://womenagainstmilitarymadness.org/events/who-we-are-movie/
LOCATION:4200 Cedar Ave S\, Minneapolis MN 55407\, 4200 Cedar Ave S\, Minneapolis\, MN\, 55407\, United States
CATEGORIES:Featured Events,Upcoming Events
ATTACH;FMTTYPE=image/jpeg:https://womenagainstmilitarymadness.org/wp-content/uploads/2022/11/WhoWeAre.jpeg
END:VEVENT
END:VCALENDAR