BEGIN:VCALENDAR
VERSION:2.0
PRODID:-//Women Against Military Madness - ECPv6.15.20//NONSGML v1.0//EN
CALSCALE:GREGORIAN
METHOD:PUBLISH
X-WR-CALNAME:Women Against Military Madness
X-ORIGINAL-URL:https://womenagainstmilitarymadness.org
X-WR-CALDESC:Events for Women Against Military Madness
REFRESH-INTERVAL;VALUE=DURATION:PT1H
X-Robots-Tag:noindex
X-PUBLISHED-TTL:PT1H
BEGIN:VTIMEZONE
TZID:America/Chicago
BEGIN:DAYLIGHT
TZOFFSETFROM:-0600
TZOFFSETTO:-0500
TZNAME:CDT
DTSTART:20240310T080000
END:DAYLIGHT
BEGIN:STANDARD
TZOFFSETFROM:-0500
TZOFFSETTO:-0600
TZNAME:CST
DTSTART:20241103T070000
END:STANDARD
BEGIN:DAYLIGHT
TZOFFSETFROM:-0600
TZOFFSETTO:-0500
TZNAME:CDT
DTSTART:20250309T080000
END:DAYLIGHT
BEGIN:STANDARD
TZOFFSETFROM:-0500
TZOFFSETTO:-0600
TZNAME:CST
DTSTART:20251102T070000
END:STANDARD
BEGIN:DAYLIGHT
TZOFFSETFROM:-0600
TZOFFSETTO:-0500
TZNAME:CDT
DTSTART:20260308T080000
END:DAYLIGHT
BEGIN:STANDARD
TZOFFSETFROM:-0500
TZOFFSETTO:-0600
TZNAME:CST
DTSTART:20261101T070000
END:STANDARD
END:VTIMEZONE
BEGIN:VEVENT
DTSTART;VALUE=DATE:20250529
DTEND;VALUE=DATE:20250603
DTSTAMP:20260423T203623
CREATED:20240522T172536Z
LAST-MODIFIED:20240524T171819Z
UID:27455-1748476800-1748908799@womenagainstmilitarymadness.org
SUMMARY:WILPF US 35th Triennial Congress
DESCRIPTION:Wednesday\, May 29 – Sunday\, June 2\, 2024\, Link to register and join online \nWILPF calls for an immediate ceasefire in Gaza and talks\, with all parties\, on root causes.  And we convene our Congress\, on the role of water in the world and the complexities of Water on the Frontlines for Peace. \nWe’ll highlight the engagement of issue committees\, branches\, members\, and regional to international presenters. Learning\, Advocacy\, Action – all linked on the water theme! \nREGISTRATION LINK: https://wilpfus.org/35thCongress/registration \n______ \nJoin us May 29-June 2\, 2024 at our Virtual Congress! \nWater is essential\, yet our expectations that it will always be there excludes the activism and advocacy that is required to maintain our planet’s supply of this fundamental key to our existence. During this year’s Triennial Congress (May 29-June 2)\, WILPF will explore the pathways that we can unite with other activists and organizations around to protect this essential life force. \nOur 2024 WILPF US Congress will cover many issues around growing shortages of fresh water\, including competition for water\, expanding economies\, conflict\, major inequities and development challenges\, plus growing environmental degradation including climate change. \nPlease join WILPF as we work together with others towards sustaining a safer and better world. We will hear from experts in the field regarding water topics\, discuss matters surrounding this essential source of life and coordinate ways to organize our efforts in working together towards protecting our water. \nWILPF’s 2024 Congress will highlight the engagement of our issue committees\, branches\, and members and regional and organizational representatives on this theme – now and over the next two years – through learning\, advocacy\, and action. There will be presentations from Issue Committees which include cultural and creative expressions. Updates will be presented from peace workers from different corners of our Section. There is FUN lined up with interesting presentations by water protectors across the nation.  WATER IS LIFE! \n  \n\nTo donate\, please visit: www.bit.ly/WC2024 \n\n\n	Related
URL:https://womenagainstmilitarymadness.org/events/wilpf-us-35th-triennial-congress/
LOCATION:Online Event
CATEGORIES:Featured Events,Sponsored Events,Upcoming Events
ATTACH;FMTTYPE=image/jpeg:https://womenagainstmilitarymadness.org/wp-content/uploads/2024/05/Congress-logo-narrow-700px.jpg
END:VEVENT
END:VCALENDAR