BEGIN:VCALENDAR
VERSION:2.0
PRODID:-//Women Against Military Madness - ECPv6.15.20//NONSGML v1.0//EN
CALSCALE:GREGORIAN
METHOD:PUBLISH
X-ORIGINAL-URL:https://womenagainstmilitarymadness.org
X-WR-CALDESC:Events for Women Against Military Madness
REFRESH-INTERVAL;VALUE=DURATION:PT1H
X-Robots-Tag:noindex
X-PUBLISHED-TTL:PT1H
BEGIN:VTIMEZONE
TZID:America/Chicago
BEGIN:DAYLIGHT
TZOFFSETFROM:-0600
TZOFFSETTO:-0500
TZNAME:CDT
DTSTART:20230312T080000
END:DAYLIGHT
BEGIN:STANDARD
TZOFFSETFROM:-0500
TZOFFSETTO:-0600
TZNAME:CST
DTSTART:20231105T070000
END:STANDARD
BEGIN:DAYLIGHT
TZOFFSETFROM:-0600
TZOFFSETTO:-0500
TZNAME:CDT
DTSTART:20240310T080000
END:DAYLIGHT
BEGIN:STANDARD
TZOFFSETFROM:-0500
TZOFFSETTO:-0600
TZNAME:CST
DTSTART:20241103T070000
END:STANDARD
BEGIN:DAYLIGHT
TZOFFSETFROM:-0600
TZOFFSETTO:-0500
TZNAME:CDT
DTSTART:20250309T080000
END:DAYLIGHT
BEGIN:STANDARD
TZOFFSETFROM:-0500
TZOFFSETTO:-0600
TZNAME:CST
DTSTART:20251102T070000
END:STANDARD
END:VTIMEZONE
BEGIN:VEVENT
DTSTART;TZID=America/Chicago:20240110T110000
DTEND;TZID=America/Chicago:20240110T120000
DTSTAMP:20260424T010603
CREATED:20240109T165727Z
LAST-MODIFIED:20240109T165727Z
UID:10002666-1704884400-1704888000@womenagainstmilitarymadness.org
SUMMARY:Divest from Militarism\, Invest in Life! A conversation about war and climate change
DESCRIPTION:Wednesday\, January 10\, 2024\, at 11:00 am\, Online event\, click here to register \nOrganized by 350 US\, Sponsored by WAMM EMMAE Committee \nDid you know that militarism and war are devastating drivers of climate chaos? \nSprawling militaries — like the United States’ massive network of bases around the globe — are enormous sources of fossil fuel emissions. In fact\, the U.S. military alone emits more than Portugal and Denmark.1 \nPlus\, while war rages\, it reduces the international community’s cooperation to tackle the climate crisis and takes resources away from investments needed to address the impacts of climate change as countries double down on military spending. \nAs we start the year with multiple wars happening around the world and an already escalating climate crisis\, these intertwined issues are more urgent than ever. \nThat’s why 350 is hosting a conversation about militarism and the climate crisis on Wednesday\, January 10 at 11 am CST. We invite you to join us to learn why we\, as climate activists\, must fight for a world without war. \n\nDespite its huge impact\, militarism is too often left out of the conversation and organizing within our climate movement — and it’s time to change that. \nModerated by Dharna Noor\, who recently covered the urgent call by climate activists to divert military spending to fund climate aid in The Guardian\,2 this essential conversation will feature: \n\nDr. Neta Crawford\, Costs of War Project\nRamón Mejia\, About Face & Grassroots Global Justice Alliance\nAshley LaMont\, Honor the Earth\nZaki Mamdoo\, [./#NOP]350.org\n\n\n\n\n	Related
URL:https://womenagainstmilitarymadness.org/events/divest-from-militarism-invest-in-life-a-conversation-about-war-and-climate-change/
LOCATION:Online Event
CATEGORIES:Featured Events,Sponsored Events,Upcoming Events
ATTACH;FMTTYPE=image/jpeg:https://womenagainstmilitarymadness.org/wp-content/uploads/2024/01/INVEST-IN-LIFE-1.10.24.jpg
END:VEVENT
END:VCALENDAR