BEGIN:VCALENDAR
VERSION:2.0
PRODID:-//Women Against Military Madness - ECPv6.15.20//NONSGML v1.0//EN
CALSCALE:GREGORIAN
METHOD:PUBLISH
X-WR-CALNAME:Women Against Military Madness
X-ORIGINAL-URL:https://womenagainstmilitarymadness.org
X-WR-CALDESC:Events for Women Against Military Madness
REFRESH-INTERVAL;VALUE=DURATION:PT1H
X-Robots-Tag:noindex
X-PUBLISHED-TTL:PT1H
BEGIN:VTIMEZONE
TZID:America/Chicago
BEGIN:DAYLIGHT
TZOFFSETFROM:-0600
TZOFFSETTO:-0500
TZNAME:CDT
DTSTART:20230312T080000
END:DAYLIGHT
BEGIN:STANDARD
TZOFFSETFROM:-0500
TZOFFSETTO:-0600
TZNAME:CST
DTSTART:20231105T070000
END:STANDARD
BEGIN:DAYLIGHT
TZOFFSETFROM:-0600
TZOFFSETTO:-0500
TZNAME:CDT
DTSTART:20240310T080000
END:DAYLIGHT
BEGIN:STANDARD
TZOFFSETFROM:-0500
TZOFFSETTO:-0600
TZNAME:CST
DTSTART:20241103T070000
END:STANDARD
BEGIN:DAYLIGHT
TZOFFSETFROM:-0600
TZOFFSETTO:-0500
TZNAME:CDT
DTSTART:20250309T080000
END:DAYLIGHT
BEGIN:STANDARD
TZOFFSETFROM:-0500
TZOFFSETTO:-0600
TZNAME:CST
DTSTART:20251102T070000
END:STANDARD
END:VTIMEZONE
BEGIN:VEVENT
DTSTART;TZID=America/Chicago:20241024T173000
DTEND;TZID=America/Chicago:20241024T203000
DTSTAMP:20260423T223556
CREATED:20240926T200819Z
LAST-MODIFIED:20241010T161309Z
UID:10002873-1729791000-1729801800@womenagainstmilitarymadness.org
SUMMARY:Til Kingdom Come Film Screening
DESCRIPTION:Thursday\, October 24\, 2024\, 5:30-8:30 PM\, Holy Trinity Lutheran Church (in the Bartsch Room)\, 2730 E 31st St\, Mpls\, MN \nWAMM along with MN Christians for Free Palestine and Holy Trinity Lutheran will be hosting a showing of the documentary ‘Til Kingdom Come in the Bartsch Room at Holy Trinity Lutheran Church (2730 E. 31 St.\, Minneapolis\, 55406)\, from 5:30 to 8:30pm.\n\nThrough extensive interviews with Israel-supporting pastors in the southern US and the Jewish Israeli director of the International Fellowship of Christians and Jews\, ‘Til Kingdom Come takes a deep look at the ties between Christian Zionist congregations in the US and the Israeli government.\n\nWe think this film is an important one for Christian and Christian-lineage people to see as we learn more about our own ancestral and cultural ties to the ongoing Israeli genocide in Gaza. There will be food provided and a facilitated discussion after the documentary showing.\nCo-sponsored by WAMM\, Holy Trinity\, and MN Christians for Free Palestine.\n\n\n	Related
URL:https://womenagainstmilitarymadness.org/events/til-kingdom-come-film-screening/
LOCATION:Holy Trinity Lutheran Church\, 2730 East 31st Street\, Minneapolis\, MN\, 55406\, United States
CATEGORIES:Featured Events,Sponsored Events,Upcoming Events
ATTACH;FMTTYPE=image/jpeg:https://womenagainstmilitarymadness.org/wp-content/uploads/2024/09/Image-1.jpg
END:VEVENT
BEGIN:VEVENT
DTSTART;TZID=America/Chicago:20240318T170000
DTEND;TZID=America/Chicago:20240318T180000
DTSTAMP:20260423T223556
CREATED:20240312T171222Z
LAST-MODIFIED:20240312T171222Z
UID:10002703-1710781200-1710784800@womenagainstmilitarymadness.org
SUMMARY:Amy Klobuchar\, come share the PEACE our faith demands
DESCRIPTION:Monday\, March 18\, 2024\, 5:00 PM\, 1200 Washington Ave S\, MPLS \nChristians for a Free Palestine is calling for a day of Christian-led actions at the offices of elected officials who continue to fund this genocide. We in Minneapolis are proud to participate! On March 18\, we will use our public voice and our collective power to advocate for peace and demand an immediate ceasefire at the office of Amy Klobuchar. We will gather in community\, sing loudly\, reflect together about what our spirituality demands of us in this moment\, and invite our political leaders to do the same. Bring your signs\, your broken heart\, and your singing voice! \nIn the face of Christian Zionism\, using our faith to cheer on this genocide\, Christians have a responsibility to use our voices as powerfully as possible for the cause of peace and justice. During this Lenten season\, we are taking public action as Christians to grieve the ongoing violence\, challenge Christian Zionism\, and advocate for a ceasefire and an end to Israeli Apartheid. \nhttps://actionnetwork.org/events/amy-klobuchar-come-share-the-peace-our-faith-demands?source=direct_link& \n\n\n	Related
URL:https://womenagainstmilitarymadness.org/events/amy-klobuchar-come-share-the-peace-our-faith-demands/
LOCATION:Senator Amy Klobuchar’s Minneapolis Office\, 1200 S Washington Ave\, Minneapolis\, 55415-1227\, United States
CATEGORIES:Featured Events,Sponsored Events,Upcoming Events
END:VEVENT
END:VCALENDAR