BEGIN:VCALENDAR
VERSION:2.0
PRODID:-//Women Against Military Madness - ECPv6.15.20//NONSGML v1.0//EN
CALSCALE:GREGORIAN
METHOD:PUBLISH
X-WR-CALNAME:Women Against Military Madness
X-ORIGINAL-URL:https://womenagainstmilitarymadness.org
X-WR-CALDESC:Events for Women Against Military Madness
REFRESH-INTERVAL;VALUE=DURATION:PT1H
X-Robots-Tag:noindex
X-PUBLISHED-TTL:PT1H
BEGIN:VTIMEZONE
TZID:America/Chicago
BEGIN:DAYLIGHT
TZOFFSETFROM:-0600
TZOFFSETTO:-0500
TZNAME:CDT
DTSTART:20240310T080000
END:DAYLIGHT
BEGIN:STANDARD
TZOFFSETFROM:-0500
TZOFFSETTO:-0600
TZNAME:CST
DTSTART:20241103T070000
END:STANDARD
BEGIN:DAYLIGHT
TZOFFSETFROM:-0600
TZOFFSETTO:-0500
TZNAME:CDT
DTSTART:20250309T080000
END:DAYLIGHT
BEGIN:STANDARD
TZOFFSETFROM:-0500
TZOFFSETTO:-0600
TZNAME:CST
DTSTART:20251102T070000
END:STANDARD
BEGIN:DAYLIGHT
TZOFFSETFROM:-0600
TZOFFSETTO:-0500
TZNAME:CDT
DTSTART:20260308T080000
END:DAYLIGHT
BEGIN:STANDARD
TZOFFSETFROM:-0500
TZOFFSETTO:-0600
TZNAME:CST
DTSTART:20261101T070000
END:STANDARD
END:VTIMEZONE
BEGIN:VEVENT
DTSTART;TZID=America/Chicago:20250821T190000
DTEND;TZID=America/Chicago:20250821T210000
DTSTAMP:20260425T092344
CREATED:20250805T204227Z
LAST-MODIFIED:20250811T171919Z
UID:10006059-1755802800-1755810000@womenagainstmilitarymadness.org
SUMMARY:Webinar: Resisting Political Repression
DESCRIPTION:Thursday\, August 21\, 2025\, 7:00 PM CST\, Online\, go to tinyurl.com/AWANwebinar to register \nDefending the Anti-War Movement’s Right to Organize! \nSpeakers from: \nJess Sundin from the Committee to Stop FBI Repression \nMaya Sanchez from New Orleans Stop Helping Israeli Ports \nConor Cauley from Jacksonville Palestine Solidarity Action Network \nNatalie Rath from U of MN Students for a Democratic Society \nCarlos Montes from Los Angeles CSO and the Committee to Stop FBI Repression \nMC:  Meredith Aby\, Anti War Action Network steering committee \nTrump has increased repression on the people’s movements. Palestine solidarity activists across the country are fighting for their right to protest against genocide. Come hear about how folks are fighting back and recent victories in defending the right to organize! Register for the webinar at https://tinyurl.com/AWANwebinar. \nCo-sponsored by the Anti War Action Network and the Committee to Stop FBI Repression.  \n\n\n	Related
URL:https://womenagainstmilitarymadness.org/events/webinar-resisting-political-repression/
CATEGORIES:Sponsored Events,Upcoming Events
ATTACH;FMTTYPE=image/webp:https://womenagainstmilitarymadness.org/wp-content/uploads/2025/08/signal-2025-08-05-153848.webp
END:VEVENT
BEGIN:VEVENT
DTSTART;TZID=America/Chicago:20250821T183000
DTEND;TZID=America/Chicago:20250821T203000
DTSTAMP:20260425T092344
CREATED:20250815T182226Z
LAST-MODIFIED:20250815T182226Z
UID:10006067-1755801000-1755808200@womenagainstmilitarymadness.org
SUMMARY:Webinar Watch Party: Resisting Political Repression
DESCRIPTION:Webinar Watch Party: Resisting Political RepressionDefending the Anti-War Movement’s Right to Organize!\nThursday\, August 21st @ 6:30 pm @ Lucy Parsons Center\, 4100 S 28th Ave\, MinneapolisTrump has increased repression on the people’s movements. Palestine solidarity activists across the country are fighting for their right to protest against genocide. Come hear about how folks are fighting back and recent victories in defending the right to organize!\n\nSpeakers from:Jess Sundin from the Committee to Stop FBI RepressionMaya Sanchez from New Orleans Stop Helping Israeli PortsConor Cauley from Jacksonville Palestine Solidarity Action NetworkNatalie Rath from U of MN Students for a Democratic SocietyCarlos Montes from Los Angeles CSO and the Committee to Stop FBI Repression MC: Meredith Aby\, Anti War Action Network steering committee and member of MN Anti War Committee\n\nCo-sponsored by MN Anti-War Committee\, U of MN sds\, Anti War Action Network & Committee to Stop FBI Repression\n\n\n	Related
URL:https://womenagainstmilitarymadness.org/events/webinar-watch-party-resisting-political-repression/
LOCATION:Lucy Parsons Center\, 4100 28th Ave S\, Minneapolis\, MN\, 55407\, United States
CATEGORIES:Featured Events,Sponsored Events,Upcoming Events
ATTACH;FMTTYPE=image/webp:https://womenagainstmilitarymadness.org/wp-content/uploads/2025/08/532453987_1230778865757484_4074195227735452993_n.webp
END:VEVENT
END:VCALENDAR