BEGIN:VCALENDAR
VERSION:2.0
PRODID:-//Women Against Military Madness - ECPv6.15.20//NONSGML v1.0//EN
CALSCALE:GREGORIAN
METHOD:PUBLISH
X-WR-CALNAME:Women Against Military Madness
X-ORIGINAL-URL:https://womenagainstmilitarymadness.org
X-WR-CALDESC:Events for Women Against Military Madness
REFRESH-INTERVAL;VALUE=DURATION:PT1H
X-Robots-Tag:noindex
X-PUBLISHED-TTL:PT1H
BEGIN:VTIMEZONE
TZID:America/Chicago
BEGIN:DAYLIGHT
TZOFFSETFROM:-0600
TZOFFSETTO:-0500
TZNAME:CDT
DTSTART:20220313T080000
END:DAYLIGHT
BEGIN:STANDARD
TZOFFSETFROM:-0500
TZOFFSETTO:-0600
TZNAME:CST
DTSTART:20221106T070000
END:STANDARD
BEGIN:DAYLIGHT
TZOFFSETFROM:-0600
TZOFFSETTO:-0500
TZNAME:CDT
DTSTART:20230312T080000
END:DAYLIGHT
BEGIN:STANDARD
TZOFFSETFROM:-0500
TZOFFSETTO:-0600
TZNAME:CST
DTSTART:20231105T070000
END:STANDARD
BEGIN:DAYLIGHT
TZOFFSETFROM:-0600
TZOFFSETTO:-0500
TZNAME:CDT
DTSTART:20240310T080000
END:DAYLIGHT
BEGIN:STANDARD
TZOFFSETFROM:-0500
TZOFFSETTO:-0600
TZNAME:CST
DTSTART:20241103T070000
END:STANDARD
END:VTIMEZONE
BEGIN:VEVENT
DTSTART;TZID=America/Chicago:20231025T133000
DTEND;TZID=America/Chicago:20231025T143000
DTSTAMP:20260425T052450
CREATED:20231024T160734Z
LAST-MODIFIED:20231024T160734Z
UID:10002646-1698240600-1698244200@womenagainstmilitarymadness.org
SUMMARY:Solidarity Walkout for Palestine
DESCRIPTION:Wednesday\, October 25\, 2023 at 1:41 pm \n6754 Valley View Rd\, Edina\, MN 55439 \n\nStudents at Edina High School @ehswalkoutforpalestine will be participating in the national walkout on Wednesday\, October 25 called by @palestinianyouthmovement to raise awareness about the atrocities taking place in Gaza and to stand with the Palestinian people.\n\n\nPlease spread the word and show support by participating in this great event!\n\n\n\n	Related
URL:https://womenagainstmilitarymadness.org/events/solidarity-walkout-for-palestine/
LOCATION:Edina High School\, 6754 Valley View Rd\, Edina\, MN\, 55439\, United States
CATEGORIES:Featured Events,Sponsored Events,Upcoming Events
ATTACH;FMTTYPE=image/jpeg:https://womenagainstmilitarymadness.org/wp-content/uploads/2023/10/394921088_721362270015802_6975643134869709788_n.jpg
END:VEVENT
END:VCALENDAR