BEGIN:VCALENDAR
VERSION:2.0
PRODID:-//Women Against Military Madness - ECPv6.15.20//NONSGML v1.0//EN
CALSCALE:GREGORIAN
METHOD:PUBLISH
X-ORIGINAL-URL:https://womenagainstmilitarymadness.org
X-WR-CALDESC:Events for Women Against Military Madness
REFRESH-INTERVAL;VALUE=DURATION:PT1H
X-Robots-Tag:noindex
X-PUBLISHED-TTL:PT1H
BEGIN:VTIMEZONE
TZID:America/Chicago
BEGIN:DAYLIGHT
TZOFFSETFROM:-0600
TZOFFSETTO:-0500
TZNAME:CDT
DTSTART:20230312T080000
END:DAYLIGHT
BEGIN:STANDARD
TZOFFSETFROM:-0500
TZOFFSETTO:-0600
TZNAME:CST
DTSTART:20231105T070000
END:STANDARD
BEGIN:DAYLIGHT
TZOFFSETFROM:-0600
TZOFFSETTO:-0500
TZNAME:CDT
DTSTART:20240310T080000
END:DAYLIGHT
BEGIN:STANDARD
TZOFFSETFROM:-0500
TZOFFSETTO:-0600
TZNAME:CST
DTSTART:20241103T070000
END:STANDARD
BEGIN:DAYLIGHT
TZOFFSETFROM:-0600
TZOFFSETTO:-0500
TZNAME:CDT
DTSTART:20250309T080000
END:DAYLIGHT
BEGIN:STANDARD
TZOFFSETFROM:-0500
TZOFFSETTO:-0600
TZNAME:CST
DTSTART:20251102T070000
END:STANDARD
END:VTIMEZONE
BEGIN:VEVENT
DTSTART;TZID=America/Chicago:20241109T110000
DTEND;TZID=America/Chicago:20241109T120000
DTSTAMP:20260423T150841
CREATED:20241031T163303Z
LAST-MODIFIED:20241031T163303Z
UID:10002890-1731150000-1731153600@womenagainstmilitarymadness.org
SUMMARY:Children's Press Conference
DESCRIPTION:Saturday\, November 9\, 2024\, 11:00 AM\, Stewart Park\, E 26th and 10th Ave S\, Minneapolis \nPlease join Families Against Military Madness and Healthcare Workers for Palestine – Twin Cities from 11:00 am to 12:00 noon on Saturday\, 11/9 for a Children’s Day Press Conference at Stewart Park ( E 26th and 10th Ave S.) in Minneapolis.\n\nThe goal of this one hour action will be to commemorate the one year anniversary of the Children’s Press Conference at Al Shifa Hospital in Gaza City. Our program will feature the voices of healthcare workers and children in an effort to highlight and honor the countless members of both groups who’ve been terrorized and killed by Israeli forces for over a year.\n\n*** NOTE FOR CAREGIVERS: This event will be recorded and press has been invited. If you do NOT wish to have your child recorded\, you are still welcome and we will provide opportunities to engage off camera.***\n\nIf you’re not in the Twin Cities but wish to honor these designated #palestiniandaysofaction (Nov 7-10) please visit Shut It Down for Palestine. Organized by FAMM and Healthcare Workers for Palestine – Twin Cities\n\n\n	Related
URL:https://womenagainstmilitarymadness.org/events/childrens-press-conference/
LOCATION:Stewart Park\, 2700 12th Ave S\, Minneapolis\, MN\, 55407\, United States
CATEGORIES:Featured Events,Upcoming Events
ATTACH;FMTTYPE=image/jpeg:https://womenagainstmilitarymadness.org/wp-content/uploads/2024/10/IMG_5547.jpg
END:VEVENT
BEGIN:VEVENT
DTSTART;TZID=America/Chicago:20241019T110000
DTEND;TZID=America/Chicago:20241019T130000
DTSTAMP:20260423T150841
CREATED:20241004T172249Z
LAST-MODIFIED:20241004T172249Z
UID:10002876-1729335600-1729342800@womenagainstmilitarymadness.org
SUMMARY:SBI Lunch and Learn
DESCRIPTION:Saturday\, October 19\, 2024\, 11:00 am – 1:00 pm\, CTUL\, 3715 Chicago Ave \n  Mark your calendars!  \nJoin FAMM and AWC for this free educational and community-building event on Saturday\, 10/19 from 11 am til 1 pm! Enjoy a community meal while you learn about AWC’s State Board of Investment divestment campaign and discover how you can become involved with this important effort! Childcare providers will lead pumpkin-painting and coloring projects in a daycare room on site.\nPlease use the associated QR code (Link to RSVP) so we know how much food and how many care providers to secure! This will be an indoor event\, so masking is encouraged. (Child- and adult-sized) masks will be available.\nFeel free to DM with questions or requests for further access accommodations.\n\nOrganized by Anti War Committee and FAMM (Families Against Military Madness)\n\n\n	Related
URL:https://womenagainstmilitarymadness.org/events/sbi-lunch-and-learn/
LOCATION:3715 Chicago Ave\, 3715 Chicago Avenue\, Minneapolis\, MN\, 55407\, United States
CATEGORIES:Featured Events,Sponsored Events,Upcoming Events
ATTACH;FMTTYPE=image/png:https://womenagainstmilitarymadness.org/wp-content/uploads/2024/10/Screenshot-2024-10-04-at-12.21.49 PM.png
ORGANIZER;CN="Anti-War Committee":MAILTO:info@antiwarcommittee.org
END:VEVENT
BEGIN:VEVENT
DTSTART;TZID=America/Chicago:20240922T100000
DTEND;TZID=America/Chicago:20240922T120000
DTSTAMP:20260423T150841
CREATED:20240826T184650Z
LAST-MODIFIED:20240917T195558Z
UID:10002852-1726999200-1727006400@womenagainstmilitarymadness.org
SUMMARY:No School In Gaza
DESCRIPTION:Sun\, September 22\, 2024\, 10:00 am – 12:00 pm\, Powderhorn Park\, Mpls.  \nMeet at the picnic tables south of rec center off 15th Ave S. \nHear from educators organizing for a Free Palestine and learn how students of all ages can speak out. Bring your backpack or bag for our patch circle and have a watermelon patch sewn on. We’ll have small goodie bags for students to help show their support for a Free Palestine! \nHosted by FAMM Families Against Military Madness \n\n\n	Related
URL:https://womenagainstmilitarymadness.org/events/no-school-in-gaza/
LOCATION:Powderhorn Park\, 3400 15th Ave S\, Minneapolis\, MN\, 55407\, United States
CATEGORIES:Featured Events,Upcoming Events
ATTACH;FMTTYPE=image/jpeg:https://womenagainstmilitarymadness.org/wp-content/uploads/2024/08/JPEG-image-455E-A8E8-51-0.jpeg
END:VEVENT
BEGIN:VEVENT
DTSTART;TZID=America/Chicago:20240912T190000
DTEND;TZID=America/Chicago:20240912T203000
DTSTAMP:20260423T150841
CREATED:20240826T193238Z
LAST-MODIFIED:20240829T184330Z
UID:10002853-1726167600-1726173000@womenagainstmilitarymadness.org
SUMMARY:FAMM Welcome Meeting
DESCRIPTION:Thursday\, September 12th\, 2024. 7-8:30 pm. 3175 Chicago Ave\, MPLS \nGather and connect about what it’s like being a caregiver in the time of genocide\, learn and share ways to talk with your kids about what’s happening in Gaza\, and see how you can be further involved with Families Against Military Madness (FAMM). Childcare will be provided. \nRSVP https://tinyurl.com/bdf5atds \nOrganized by Families Against Military Madness \n\n\n	Related
URL:https://womenagainstmilitarymadness.org/events/famm-welcome-meeting/
LOCATION:3175 Chicago Ave\, MPLS\, Minneapolis\, MN\, United States
ATTACH;FMTTYPE=image/png:https://womenagainstmilitarymadness.org/wp-content/uploads/2024/08/FAMM.png
END:VEVENT
BEGIN:VEVENT
DTSTART;TZID=America/Chicago:20240804T140000
DTEND;TZID=America/Chicago:20240804T160000
DTSTAMP:20260423T150841
CREATED:20240724T185234Z
LAST-MODIFIED:20240729T164336Z
UID:10002839-1722780000-1722787200@womenagainstmilitarymadness.org
SUMMARY:Hiroshima Remembrance Day
DESCRIPTION:Sunday\, August 4\, 2024\, 2:00 – 4:00 pm\, Lake Hiawatha Park\, Minneapolis \nPlease join us on Sunday\, 8/4 as we commemorate 79 years since the U.S. bombed Hiroshima and Nagasaki\, and connect that devastation to current military assaults across occupied Palestine. \nWe’ll convene at Lake Hiawatha Park for a telling of “Sadako and the Thousand Paper Cranes”; an origami lesson; arts and crafts; music; and other opportunities to build community. Organized by Families Against Military Madness\, a new WAMM committee \n\n\n	Related
URL:https://womenagainstmilitarymadness.org/events/hiroshima-remembrance-day/
LOCATION:Lake Hiawatha Park\, 2701 E 44th St\, Minneapolis\, MN\, 55406\, United States
CATEGORIES:Featured Events,Upcoming Events
ATTACH;FMTTYPE=image/jpeg:https://womenagainstmilitarymadness.org/wp-content/uploads/2024/07/JPEG-image-4335-BD76-85-0.jpg
END:VEVENT
BEGIN:VEVENT
DTSTART;TZID=America/Chicago:20240622T103000
DTEND;TZID=America/Chicago:20240622T123000
DTSTAMP:20260423T150841
CREATED:20240611T153739Z
LAST-MODIFIED:20240611T175030Z
UID:10002751-1719052200-1719059400@womenagainstmilitarymadness.org
SUMMARY:FAMM Family Pride Celebration
DESCRIPTION:Saturday\, June 22nd\, 10:30am\, Loring Park (Willow and 14th)  \n🌈✊️📣 Join Families Against Military Madness for a fun\, educational\, family-centered Pride action! Featuring music; games; facepainting; storytime; art projects; and powerful speakers from Educators for Justice in Palestine\, Twin Cities Coalition 4 Justice\, Free Mom Hugs\, and more. \n  \nEndorsed by Taking Back Pride Coalition\, MIRAC\, MNAAC\, MN Anti-War Committee\, MN BDS Community\, MPLS PSL\, Twin Cities Coalition 4 Justice\, and Educators for Justice in Palestine. \n  \n\n\n	Related
URL:https://womenagainstmilitarymadness.org/events/famm-family-pride-celebration/
LOCATION:Loring Park\, Minneapolis\, MN\, United States
CATEGORIES:Featured Events,Upcoming Events
ATTACH;FMTTYPE=image/jpeg:https://womenagainstmilitarymadness.org/wp-content/uploads/2024/06/448176630_1160136688562426_2330927167328291650_n.jpg
END:VEVENT
END:VCALENDAR