BEGIN:VCALENDAR
VERSION:2.0
PRODID:-//Women Against Military Madness - ECPv6.15.20//NONSGML v1.0//EN
CALSCALE:GREGORIAN
METHOD:PUBLISH
X-ORIGINAL-URL:https://womenagainstmilitarymadness.org
X-WR-CALDESC:Events for Women Against Military Madness
REFRESH-INTERVAL;VALUE=DURATION:PT1H
X-Robots-Tag:noindex
X-PUBLISHED-TTL:PT1H
BEGIN:VTIMEZONE
TZID:America/Chicago
BEGIN:DAYLIGHT
TZOFFSETFROM:-0600
TZOFFSETTO:-0500
TZNAME:CDT
DTSTART:20240310T080000
END:DAYLIGHT
BEGIN:STANDARD
TZOFFSETFROM:-0500
TZOFFSETTO:-0600
TZNAME:CST
DTSTART:20241103T070000
END:STANDARD
BEGIN:DAYLIGHT
TZOFFSETFROM:-0600
TZOFFSETTO:-0500
TZNAME:CDT
DTSTART:20250309T080000
END:DAYLIGHT
BEGIN:STANDARD
TZOFFSETFROM:-0500
TZOFFSETTO:-0600
TZNAME:CST
DTSTART:20251102T070000
END:STANDARD
BEGIN:DAYLIGHT
TZOFFSETFROM:-0600
TZOFFSETTO:-0500
TZNAME:CDT
DTSTART:20260308T080000
END:DAYLIGHT
BEGIN:STANDARD
TZOFFSETFROM:-0500
TZOFFSETTO:-0600
TZNAME:CST
DTSTART:20261101T070000
END:STANDARD
END:VTIMEZONE
BEGIN:VEVENT
DTSTART;TZID=America/Chicago:20250621T140000
DTEND;TZID=America/Chicago:20250621T170000
DTSTAMP:20260423T222449
CREATED:20250606T181148Z
LAST-MODIFIED:20250606T181148Z
UID:10005746-1750514400-1750525200@womenagainstmilitarymadness.org
SUMMARY:Breaking the Cycle: Healing to Hope Twin Cities Tour
DESCRIPTION:Breaking the Cycle: Justice and Healing for Palestinian Children and Caregivers \n\n\n\n\nA series of public events to share the story of Anar\, a nonprofit operating in the West Bank that provides arts-based healing for Palestinian children and caregivers. With Rami Khader\, Founder & Executive Director of Anar for Empowerment & Psychosocial Support \nFriday\, June 20\, 4–5pm (CT)\nWAMM Free Palestine Rally with guest speaker Rami Khader at Summit & Snelling in Saint Paul \nFriday\, June 20\, 7–8:30pm (CT)\n“Breaking the Cycle: Justice and Healing for Palestinian Children and Caregivers” presentation and Q&A at New City Center\, 3104 16th Ave S\, Minneapolis \nSaturday\, June 21\, gallery space open 2–5pm (CT)\, program at 3pm\n“Breaking the Cycle” video installation\, family arts event\, and come-and-go gathering at Legacy Dream Space Multimedia Living Room\, 2205 California St NE\, Studio #212\, Minneapolis \n\n\n\n\n\n\n\n\n\n\nHealing to Hope welcomes Rami Khader to the U.S. for a speaking tour June 10-30\, 2025. Rami will be joined by his partner and their three children\, and the family will make four main stops on the tour: Atlanta\, Chicago\, Minneapolis\, and California (Bay Area/Sacramento/Chico). In each city and working with local partners\, Healing to Hope will host speaking engagements\, community gatherings\, arts events\, and fundraising opportunities to raise awareness about Anar’s vital work in Palestine and to offer ways attendees can get involved locally. \n\n\n\n\n\n\n\nRSVP to Public Tour Events\n\n\n\n\n\n\n\nRSVP is not required to attend public tour events for “Breaking the Cycle: Justice and Healing for Palestinian Children and Caregivers.” No one will be turned away. However\, filling out the RSVP form ensures that you can be updated on any event changes and tour information from Healing to Hope. \nSponsored and endorsed by WAMM and FAMM. For further information\, all details on tour website: HERE \n\n\n\n\n\n\n	Related
URL:https://womenagainstmilitarymadness.org/events/breaking-the-cycle-healing-to-hope-twin-cities-tour/2025-06-21/
CATEGORIES:Featured Events,Sponsored Events,Upcoming Events
ATTACH;FMTTYPE=image/webp:https://womenagainstmilitarymadness.org/wp-content/uploads/2025/06/H2H2025-BtC-Print-TwinCities-1.webp
END:VEVENT
END:VCALENDAR