BEGIN:VCALENDAR
VERSION:2.0
PRODID:-//Women Against Military Madness - ECPv6.15.20//NONSGML v1.0//EN
CALSCALE:GREGORIAN
METHOD:PUBLISH
X-WR-CALNAME:Women Against Military Madness
X-ORIGINAL-URL:https://womenagainstmilitarymadness.org
X-WR-CALDESC:Events for Women Against Military Madness
REFRESH-INTERVAL;VALUE=DURATION:PT1H
X-Robots-Tag:noindex
X-PUBLISHED-TTL:PT1H
BEGIN:VTIMEZONE
TZID:America/Chicago
BEGIN:DAYLIGHT
TZOFFSETFROM:-0600
TZOFFSETTO:-0500
TZNAME:CDT
DTSTART:20210314T080000
END:DAYLIGHT
BEGIN:STANDARD
TZOFFSETFROM:-0500
TZOFFSETTO:-0600
TZNAME:CST
DTSTART:20211107T070000
END:STANDARD
BEGIN:DAYLIGHT
TZOFFSETFROM:-0600
TZOFFSETTO:-0500
TZNAME:CDT
DTSTART:20220313T080000
END:DAYLIGHT
BEGIN:STANDARD
TZOFFSETFROM:-0500
TZOFFSETTO:-0600
TZNAME:CST
DTSTART:20221106T070000
END:STANDARD
BEGIN:DAYLIGHT
TZOFFSETFROM:-0600
TZOFFSETTO:-0500
TZNAME:CDT
DTSTART:20230312T080000
END:DAYLIGHT
BEGIN:STANDARD
TZOFFSETFROM:-0500
TZOFFSETTO:-0600
TZNAME:CST
DTSTART:20231105T070000
END:STANDARD
BEGIN:DAYLIGHT
TZOFFSETFROM:-0600
TZOFFSETTO:-0500
TZNAME:CDT
DTSTART:20240310T080000
END:DAYLIGHT
BEGIN:STANDARD
TZOFFSETFROM:-0500
TZOFFSETTO:-0600
TZNAME:CST
DTSTART:20241103T070000
END:STANDARD
BEGIN:DAYLIGHT
TZOFFSETFROM:-0600
TZOFFSETTO:-0500
TZNAME:CDT
DTSTART:20250309T080000
END:DAYLIGHT
BEGIN:STANDARD
TZOFFSETFROM:-0500
TZOFFSETTO:-0600
TZNAME:CST
DTSTART:20251102T070000
END:STANDARD
BEGIN:DAYLIGHT
TZOFFSETFROM:-0600
TZOFFSETTO:-0500
TZNAME:CDT
DTSTART:20260308T080000
END:DAYLIGHT
BEGIN:STANDARD
TZOFFSETFROM:-0500
TZOFFSETTO:-0600
TZNAME:CST
DTSTART:20261101T070000
END:STANDARD
END:VTIMEZONE
BEGIN:VEVENT
DTSTART;TZID=America/Chicago:20251119T180000
DTEND;TZID=America/Chicago:20251119T193000
DTSTAMP:20260425T092937
CREATED:20251024T230412Z
LAST-MODIFIED:20251024T230412Z
UID:10006118-1763575200-1763580600@womenagainstmilitarymadness.org
SUMMARY:PACK THE BUDGET MEETING - CUT THE CONTRACT\, NO ZINCITY
DESCRIPTION:Wednesday\, November 19th\, 6:05 pm\, Minneapolis Public Service Center\, Room 350\, 250 S 4th St\, Minneapolis \n  \n\n\n	Related
URL:https://womenagainstmilitarymadness.org/events/pack-the-budget-meeting-cut-the-contract-no-zincity/
LOCATION:Minneapolis Public Service Center\, 250 S 4th St\, Minneapolis\, MN\, 55415\, United States
CATEGORIES:Featured Events,Upcoming Events
ATTACH;FMTTYPE=image/webp:https://womenagainstmilitarymadness.org/wp-content/uploads/2025/10/PackTheMeeting.webp
END:VEVENT
BEGIN:VEVENT
DTSTART;TZID=America/Chicago:20250813T180000
DTEND;TZID=America/Chicago:20250813T200000
DTSTAMP:20260425T092937
CREATED:20250813T163144Z
LAST-MODIFIED:20250813T163144Z
UID:10006062-1755108000-1755115200@womenagainstmilitarymadness.org
SUMMARY:Community Vigil and Solidarity Mourning tent
DESCRIPTION:Wednesday\, August 13\, 2025\, 6 PM\, People’s Plaza outside of Minneapolis City Hall\, 350 S 5th St\, Minneapolis\, MN 55415 \nJoin JVP Twin Cities and friends as we hold space to mourn Awdah Hathaleen\, a beloved Palestinian teacher\, activist\, and friend who was murdered by an Israeli settler in his village of Um Al-Khair in late July. Together we will grieve and take action in his honor. \nThe same system of occupation and apartheid that killed Awdah is being supported by our city. We will call on Mayor Frey and city council to cut the city’s contract with ZenCity\, an Israeli surveillance company. \nWe will gather on Wednesday\, August 13th at 6pm at the people’s plaza outside of Minneapolis City Hall. \nPlease share this Instagram post and hope to see you there \nOrganized by Jewish voice for Peace Twin Cities\, sponsored by WAMM \n\n\n	Related
URL:https://womenagainstmilitarymadness.org/events/community-vigil-and-solidarity-mourning-tent/
LOCATION:People’s Plaza\, 350 S 5th St\, Minneapolis\, MN
CATEGORIES:Sponsored Events,Upcoming Events
ATTACH;FMTTYPE=image/webp:https://womenagainstmilitarymadness.org/wp-content/uploads/2025/08/signal-2025-08-12-12-51-04-437.webp
END:VEVENT
BEGIN:VEVENT
DTSTART;TZID=America/Chicago:20240503T170000
DTEND;TZID=America/Chicago:20240503T180000
DTSTAMP:20260425T092937
CREATED:20240503T175834Z
LAST-MODIFIED:20240503T175834Z
UID:10002725-1714755600-1714759200@womenagainstmilitarymadness.org
SUMMARY:UMN Jewish Students Press Conference - JVP
DESCRIPTION:Friday\, May 3\, 2024\, 5:00 pm\, Northrop Plaza\, 84 Church St SE\, Minneapolis\, MN 55455 \nMake sure to support our Jewish siblings tonight (May 3rd)\, at 5PM at Northrop plaza\, to demand the University listen to the full breadth of the Jewish student population. \nJoin members of the UMN Divest Encampment and allies at 5PM in UMN Northrop Plaza for a press conference and solidarity Shabbat uplifting the perspectives of anti-Zionist Jewish students and demanding they be included in conversations with the administration. This event is a collaboration between student leaders and the Twin Cities Chapter of Jewish Voice for Peace. \n\n\n	Related
URL:https://womenagainstmilitarymadness.org/events/umn-jewish-students-press-conference-jvp/
LOCATION:Northrop Auditorium\, 84 Church St SE\, Minneapolis\, MN\, 55455\, United States
CATEGORIES:Featured Events,Sponsored Events,Upcoming Events
ATTACH;FMTTYPE=image/jpeg:https://womenagainstmilitarymadness.org/wp-content/uploads/2024/05/jvp.jpg
END:VEVENT
BEGIN:VEVENT
DTSTART;TZID=America/Chicago:20220611T100000
DTEND;TZID=America/Chicago:20220611T120000
DTSTAMP:20260425T092937
CREATED:20220602T194118Z
LAST-MODIFIED:20220602T200738Z
UID:10002275-1654941600-1654948800@womenagainstmilitarymadness.org
SUMMARY:Palestine on the Ground with Yumna Patel
DESCRIPTION:Join MEPN to hear from journalist and film producer Yumna Patel. Yumna will share what is happening on the ground in Palestine now\, as well as continue our collective discussion surrounding Apartheid. \nAbout the Speaker: Yumna Patel is the Palestine News Director at Mondoweiss\, a US-based organization focused on providing news and analysis unavailable through the mainstream media regarding the struggle for Palestinian human rights. Yumna is based in the city of Bethlehem in the occupied West Bank\, and has been reporting in Palestine for six years on stories that affect the everyday lives of Palestinians under occupation. \nThanks to our forum sponsors: JVP Twin Cities\, Northfielders for Justice in Palestine/Israel\, Women Against Military Madness \nPlease email mepn@mepn.org with any questions. \nClick here to register. \n\n\n	Related
URL:https://womenagainstmilitarymadness.org/events/palestine-on-the-ground-with-yumna-patel/
LOCATION:Online Event
CATEGORIES:Featured Events,Upcoming Events
ATTACH;FMTTYPE=image/png:https://womenagainstmilitarymadness.org/wp-content/uploads/2022/06/Palestine-on-the-Ground-with-Yumna-Patel.png
END:VEVENT
END:VCALENDAR