BEGIN:VCALENDAR
VERSION:2.0
PRODID:-//Women Against Military Madness - ECPv6.15.20//NONSGML v1.0//EN
CALSCALE:GREGORIAN
METHOD:PUBLISH
X-ORIGINAL-URL:https://womenagainstmilitarymadness.org
X-WR-CALDESC:Events for Women Against Military Madness
REFRESH-INTERVAL;VALUE=DURATION:PT1H
X-Robots-Tag:noindex
X-PUBLISHED-TTL:PT1H
BEGIN:VTIMEZONE
TZID:America/Chicago
BEGIN:DAYLIGHT
TZOFFSETFROM:-0600
TZOFFSETTO:-0500
TZNAME:CDT
DTSTART:20220313T080000
END:DAYLIGHT
BEGIN:STANDARD
TZOFFSETFROM:-0500
TZOFFSETTO:-0600
TZNAME:CST
DTSTART:20221106T070000
END:STANDARD
BEGIN:DAYLIGHT
TZOFFSETFROM:-0600
TZOFFSETTO:-0500
TZNAME:CDT
DTSTART:20230312T080000
END:DAYLIGHT
BEGIN:STANDARD
TZOFFSETFROM:-0500
TZOFFSETTO:-0600
TZNAME:CST
DTSTART:20231105T070000
END:STANDARD
BEGIN:DAYLIGHT
TZOFFSETFROM:-0600
TZOFFSETTO:-0500
TZNAME:CDT
DTSTART:20240310T080000
END:DAYLIGHT
BEGIN:STANDARD
TZOFFSETFROM:-0500
TZOFFSETTO:-0600
TZNAME:CST
DTSTART:20241103T070000
END:STANDARD
BEGIN:DAYLIGHT
TZOFFSETFROM:-0600
TZOFFSETTO:-0500
TZNAME:CDT
DTSTART:20250309T080000
END:DAYLIGHT
BEGIN:STANDARD
TZOFFSETFROM:-0500
TZOFFSETTO:-0600
TZNAME:CST
DTSTART:20251102T070000
END:STANDARD
END:VTIMEZONE
BEGIN:VEVENT
DTSTART;TZID=America/Chicago:20240914T100000
DTEND;TZID=America/Chicago:20240914T113000
DTSTAMP:20260423T205339
CREATED:20240826T171730Z
LAST-MODIFIED:20240829T174532Z
UID:10002849-1726308000-1726313400@womenagainstmilitarymadness.org
SUMMARY:Rami G. Khouri Webinar
DESCRIPTION:“What Hamas represents politically\, why most Arabs support it\, and how Israel-US should deal with it” with Rami G. Khouri\nSaturday\, September 14 webinar on Zoom 10:00am – 11:30am CT \nAbout the Speaker: Rami G. Khouri is a Palestinian-American academic and journalist whose family resides in Beirut\, Amman\, and Nazareth. During his 50 years as a journalist in the Middle East\, he was editor of the Jordan Times and the Daily Star (Beirut) newspapers\, and contributed reporting and opinion pieces from the region to the Financial Times\, NPR\, BBC radio\, The Washington Post\, The Boston Globe\, and other outlets. \nRami founded and managed the Issam Fares Institute for Public Policy and International Affairs (IFI)\, at the American University of Beirut\, where he also taught journalism for a decade. He has been a Harvard Nieman Journalism Fellow and a senior fellow at the Harvard Kennedy School\, and a Fellow of the Palestinian Academic Society for the Study of International Affairs in Arab East Jerusalem. He was a visiting scholar at Villanova\, Oklahoma\, Mt Holyoke\, Syracuse\, Northeastern\, and Tufts universities. Rami is currently a distinguished fellow at IFI\, a senior fellow at the Arab Center Washington\, DC\, and a regular contributor to Aljazeera online. His texts and interviews are available on X @ramikhouri. \nRami Khoury’s latest book\, written with Helena Cobban\, is entitled Understanding Hamas and Why That Matters. For more information see: bit.ly/HamasMatters \nPlease contact mepn@mepn.org with any questions. \nOrganized by Middle East Peace Now \n\n\n	Related
URL:https://womenagainstmilitarymadness.org/events/28250/
LOCATION:Middle East Peace Now Zoom webinar
ATTACH;FMTTYPE=image/png:https://womenagainstmilitarymadness.org/wp-content/uploads/2024/08/Webinar.png
ORGANIZER;CN="Middle East Peace Now":MAILTO:mepn@mepn.org
END:VEVENT
BEGIN:VEVENT
DTSTART;TZID=America/Chicago:20240708T170000
DTEND;TZID=America/Chicago:20240708T200000
DTSTAMP:20260423T205339
CREATED:20240605T170108Z
LAST-MODIFIED:20240605T170108Z
UID:10002742-1720458000-1720468800@womenagainstmilitarymadness.org
SUMMARY:FROM GENOCIDE IN GAZA TO DECOLONIZING PALESTINE: TOWARDS A DEMOCRATIC STATE FOR ALL BETWEEN THE RIVER AND THE SEA
DESCRIPTION:Monday\, July 8\, 5:00pm New Branches\, 5011 S. 31st Ave. Minneapolis \n5:00pm–Registration and food \n6:30pm–Presentation \n  \nEven as the genocide in Gaza continues\, the US and Europe are plotting with Saudi Arabia to “normalize” Israel’s place in the region\, leaving the Palestinians trapped in the tiny enclaves of Israel’s apartheid regime forever. While our attention and hearts are focused on Gaza\, we civil society actors cannot abandon the wider fight for Palestinian rights and a better future for everyone between the River and the Sea\, now in a critical phase. \nAs a founding member of the Palestinian-led One Democratic State Campaign (ODSC)\, Jeff will present the ODSC’s program for replacing Israel and the Occupied Palestinian Territory with a democratic state with equal rights for all–including the returning refugees. This\, he argues\, is the only substantially just way forward\, but it is strewn with complex and difficult issues that we will discuss; there will be lots of time for discussion. \n  \nAbout Jeff Harper: \nJeff Harper is an Israeli anthropologist\, Director of the Israeli Committee Against House Demolitions (ICAHD) and a founding member of the One Democratic State Campaign program\, and has taught at universities in Israel\, the US\, Latin America\, and Africa. \nJeff has served on the United Nations Committee on the Exercise of the Inalienable Rights of the Palestinian People. In 2008 he sailed into Gaza with the Free Gaza Movement to break the Israeli siege. He was nominated by the American Friends Service Committee for the Nobel Peace Prize\, together with the Palestinian intellectual and militant Hassan Andoni. \nJeff’s latest books are War Against the People: Israel\, the Palestinians and Global Pacification\, which was shortlisted for the Palestine Book Award\, and Decolonizing Israel\, Liberating Palestine: Zionism\, Settler Colonialism and the Case for One Democratic State. \n\n\n	Related
URL:https://womenagainstmilitarymadness.org/events/from-genocide-in-gaza-to-decolonizing-palestine-towards-a-democratic-state-for-all-between-the-river-and-the-sea/
LOCATION:New Branches Church\, 5011 S 31st Ave\, Minneapolis\, Minnesota\, 55417
CATEGORIES:Featured Events,Sponsored Events,Upcoming Events
ORGANIZER;CN="Middle East Peace Now":MAILTO:mepn@mepn.org
END:VEVENT
BEGIN:VEVENT
DTSTART;TZID=America/Chicago:20240427T100000
DTEND;TZID=America/Chicago:20240427T113000
DTSTAMP:20260423T205339
CREATED:20240417T174952Z
LAST-MODIFIED:20240417T174952Z
UID:10002719-1714212000-1714217400@womenagainstmilitarymadness.org
SUMMARY:MEPN April Forum - Anti-Zionism is Not Antisemitism: Examining the History of Jewish Opposition to Zionism
DESCRIPTION:Saturday\, April 27\, 2024\, 10:00am – 11:30am CT\, Click here to register\n\nRegister here: https://us02web.zoom.us/webinar/register/WN_V9xyY4yUSOytGYrViNTeZw#/registration \nOrganized by Middle East Peace Now. Please email mepn@mepn.org with any questions. \n\n\n\n\n\n\n\n\n\n\n\nIn recent years\, there has been an effort to redefine “antisemitism” to include not only bigotry toward Jews and Judaism\, but also criticism of Israel and Zionism. In May 2022\, Jonathan Greenblatt of the Anti-Defamation League declared that “Anti-Zionism is antisemitism.” Some Israelis admit that equating anti-Zionism with antisemitism is a tactic to silence criticism of Israel. Zionism believes that Israel is the “homeland” of all Jews and that Jews living elsewhere are “in exile.” The overwhelming majority of Jewish Americans reject this view. The group whose publications I edit\, the American Council for Judaism\, was established in 1942 to keep alive the idea that Judaism is a religion of universal values\, not a nationality. My talk will examine the way Zionism has had a negative impact upon both Judaism and American foreign policy. \nAllan C. Brownfeld is a nationally syndicated columnist and is editor of ISSUES\, the quarterly journal of the American Council for Judaism (www.acjna.org). He received his A.B. from the College of William and Mary\, his M.A. from the University of Maryland\, and his J.D. from the Marshall-Wythe School of Law of the College of William and Mary. He has taught on the faculties of St. Stephen’s School and the University of Maryland. The author of five books\, he has served on the staff of the U.S. Senate\, House of Representatives and the Office of the Vice President.\n\n\n\n\n\n\n\n\n\n\n\n\n\n\n\n\n\n\n\n\n	Related
URL:https://womenagainstmilitarymadness.org/events/mepn-april-forum-anti-zionism-is-not-antisemitism-examining-the-history-of-jewish-opposition-to-zionism/
LOCATION:Online Event
CATEGORIES:Featured Events,Sponsored Events,Upcoming Events
ATTACH;FMTTYPE=image/png:https://womenagainstmilitarymadness.org/wp-content/uploads/2023/10/bd4f6101-0d06-4da4-935f-c6a64218002b.png
ORGANIZER;CN="Middle East Peace Now":MAILTO:mepn@mepn.org
END:VEVENT
BEGIN:VEVENT
DTSTART;TZID=America/Chicago:20240316T100000
DTEND;TZID=America/Chicago:20240316T113000
DTSTAMP:20260423T205339
CREATED:20240305T201153Z
LAST-MODIFIED:20240305T201153Z
UID:10002695-1710583200-1710588600@womenagainstmilitarymadness.org
SUMMARY:Gaza in Context: Past\, Present and Future
DESCRIPTION:Saturday\, March 16\, 2024\, 10:00 AM\, Online\, Click here to register\n\n\n\nNathan will discuss Gaza and its context in the present war with Israel. He will talk about the political parties in Palestine and their role in Palestinian governance. He has a wealth of personal experience from his time living and working in Gaza during the second intifada. Nathan Stock is a non-resident scholar at the Middle East Institute. Prior to joining MEI he spent nine years working for former President Carter’s organization\, The Carter Center. He then moved to Jerusalem to run the Center’s Israel-Palestine Field Office. Stock led Carter Center efforts to facilitate the reunification of the Palestinian political system and designed and managed projects targeting the Fatah-Hamas conflict. During the Al-Aqsa Intifada\, he lived in the Gaza Strip\, working with a Palestinian NGO to design and fundraise for conflict resolution programs targeting the Palestinian community.\n\nPlease email mepn@mepn.org with any questions.\n\n\n\n	Related
URL:https://womenagainstmilitarymadness.org/events/gaza-in-context-past-present-and-future/
LOCATION:Online Event
CATEGORIES:Featured Events,Sponsored Events,Upcoming Events
ATTACH;FMTTYPE=image/png:https://womenagainstmilitarymadness.org/wp-content/uploads/2023/10/bd4f6101-0d06-4da4-935f-c6a64218002b.png
ORGANIZER;CN="Middle East Peace Now":MAILTO:mepn@mepn.org
END:VEVENT
BEGIN:VEVENT
DTSTART;TZID=America/Chicago:20240217T113000
DTEND;TZID=America/Chicago:20240217T143000
DTSTAMP:20260423T205339
CREATED:20240206T180629Z
LAST-MODIFIED:20240206T180629Z
UID:10002513-1708169400-1708180200@womenagainstmilitarymadness.org
SUMMARY:MEPN Monthly Forum - POTLUCK + DISCUSSION ISRAEL-HAMAS WAR AND GENOCIDE IN GAZA
DESCRIPTION:Saturday\, February 17\, 2024\, 11:30 am – 2:30 pm\, Gloria Dei Lutheran Church\n700 South Snelling Avenue\, St. Paul MN \nPOTLUCK + DISCUSSION\nISRAEL-HAMAS WAR AND GENOCIDE IN GAZA \nRSVP HERE BY 2/14/24 \nParticipate in a stimulating Q&A discussion period with our panelists Mariam\nEl-Khatib (Muslim)\, Ruben Slomianski (Jewish)\, and Joan Deming (Christian).\nThese experts representing points of view from their faith backgrounds\, will\nlead us through the history and current challenges facing Palestinians\,\nIsraelis and affecting the entire Middle East. This event will not be livestreamed.\n\n\nBring a dish to share\, water and coffee will be provided. \nEnter a free drawing to win: \n\n\n$50 gift certificate for Baba’s House\n3 Books: “The 100 Years’ War on Palestine” By Rashid Khalidi\n\n\nPlease forward this invitation to your friends!\n\n\nContact mepn@mepn.org with any questions.\n\n\n	Related
URL:https://womenagainstmilitarymadness.org/events/mepn-monthly-forum-potluck-discussion-israel-hamas-war-and-genocide-in-gaza/
LOCATION:Gloria Dei Lutheran Church\, 700 Snelling Ave S\, St Paul\, MN\, 55116\, United States
CATEGORIES:Featured Events,Sponsored Events,Upcoming Events
ATTACH;FMTTYPE=image/png:https://womenagainstmilitarymadness.org/wp-content/uploads/2023/10/bd4f6101-0d06-4da4-935f-c6a64218002b.png
ORGANIZER;CN="Middle East Peace Now":MAILTO:mepn@mepn.org
END:VEVENT
BEGIN:VEVENT
DTSTART;TZID=America/Chicago:20240127T100000
DTEND;TZID=America/Chicago:20240127T113000
DTSTAMP:20260423T205339
CREATED:20240116T203219Z
LAST-MODIFIED:20240116T203219Z
UID:10002671-1706349600-1706355000@womenagainstmilitarymadness.org
SUMMARY:The impact of the war on Gaza: How it has affected healthcare and human rights
DESCRIPTION:Saturday\, January 27\, 2024\, 10:00 AM\, Online event\, click here to register\n\n\n\nDr. Alice Rothchild will present a general historical framework and background on Gaza before October 7\, the impact of the assault on the health care system and general infrastructure\, the consequences for the civilian population and implications for human rights violations\, and possible steps the audience can take to pressure the US government which has continued to provide massive amounts of military support and political cover for Israel.\n\nAbout Speaker: Alice Rothchild is a retired obstetrician-gynecologist who worked in the health care reform and women’s movements for many years. She directed a documentary film and is now writing and speaking\, and blogs when inspired or particularly outraged by the state of the world. Since 1997\, she has focused much of her energy on understanding the Israeli/Palestinian conflict.\n\nPlease email mepn@mepn.org with any questions. Organized by Middle East Peace Now\, sponsored by WAMM Middle East Committee\n\n\n\n	Related
URL:https://womenagainstmilitarymadness.org/events/the-impact-of-the-war-on-gaza-how-it-has-affected-healthcare-and-human-rights/
LOCATION:Online Event
CATEGORIES:Featured Events,Sponsored Events,Upcoming Events
ATTACH;FMTTYPE=image/png:https://womenagainstmilitarymadness.org/wp-content/uploads/2023/10/bd4f6101-0d06-4da4-935f-c6a64218002b.png
ORGANIZER;CN="Middle East Peace Now":MAILTO:mepn@mepn.org
END:VEVENT
BEGIN:VEVENT
DTSTART;TZID=America/Chicago:20231209T100000
DTEND;TZID=America/Chicago:20231209T113000
DTSTAMP:20260423T205339
CREATED:20231207T210529Z
LAST-MODIFIED:20231207T210529Z
UID:10002659-1702116000-1702121400@womenagainstmilitarymadness.org
SUMMARY:Current Crisis in Palestine/Israel: Education for Understanding and Peace
DESCRIPTION:Saturday\, December 9\, 2023\, 10:00 am\, Online event\, click here to register \nInitiated by Middle East Peace Now\, Sponsored by WAMM \nMariam El-Khatib is passionate about educating people on the current crisis in Palestine. She will begin her presentation with a brief review of Palestinian history. That will be followed by a look at the ongoing crisis specifically in the West Bank and Gaza\, both before and after October 7th. Her talk will vividly depict what is happening up to the present time\, with short videos. \nGiven her passion for education to inform and inspire action she will share a number of ways people have been activated to educate others in their spheres. Mariam will conclude with ways that audience members can be ‘educators’ in their spheres of influence to affect positive change. \nAbout the Speaker: Mariam El-Khatib is a Palestinian-American who was born and raised in Minnesota. She is passionate about inspiring and empowering others to mobilize and work towards Palestinian liberation. Mariam draws from her own family’s experience of living under Israeli occupation and witnessing the challenges that her family and community face under Israeli occupation. \nShe is currently a volunteer member of the Minnesota chapter of American Muslims for Palestine (AMP)\, having previously served as the lead person in AMP. Mariam graduated from the University of Minnesota. While there\, she was an active member of Students for Justice in Palestine at the University of Minnesota and part of the team that led the divestment efforts in 2016. She is an excellent and sought after speaker\, having recently spoken to a large Council on American-Islamic Relations (CAIR) audience. In her full time job\, she is a Product Manager at the tech company LaunchGood. Please email mepn@mepn.org with any questions. \n\n\n	Related
URL:https://womenagainstmilitarymadness.org/events/current-crisis-in-palestine-israel-education-for-understanding-and-peace/
LOCATION:Online Event
CATEGORIES:Featured Events,Sponsored Events,Upcoming Events
ATTACH;FMTTYPE=image/png:https://womenagainstmilitarymadness.org/wp-content/uploads/2023/10/bd4f6101-0d06-4da4-935f-c6a64218002b.png
ORGANIZER;CN="Middle East Peace Now":MAILTO:mepn@mepn.org
END:VEVENT
BEGIN:VEVENT
DTSTART;TZID=America/Chicago:20231021T100000
DTEND;TZID=America/Chicago:20231021T113000
DTSTAMP:20260423T205339
CREATED:20231011T185929Z
LAST-MODIFIED:20231011T185929Z
UID:10002639-1697882400-1697887800@womenagainstmilitarymadness.org
SUMMARY:MEPN October Forum
DESCRIPTION:Saturday\, October 21\, 2023\, 10:00 – 11:30 am \nZoom Webinar\, Click here to register \n“Diversity as key to peace and sustainability in Palestine: human\, biological\, agricultural” with Professor Mazin Qumsiyeh – co-sponsored by Northfielders for Justice in Palestine/Israel and Women Against Military Madness \nProfessor Mazin Qumsiyeh previously served at US universities including Tennessee\, Duke and Yale. He is founder and volunteer director of the Palestine Institute for Biodiversity and Sustainability (PIBS) at Bethlehem University (http://palestinenature.org). Qumsiyeh published over 170 scientific papers\, over 30 book chapters\, hundreds of articles\, and several books (including “Sharing the Land of Canaan” and “Popular Resistance in Palestine”) on topics ranging from cultural heritage to human rights to biodiversity conservation to cancer. He oversaw a number of projects ranging from formulating the National Biodiversity Strategy and Action Plan to empowerment projects with farmers\, women\, and children that benefitted tens of thousands. He is laureate of the Paul K. Feyerabend Foundation award the Takreem award among others. See also http://qumsiyeh.org  \nQumsiyeh and his team believe in value of diversity (human diversity and biological diversity). The motto of the institution he founded is RESPECT: self respect (empowerment)\, respect for others (different religions\, ethnicities\, backgrounds etc)\, and respect for nature.  The event helps to raise awareness about the current reality in Palestine and garner support of all types towards sustainability of human and natural communities. \nThank you to our forum sponsors\, Northfielders for Justice in Palestine/Israel\, Women Against Military Madness \nPlease email mepn@mepn.org with any questions. \n\n\n	Related
URL:https://womenagainstmilitarymadness.org/events/mepn-october-forum/
LOCATION:Online Event
CATEGORIES:Featured Events,Sponsored Events,Upcoming Events
ATTACH;FMTTYPE=image/png:https://womenagainstmilitarymadness.org/wp-content/uploads/2023/10/bd4f6101-0d06-4da4-935f-c6a64218002b.png
ORGANIZER;CN="Middle East Peace Now":MAILTO:mepn@mepn.org
END:VEVENT
BEGIN:VEVENT
DTSTART;TZID=America/Chicago:20230916T100000
DTEND;TZID=America/Chicago:20230916T113000
DTSTAMP:20260423T205339
CREATED:20230824T170206Z
LAST-MODIFIED:20230824T171708Z
UID:10002557-1694858400-1694863800@womenagainstmilitarymadness.org
SUMMARY:Middle East Peace Now September Forum
DESCRIPTION:Saturday\, September 16\, 2023\, 10:00 – 11:30 a.m. \nOnline event\, clink link here to register \nCo-sponsored event sponsored by Middle East Peace Now (MEPN). \nUS Policy Toward Israel At a Turning Point\, with Mitchell Plitnick\, President\, ReThinking Foreign Policy\nThe perception of Israel in the United States\, in virtually every corner except the halls of Congress\, has undergone a radical transformation in 2023. Ongoing and escalating violence by settlers\, while not new\, has reached unprecedented heights and the involvement of Israeli military and security forces in those attacks has gotten more exposure than ever before. Israel’s own radically right-wing government has escalated military attacks as well\, with the attack on Jenin in June highlighting a growing understanding that Israel is\, at best\, disregarding Palestinian lives. Yet despite Israel’s escalating violence and its de facto annexation of much of the West Bank\, mainstream congressional Democrats have doubled down on their support for Israel while the Biden administration has accelerated efforts to broker a normalization agreement between Israel and Saudi Arabia. I will discuss the implications of all of these factors and how they are connected.Mitchell Plitnick\, a political analyst and writer\, is the president of ReThinking Foreign Policy.  He is the author\, with Marc Lamont Hill\, of Except for Palestine: The Limits of Progressive Politics. Mitchell’s previous positions include vice president at the Foundation for Middle East Peace\, Director of the US Office of B’Tselem: The Israeli Information Center for Human Rights in the Occupied Territories\, and Co-Director of Jewish Voice for Peace. His writing has appeared in Ha’aretz\, the New Republic\, Mondoweiss\, Responsible Statecraft\, The New Arab\, Middle East Report\, LobeLog\, the San Francisco Chronicle\, +972 Magazine\, and other outlets. He has spoken all over the country on Middle East politics and has regularly offered commentary in a wide range of radio and television outlets including PBS News Hour\, the O’Reilly Factor\, i24 (Israel)\, Pacifica Radio\, CNBC Asia and others. Plitnick graduated with honors from UC Berkeley in Middle Eastern Studies and wrote his thesis on Israeli and Jewish historiography. He earned his Masters Degree from the University of Maryland\, College Park’s School of Public Policy. You can find him on Twitter @MJPlitnick.Thank you to our forum sponsors\, Northfielders for Justice in Palestine/Israel\, Women Against Military MadnessPlease email mepn@mepn.org with any questions. \n\n\n	Related
URL:https://womenagainstmilitarymadness.org/events/middle-east-peace-now-september-forum/
CATEGORIES:Featured Events,Sponsored Events,Upcoming Events
ATTACH;FMTTYPE=image/jpeg:https://womenagainstmilitarymadness.org/wp-content/uploads/2023/08/Me45.jpg
ORGANIZER;CN="Middle East Peace Now":MAILTO:mepn@mepn.org
END:VEVENT
BEGIN:VEVENT
DTSTART;TZID=America/Chicago:20230617T100000
DTEND;TZID=America/Chicago:20230617T110000
DTSTAMP:20260423T205339
CREATED:20230615T152358Z
LAST-MODIFIED:20230615T220819Z
UID:10002532-1686996000-1686999600@womenagainstmilitarymadness.org
SUMMARY:The Ongoing Nakba: 75 Years Later
DESCRIPTION:The Ongoing Nakba: 75 Years Later with Rev. Dr. Munther Isaac of Christmas Evangelical Lutheran Church\, Bethlehem\nSaturday\, June 17\, 10- 11:30 am\nOnline Event \n“Nakba:” in Arabic\, “ “the catastrophe.” Between the passing of the United Nations partition plan in 1947 and the end of the war in 1949\, at least 700\,000 Palestinians were expelled from their homes and homeland. Unknown numbers were killed by Zionist militia and the new Israeli army. Rev. Dr. Isaac will explain how the Nakba is an ongoing reality for the Palestinians. Seventy- five years after the establishment of Israel\, the Nakba continues to impact all aspects of Palestinian society\, including the shrinking Christian minority. \nRev. Dr. Munther Isaac is Pastor of Evangelical Lutheran Church in Bethlehem\, and is also the Academic Dean of Bethlehem Bible College. He lives in Bethlehem with his family. \nPlease email mepn@mepn.org with any questions. \n\n\n	Related
URL:https://womenagainstmilitarymadness.org/events/the-ongoing-nakba-75-years-later/
LOCATION:Online Event
CATEGORIES:Featured Events,Upcoming Events
ATTACH;FMTTYPE=image/jpeg:https://womenagainstmilitarymadness.org/wp-content/uploads/2023/06/IMG_9536-munther-263x263-1.jpg
ORGANIZER;CN="Middle East Peace Now":MAILTO:mepn@mepn.org
END:VEVENT
END:VCALENDAR