BEGIN:VCALENDAR
VERSION:2.0
PRODID:-//Women Against Military Madness - ECPv6.15.20//NONSGML v1.0//EN
CALSCALE:GREGORIAN
METHOD:PUBLISH
X-WR-CALNAME:Women Against Military Madness
X-ORIGINAL-URL:https://womenagainstmilitarymadness.org
X-WR-CALDESC:Events for Women Against Military Madness
REFRESH-INTERVAL;VALUE=DURATION:PT1H
X-Robots-Tag:noindex
X-PUBLISHED-TTL:PT1H
BEGIN:VTIMEZONE
TZID:America/Chicago
BEGIN:DAYLIGHT
TZOFFSETFROM:-0600
TZOFFSETTO:-0500
TZNAME:CDT
DTSTART:20220313T080000
END:DAYLIGHT
BEGIN:STANDARD
TZOFFSETFROM:-0500
TZOFFSETTO:-0600
TZNAME:CST
DTSTART:20221106T070000
END:STANDARD
BEGIN:DAYLIGHT
TZOFFSETFROM:-0600
TZOFFSETTO:-0500
TZNAME:CDT
DTSTART:20230312T080000
END:DAYLIGHT
BEGIN:STANDARD
TZOFFSETFROM:-0500
TZOFFSETTO:-0600
TZNAME:CST
DTSTART:20231105T070000
END:STANDARD
BEGIN:DAYLIGHT
TZOFFSETFROM:-0600
TZOFFSETTO:-0500
TZNAME:CDT
DTSTART:20240310T080000
END:DAYLIGHT
BEGIN:STANDARD
TZOFFSETFROM:-0500
TZOFFSETTO:-0600
TZNAME:CST
DTSTART:20241103T070000
END:STANDARD
BEGIN:DAYLIGHT
TZOFFSETFROM:-0600
TZOFFSETTO:-0500
TZNAME:CDT
DTSTART:20250309T080000
END:DAYLIGHT
BEGIN:STANDARD
TZOFFSETFROM:-0500
TZOFFSETTO:-0600
TZNAME:CST
DTSTART:20251102T070000
END:STANDARD
BEGIN:DAYLIGHT
TZOFFSETFROM:-0600
TZOFFSETTO:-0500
TZNAME:CDT
DTSTART:20260308T080000
END:DAYLIGHT
BEGIN:STANDARD
TZOFFSETFROM:-0500
TZOFFSETTO:-0600
TZNAME:CST
DTSTART:20261101T070000
END:STANDARD
END:VTIMEZONE
BEGIN:VEVENT
DTSTART;TZID=America/Chicago:20250418T150000
DTEND;TZID=America/Chicago:20250418T160000
DTSTAMP:20260423T180018
CREATED:20250417T193710Z
LAST-MODIFIED:20250417T193838Z
UID:10005132-1744988400-1744992000@womenagainstmilitarymadness.org
SUMMARY:Por la Familia Cubana: Solidarity Call for the Cuban Family!
DESCRIPTION:Friday\, April 18\, 2025\, 3PM CST\, Online\, click here for ZOOM link \nLet’s turn the page on U.S. – Cuban relations. We are bringing together solidarity organizations and Congressional staff to learn about the impacts of the U.S. Blockade on the Cuban people and to understand the increasingly aggressive U.S. policies against Cuba. We will discuss possible actions that we can take to support the Cuban people as they struggle with lack of food\, medicine\, fuel\, and essential supplies. \nProgram Moderator: Simon Elliott\, Solidarity Committee on the Americas \nFeaturing:\n– Piano legend Nachito Herrera and wife/manager Aurora Gonzales testimony from their music tour of Cuba and humanitarian aid campaign\n– Yasser Ibarra\, Ist Secretary of the Cuban embassy: US sanctions effect on the Cuban people\n– Cheryl LaBash\, Co-Chair\, National Network On Cuba (NNOC): Nat’l action plan and SAVING LIVES campaign\n– Danny Valdes\, Co-chair\, Democratic Socialists of America\, International Office: Congressional Advocacy for Cuba campaign opposing the FORCE Act.\nOnline\, click here for ZOOM link\nQuestions & Answers afterward via chat.\nSponsored by the Minnesota Cuba Committee and the Solidarity Committee on the Americas \n\n\n	Related
URL:https://womenagainstmilitarymadness.org/events/por-la-familia-cubana-solidarity-call-for-the-cuban-family/
LOCATION:Online Event
CATEGORIES:Featured Events,Upcoming Events
ATTACH;FMTTYPE=image/png:https://womenagainstmilitarymadness.org/wp-content/uploads/2025/04/Screenshot-2025-04-15-at-1.40.08 PM.png
END:VEVENT
BEGIN:VEVENT
DTSTART;TZID=America/Chicago:20240418T160000
DTEND;TZID=America/Chicago:20240418T170000
DTSTAMP:20260423T180018
CREATED:20240417T173349Z
LAST-MODIFIED:20240417T173349Z
UID:10002717-1713456000-1713459600@womenagainstmilitarymadness.org
SUMMARY:Senator Klobuchar: Take Cuba off the U.S. State Sponsors of Terrorism List!
DESCRIPTION:DEMAND! Senator Klobuchar: Take Cuba off the U.S. State Sponsors of Terrorism List!\n\n\nProtest at Klobuchar’s office!\nThursday\, April 18\, 2024\, 4:00 PM to 5:00 pm\, 1200 Washington Avenue South Minneapolis\, MN 55415\n\n\n\nWe are gathering at Senator Amy Klobuchar’s office to call on her to advocate with President Biden to take Cuba off the list of U.S. State Sponsors of Terrorism list.\nThis listing and sanctions on Cubans causes pain and suffering to the Cuban people. We need to normalize relations with our neighboring country.\n>>>>Join us to deliver petitions to Senator Klobuchar’s office.<<<<\nThe United States under Trump put Cuba on a list of few countries that are designated as State Sponsors of Terrorism. This was after the Obama administration took Cuba off the list because it did not meet the criteria and was an impediment to diplomatic normalization.\nThe list is used as a way for the US to punish countries that it is in conflict with. Cuba was put on the list by Trump without providing any reasonable justification for doing this.\nThis designation has harmed the people of Cuba by international financial restrictions that prevent it from rebooting its economy especially after the pandemic\, Biden has continued this policy\, but he can remove Cuba from the list by a stroke of his pen via an Executive Order.\nInitiated by: Solidarity Committee on the Americas (SCOTA)\, Minnesota Cuba Committee\, Witness for Peace Solidarity Collective \n\n\n\n\n	Related
URL:https://womenagainstmilitarymadness.org/events/senator-klobuchar-take-cuba-off-the-u-s-state-sponsors-of-terrorism-list/
LOCATION:Senator Amy Klobuchar’s Minneapolis Office\, 1200 S Washington Ave\, Minneapolis\, 55415-1227\, United States
CATEGORIES:Featured Events,Upcoming Events
ATTACH;FMTTYPE=image/jpeg:https://womenagainstmilitarymadness.org/wp-content/uploads/2024/04/437056207_731330609212718_8492570634696210130_n-scaled.jpg
ORGANIZER;CN="SCOTA":MAILTO:solidaritycommitteeofamericas@gmail.com
END:VEVENT
BEGIN:VEVENT
DTSTART;TZID=America/Chicago:20240128T123000
DTEND;TZID=America/Chicago:20240128T143000
DTSTAMP:20260423T180018
CREATED:20231207T175245Z
LAST-MODIFIED:20231207T175245Z
UID:10002656-1706445000-1706452200@womenagainstmilitarymadness.org
SUMMARY:Car Caravan for Cuba
DESCRIPTION:Sunday\, January 28\, 2023\, 12:30 pm\, South High School parking lot\, 3131 19th Ave So\, Mpls\, MN\n\nEnd the U.S. Blockade of Cuba\nTake Cuba off the U.S. State Sponsors of Terrorism\n\nThe Solidarity Committee on the Americas & the Minnesota Cuba Committee continues their monthly caravan against the US blockade of Cuba including demanding the Biden take Cuba off the U.S. State Sponsors of Terrorism.More than 10\,000 people and 100 progressive advocacy groups have signed an open letter urging President Joe Biden to reverse the Trump administration’s terrorism designation for Cuba and to reinstate Obama-era policy for the island.\nJOIN US AT: South High School parking lot\,                       3131 19th Ave So\, Minneapolis.Car caravan details:12:30 pm: Volunteer car marshal training1:00 pm: Line up and add signs and flags to cars at South High School parking lot. Signs and car flags will be available or bring your own. Caravan sponsors will make brief remarks.1:30 pm (sharp): Caravan begins – details for route to come then returning to South High.2:30: Brief closing rally at South High parking lot.Contact 612-437-0222 for more information or if you’re joining late.\nEvent initiated by: Solidarity Committee on the Americas and the MN Cuba Committee\n\n\n	Related
URL:https://womenagainstmilitarymadness.org/events/car-caravan-for-cuba/
LOCATION:South High School Parking Lot\, 3131 S 19th Ave\, Minneapolis\, MN\, 55407\, United States
CATEGORIES:Featured Events,Upcoming Events
ATTACH;FMTTYPE=image/jpeg:https://womenagainstmilitarymadness.org/wp-content/uploads/2023/12/408639961_656978593314587_4523611272281234658_n.jpg
ORGANIZER;CN="Solidarity Committee on the Americas":MAILTO:solidaritycommitteeofamericas@gmail.com
END:VEVENT
BEGIN:VEVENT
DTSTART;TZID=America/Chicago:20230924T130000
DTEND;TZID=America/Chicago:20230924T150000
DTSTAMP:20260423T180018
CREATED:20230908T201134Z
LAST-MODIFIED:20230919T171322Z
UID:10002560-1695560400-1695567600@womenagainstmilitarymadness.org
SUMMARY:September Cuba Car Caravan
DESCRIPTION:September Cuba Car Caravan\n\nEnd the U.S. Blockade of Cuba! (Poner fin al bloqueo estadounidense de Cuba)\nTake Cuba off the U.S. State Sponsors of Terrorism! (Sacar a Cuba de la lista de Estados Patrocinadores del Terrorismo de EE.UU)\n\n\nSunday\, September 24\, 2023\, Gather at 1:00 pm\nGriggs-Midway Building in St. Paul\, MN1821 University Ave W\, St Paul\, MN 55104(gather in the parking lot)\nCar caravan details:\n1:00 pm: Line up and add signs and flags to cars at Griggs-Midway. Signs and car flags will be available or bring your own. Caravan sponsors will make brief remarks.1:30 pm (sharp): Caravan begins – Drive on University Avenue to the State Capital and back then return to Griggs-Midway.\n\nDuring the caravan join us on ZOOM! See QR code.\n2:30: Brief closing rally at Griggs-Midway Building parking lot.Contact 612-437-0222 for more information or if you’re joining late.We join the nationwide monthly caravans first organized by Miami-based Puentes de Amor (Bridges of Love) to show our love  for Cuba. \nThis month we’re focusing on the continuation of Cuba on the list of nations that the U.S. designates as “terrorist” and the recent FBI questioning when people visit Cuba. \n \nCome to hear speakers that have experienced FBI questioning and/or FBI raids. We need to stand up and speak out against any form of U.S. government repression against the people of Cuba and their supporters.\nMore than 10\,000 people and 100 progressive advocacy groups have signed an open letter urging President Joe Biden to end the Trump administration’s terrorism designation for Cuba and to reinstate Obama-era policy for the island.We are still organizing to end the US’ 60+year Blockade on Cuba:The international outcry against the U.S. intentional starvation blockade of Cuba is growing. These actions powerfully refute the claims  by anti-Cuba Senators Marco Rubio\, Robert Menendez and Ted Cruz.Now in their third year\, the public bike and car caravans that started in Miami\, and led by Cuban-Americans\, have broken up that myth.\n \n—————————–\nÚnase a SCOTA\, el Comité Cuba de Minnesota y otros en nuestra caravana mensual contra el bloqueo estadounidense a Cuba. Encuéntrenos en el edificio Griggs-Midway (St. Paul) (estacionamiento inferior) o MÍRELO EN VIVO en la página de Facebook.Este mes nos enfocamos en la continuación de Cuba en la lista de naciones que los EE.UU. designa como “terroristas”.\nMás de 10\,000 personas y 100 grupos progresistas han firmado una carta abierta urgiendo al presidente Joe Biden a revertir la designación de terrorismo de la administración Trump para Cuba y restablecer la política de la era Obama para la isla.\nEl clamor internacional contra el bloqueo con intención de causar hambre intencionado de Estados Unidos contra Cuba es cada vez mayor. Estas acciones refutan poderosamente la afirmación estadounidense de que la campaña contra Cuba de Marco Rubio\, Bob Menéndez y Ted Cruz nos representa.\nAhora en su tercer año\, las caravanas públicas de bicicletas y automóviles que comenzaron en Miami y son lideradas por cubano-americanos han roto ese mito.\nInitiated by: Solidarity Committee on the Americas & the MN Cuba Committee\nFacebook event and watch live if one can’t make it to the caravan: September Cuba Car Caravan (Griggs-Midway Building in St. Paul)!\n\n\n	Related
URL:https://womenagainstmilitarymadness.org/events/september-cuba-car-caravan/
LOCATION:Griggs Midway Building\, 1821 University Ave\, St. Paul\, Minnesota
CATEGORIES:Featured Events,Upcoming Events
ATTACH;FMTTYPE=image/jpeg:https://womenagainstmilitarymadness.org/wp-content/uploads/2023/09/Cuba_caravan-picture.jpg
ORGANIZER;CN="Solidarity Committee on the Americas":MAILTO:solidaritycommitteeofamericas@gmail.com
END:VEVENT
END:VCALENDAR