BEGIN:VCALENDAR
VERSION:2.0
PRODID:-//Women Against Military Madness - ECPv6.15.20//NONSGML v1.0//EN
CALSCALE:GREGORIAN
METHOD:PUBLISH
X-ORIGINAL-URL:https://womenagainstmilitarymadness.org
X-WR-CALDESC:Events for Women Against Military Madness
REFRESH-INTERVAL;VALUE=DURATION:PT1H
X-Robots-Tag:noindex
X-PUBLISHED-TTL:PT1H
BEGIN:VTIMEZONE
TZID:America/Chicago
BEGIN:DAYLIGHT
TZOFFSETFROM:-0600
TZOFFSETTO:-0500
TZNAME:CDT
DTSTART:20230312T080000
END:DAYLIGHT
BEGIN:STANDARD
TZOFFSETFROM:-0500
TZOFFSETTO:-0600
TZNAME:CST
DTSTART:20231105T070000
END:STANDARD
BEGIN:DAYLIGHT
TZOFFSETFROM:-0600
TZOFFSETTO:-0500
TZNAME:CDT
DTSTART:20240310T080000
END:DAYLIGHT
BEGIN:STANDARD
TZOFFSETFROM:-0500
TZOFFSETTO:-0600
TZNAME:CST
DTSTART:20241103T070000
END:STANDARD
BEGIN:DAYLIGHT
TZOFFSETFROM:-0600
TZOFFSETTO:-0500
TZNAME:CDT
DTSTART:20250309T080000
END:DAYLIGHT
BEGIN:STANDARD
TZOFFSETFROM:-0500
TZOFFSETTO:-0600
TZNAME:CST
DTSTART:20251102T070000
END:STANDARD
BEGIN:DAYLIGHT
TZOFFSETFROM:-0600
TZOFFSETTO:-0500
TZNAME:CDT
DTSTART:20260308T080000
END:DAYLIGHT
BEGIN:STANDARD
TZOFFSETFROM:-0500
TZOFFSETTO:-0600
TZNAME:CST
DTSTART:20261101T070000
END:STANDARD
BEGIN:DAYLIGHT
TZOFFSETFROM:-0600
TZOFFSETTO:-0500
TZNAME:CDT
DTSTART:20270314T080000
END:DAYLIGHT
BEGIN:STANDARD
TZOFFSETFROM:-0500
TZOFFSETTO:-0600
TZNAME:CST
DTSTART:20271107T070000
END:STANDARD
END:VTIMEZONE
BEGIN:VEVENT
DTSTART;TZID=America/Chicago:20260417T160000
DTEND;TZID=America/Chicago:20260417T170000
DTSTAMP:20260423T132818
CREATED:20250501T180936Z
LAST-MODIFIED:20250501T180936Z
UID:10005248-1776441600-1776445200@womenagainstmilitarymadness.org
SUMMARY:Weekly Free Palestine Rally
DESCRIPTION:The Weekly Free Palestine Rally is sponsored and organized by the Palestine Solidarity Committee (PSC)\, the newest WAMM Committee. The PSC is an action-oriented committee that focuses on ongoing organizing for the liberation of Palestine through community education\, protest\, and outreach.\n\nWAMM’s weekly Friday Palestine vigils will now be rallies/bannerings at the same time and location every week to stand with the victims of the ongoing genocide and ethnic cleansing in Gaza and the West Bank. We will not stop raising awareness as global citizens against military madness until Palestine is free from apartheid! #LetGazaLive#FreePalestine #FromTheRiverToTheSeaPalestineWillBeFree \nFrom the river to the sea\, Palestine will be free! \n\n\n((Every Friday\, 4-5PM\, at the corner of Summit and Snelling Aves\, St Paul))\n\nPalestine Solidarity Committee meetings are the 2nd and 4th Friday of every month\, starting at 5:30PM at the Twin Cities Friends Meeting\, 1725 Grand Ave. FFI: 612-827-5364\, general@wamm.me\n\n\n	Related
URL:https://womenagainstmilitarymadness.org/events/weekly-free-palestine-rally/2026-04-17/
LOCATION:Corner of Summit & Snelling in St. Paul\, Corner of Summit Ave and Snelling Ave\, St. Paul\, Minneapolis\, MN\, 55407\, United States
CATEGORIES:Recurring Events
ATTACH;FMTTYPE=image/jpeg:https://womenagainstmilitarymadness.org/wp-content/uploads/2023/10/101523.jpg
END:VEVENT
BEGIN:VEVENT
DTSTART;TZID=America/Chicago:20260410T173000
DTEND;TZID=America/Chicago:20260410T193000
DTSTAMP:20260423T132818
CREATED:20260410T001003Z
LAST-MODIFIED:20260410T001003Z
UID:10006360-1775842200-1775849400@womenagainstmilitarymadness.org
SUMMARY:PALESTINE SOLIDARITY COMMITTEE - NEW MEMBERS MEETING
DESCRIPTION:Friday\, April 10th @ 5:30 PM | 1725 Grand Ave\, St.Paul\, MN \n\n\n	Related
URL:https://womenagainstmilitarymadness.org/events/palestine-solidarity-committee-new-members-meeting-3/
LOCATION:Twin Cities Friends Meeting House\, 1725 Grand Ave\, St. Paul\, MN\, 55105\, United States
CATEGORIES:Featured Events,Upcoming Events
ATTACH;FMTTYPE=image/webp:https://womenagainstmilitarymadness.org/wp-content/uploads/2026/04/New-Members.webp
END:VEVENT
BEGIN:VEVENT
DTSTART;TZID=America/Chicago:20260113T120000
DTEND;TZID=America/Chicago:20260113T140000
DTSTAMP:20260423T132818
CREATED:20251219T021155Z
LAST-MODIFIED:20251219T021155Z
UID:10006266-1768305600-1768312800@womenagainstmilitarymadness.org
SUMMARY:Rescheduled Water Commission Meeting
DESCRIPTION:Tuesday\, January 13\, 2026\, 12 PM (11:45 AM if possible)\, St Paul City Hall\, 15 W Kellogg Blvd\, St Paul\nThe St. Paul Board of Water Commissioners has canceled its upcoming meeting— without disclosing a reason. \nOur campaign to Cut the Waterfall Contract has been building momentum\, and we KNOW that the Board is feeling the pressure! Minnesotans are learning that their water supply is overseen by an Israeli cybersecurity company\, and they are not willing to be complicit in Israel’s ongoing genocidal war crimes against the Palestinian people. \nIt is possible that the Board thinks that it can evade public scrutiny by canceling its December meeting. If that is the case\, it’s our job to prove that the only way for the Board to relieve public pressure is to CUT THE CONTRACT WITH WATERFALL! \nThat’s why we ask you to help us build the momentum further and PACK THE ROOM at St. Paul’s City Hall Tuesday\, January 13th\, 12:00pm (arrive at 11:45am if possible)! Organized by WAMM Palestine Solidarity Committee \n  \n\n\n	Related
URL:https://womenagainstmilitarymadness.org/events/rescheduled-water-commission-meeting/
LOCATION:St Paul City Hall\, 15 Kellogg Blvd\, St Paul\, MN\, 55102\, United States
CATEGORIES:Featured Events,Upcoming Events
ATTACH;FMTTYPE=image/webp:https://womenagainstmilitarymadness.org/wp-content/uploads/2025/12/Cuttieswaterfall.webp
END:VEVENT
BEGIN:VEVENT
DTSTART;TZID=America/Chicago:20251021T170000
DTEND;TZID=America/Chicago:20251021T180000
DTSTAMP:20260423T132818
CREATED:20251015T021718Z
LAST-MODIFIED:20251015T021718Z
UID:10006113-1761066000-1761069600@womenagainstmilitarymadness.org
SUMMARY:St Paul: PACK THE ROOM TO SAY NO TO WATERFALL!
DESCRIPTION:Tuesday\, October 21\, 2025\, 5 PM\, Gather at 4:45 if possible\, St Paul City Hall\, 15 W Kellogg Blvd\, St Paul\, MN\n \n PACK THE ROOM!  for the next Board of Water Commissioners meeting to tell them WE DON’T WANT OUR MONEY FUNDING GENOCIDE! \nThe St. Paul Board of Water Commissioners contracts with Waterfall Security Solutions\, an Israeli cybersecurity company. As Israel commits genocide against Palestinians and operates as an apartheid state\, it is important that we economically isolate them. Boycott\, divestment\, and sanctions (BDS) worked to end South African apartheid and can work now! \nSee you there!\n Tuesday\, October 21\, 5pm\n St. Paul City Hall\, 15 W Kellogg Blvd. \n\n\nOrganized by WAMM Palestine Solidarity Committee\n\n\n\n\n	Related
URL:https://womenagainstmilitarymadness.org/events/st-paul-pack-the-room-to-say-no-to-waterfall/
LOCATION:St Paul City Hall\, 15 Kellogg Blvd\, St Paul\, MN\, 55102\, United States
CATEGORIES:Featured Events,Upcoming Events
ATTACH;FMTTYPE=image/webp:https://womenagainstmilitarymadness.org/wp-content/uploads/2025/10/unnamed15.webp
END:VEVENT
BEGIN:VEVENT
DTSTART;TZID=America/Chicago:20250909T170000
DTEND;TZID=America/Chicago:20250909T180000
DTSTAMP:20260423T132818
CREATED:20250905T195720Z
LAST-MODIFIED:20250905T195720Z
UID:10006083-1757437200-1757440800@womenagainstmilitarymadness.org
SUMMARY:Tell the Board of Water Commissioners: CUT THE CONTRACT!
DESCRIPTION:Tuesday\, September 9\, 2025\, 5:00 PM\, St Paul City Hall\, 15 W Kellogg\, St Paul\, MN \n‼️LOCATION CHANGE!‼️ The St. Paul Board of Water Commissioners has moved their meeting location back to City Hall for September. We’ll see you there to demand they DIVEST ST. PAUL FROM GENOCIDE! 🇵🇸 \nFor multiple months they have ignored our attempts to speak at their meetings\, but we have been allotted a slot this month! \nCome pack the room to show them we don’t want our tax dollars invested in Palestinian genocide! \n⏰ Tuesday\, September 9 at 5pm (Gather at 4:45 if able!)\n📍St. Paul City Hall\, 15 W Kellogg. \nOrganized by WAMM + the Cut the Contract with Waterfall Campaign \n\n\n	Related
URL:https://womenagainstmilitarymadness.org/events/tell-the-board-of-water-commissioners-cut-the-contract/
LOCATION:St Paul City Hall\, 15 Kellogg Blvd\, St Paul\, MN\, 55102\, United States
CATEGORIES:Featured Events,Upcoming Events
ATTACH;FMTTYPE=image/webp:https://womenagainstmilitarymadness.org/wp-content/uploads/2025/09/99bc0c70-e183-0870-a54e-365240e59490.webp
END:VEVENT
BEGIN:VEVENT
DTSTART;TZID=America/Chicago:20250822T173000
DTEND;TZID=America/Chicago:20250822T183000
DTSTAMP:20260423T132818
CREATED:20250819T201447Z
LAST-MODIFIED:20250819T201447Z
UID:10006070-1755883800-1755887400@womenagainstmilitarymadness.org
SUMMARY:PSC New Members Meeting
DESCRIPTION:Friday\, August 22\, 5:30 PM\, Twin Cities Friends Meeting\, 1725 Grand Ave\, St Paul\, MN \n  \nJOIN THE PSC (Palestine Solidarity Committee)! \nJoin the Palestine Solidarity Committee at our new members meeting next Friday to get involved & help plan our actions! \n🫶 Dinner provided \nAll are welcome! \n  \nOrganized by WAMM Palestine Solidarity Committee \n\n\n	Related
URL:https://womenagainstmilitarymadness.org/events/psc-new-members-meeting/
LOCATION:Twin Cities Friends Meeting House\, 1725 Grand Ave\, St. Paul\, MN\, 55105\, United States
CATEGORIES:Featured Events,Upcoming Events
ATTACH;FMTTYPE=image/webp:https://womenagainstmilitarymadness.org/wp-content/uploads/2025/08/pscnnm.webp
ORGANIZER;CN="Women Against Military Madness":MAILTO:general@wamm.me
END:VEVENT
BEGIN:VEVENT
DTSTART;TZID=America/Chicago:20250815T160000
DTEND;TZID=America/Chicago:20250815T170000
DTSTAMP:20260423T132818
CREATED:20250731T195913Z
LAST-MODIFIED:20250731T195913Z
UID:10006053-1755273600-1755277200@womenagainstmilitarymadness.org
SUMMARY:Grain Not Genocide! Weekly Free Palestine Rally
DESCRIPTION:Friday\, August 15\, 2025\, 4 -5 PM\, Summit & Snelling Ave intersection\, St Paul\, MN \nAs part of the Anti War Action Network’s week of action starting August 10th\, join the WAMM Weekly Free Palestine Rally on August 15th to demand an end to human-made starvation. National Day of Action to Break Siege in Gaza 🇵🇸 Open Rafah Crossing!\nAbolish the (US-Run) GHF Mercenary Front!\nMoney for human needs NOT war! \nOrganized by AWAN and the WAMM Palestine Solidarity Committee \n\n\n	Related
URL:https://womenagainstmilitarymadness.org/events/grain-not-genocide-weekly-free-palestine-rally/
LOCATION:Corner of Summit & Snelling in St. Paul\, Corner of Summit Ave and Snelling Ave\, St. Paul\, Minneapolis\, MN\, 55407\, United States
CATEGORIES:Featured Events,Sponsored Events,Upcoming Events
ATTACH;FMTTYPE=image/webp:https://womenagainstmilitarymadness.org/wp-content/uploads/2025/07/grainnotgenocide.webp
END:VEVENT
BEGIN:VEVENT
DTSTART;TZID=America/Chicago:20250812T170000
DTEND;TZID=America/Chicago:20250812T180000
DTSTAMP:20260423T132818
CREATED:20250811T173441Z
LAST-MODIFIED:20250811T174520Z
UID:10006060-1755018000-1755021600@womenagainstmilitarymadness.org
SUMMARY:ST PAUL PACK THE ROOM! ‼️
DESCRIPTION:Tuesday\, August 12\, 2025\, 5 PM\, St Paul City Hall\, Room 330\, 15 W Kellogg Blvd\, St Paul MN \n‼️ PACK THE ROOM! ‼️ Tell St. Paul to DIVEST from Israeli apartheid! The St. Paul Board of Water Commissioners has a contract with Israeli cybersecurity firm\, Waterfall Security Solutions.\nPack their next meeting to tell them we don’t want our money invested in genocide! And please call in and tell them of your concern over the phone! 📞\n2 years into this genocide this SHOULD NOT be an issue to debate! \nCall Board of Water Commissioners at 651-266-6350\, extension 7\, and tell them to cut the contract! \nOrganized by WAMM Palestine Solidarity Committee \n\n\n	Related
URL:https://womenagainstmilitarymadness.org/events/st-paul-pack-the-room-%e2%80%bc%ef%b8%8f/
LOCATION:St Paul City Hall\, 15 Kellogg Blvd\, St Paul\, MN\, 55102\, United States
CATEGORIES:Featured Events,Upcoming Events
ATTACH;FMTTYPE=image/webp:https://womenagainstmilitarymadness.org/wp-content/uploads/2025/08/504a45bf-3081-7cfd-61f0-e639b12d0ed2.webp
END:VEVENT
BEGIN:VEVENT
DTSTART;TZID=America/Chicago:20250704T160000
DTEND;TZID=America/Chicago:20250704T170000
DTSTAMP:20260423T132818
CREATED:20250708T173516Z
LAST-MODIFIED:20250708T173516Z
UID:10006026-1751644800-1751648400@womenagainstmilitarymadness.org
SUMMARY:Weekly Free Palestine Rally: NO PRIDE IN GENOCIDE!
DESCRIPTION:Friday\, July 4\, 2025\, 4 – 5 PM\, Snelling & Summit Ave\, St Paul \nTHIS FRIDAY! 🇵🇸🇮🇷People of conscience say: NO FREEDOM IN GENOCIDE! DIVEST MN FROM APARTHEID ISRAEL! \nOn July 4th\, Americans celebrate their freedom from the British. But in 2025 we need to also look at what the US is doing to deprive Palestinians and Iranians their freedoms. Join us to draw attention to the US role in promoting genocide\, starvation\, and death in the Middle East – NOT FREEDOM! \nPart of Anti War Action Network’s call to action @antiwaractionnetwork \n  \nOrganized by Palestine Solidarity Committee \n\n\n	Related
URL:https://womenagainstmilitarymadness.org/events/weekly-free-palestine-rally-no-pride-in-genocide/
LOCATION:Corner of Summit & Snelling in St. Paul\, Corner of Summit Ave and Snelling Ave\, St. Paul\, Minneapolis\, MN\, 55407\, United States
END:VEVENT
BEGIN:VEVENT
DTSTART;TZID=America/Chicago:20250418T160000
DTEND;TZID=America/Chicago:20250418T170000
DTSTAMP:20260423T132818
CREATED:20250417T194532Z
LAST-MODIFIED:20250417T194532Z
UID:10005133-1744992000-1744995600@womenagainstmilitarymadness.org
SUMMARY:Weekly Free Palestine Rally: Palestinian Prisoners Day
DESCRIPTION:Friday\, April 18\, 2025\, 4 – 5 PM\, Summit + Snelling\, St Paul \nJoin us for our Free Palestine rally\, this week recognizing the @antiwaractionnetwork national call to action for Palestinian Prisoner’s Day.\nFREE ALL PALESTINIAN PRISONERS!\nFROM THE RIVER TO THE SEA\, PALESTINE WILL BE FREE! \nPart of the Anti-War Action Network’s call to action. Organized by WAMM’s Palestine Solidarity Committee \n\n\n	Related
URL:https://womenagainstmilitarymadness.org/events/weekly-free-palestine-rally-palestinian-prisoners-day/
LOCATION:Corner of Summit & Snelling in St. Paul\, Corner of Summit Ave and Snelling Ave\, St. Paul\, Minneapolis\, MN\, 55407\, United States
CATEGORIES:Featured Events,Upcoming Events
ATTACH;FMTTYPE=image/webp:https://womenagainstmilitarymadness.org/wp-content/uploads/2025/04/Women-Against-Military-Madness.webp
END:VEVENT
BEGIN:VEVENT
DTSTART;TZID=America/Chicago:20240927T173000
DTEND;TZID=America/Chicago:20240927T193000
DTSTAMP:20260423T132818
CREATED:20240926T194822Z
LAST-MODIFIED:20240926T194822Z
UID:10002872-1727458200-1727465400@womenagainstmilitarymadness.org
SUMMARY:Palestine Solidarity Committee (PSC) Get-Together
DESCRIPTION:Friday\, September 27\, 2024\, 5:30-7:30 PM\, Twin Cities Friends Meeting House\, 1725 Grand Ave\, St Paul\, MN \nPalestine Solidarity Committee meeting this week! \nCome to the next meeting of the WAMM Palestine Solidarity Committee!\nJoin us for our next organizing meeting for new WAMM members and those interested in protesting and getting involved in divestment campaigns for Palestine! Bring ideas and an open mind\, all welcome. Snacks will be provided. 🇵🇸🇵🇸🇵🇸 Organized by WAMM’s Palestine Solidarity Committee \n\n\n	Related
URL:https://womenagainstmilitarymadness.org/events/palestine-solidarity-committee-psc-get-together/
LOCATION:Twin Cities Friends Meeting House\, 1725 Grand Ave\, St. Paul\, MN\, 55105\, United States
CATEGORIES:Featured Events,Upcoming Events
ATTACH;FMTTYPE=image/png:https://womenagainstmilitarymadness.org/wp-content/uploads/2024/09/Screenshot-2024-09-24-at-1.06.45 PM.png
END:VEVENT
END:VCALENDAR