BEGIN:VCALENDAR
VERSION:2.0
PRODID:-//Women Against Military Madness - ECPv6.15.20//NONSGML v1.0//EN
CALSCALE:GREGORIAN
METHOD:PUBLISH
X-ORIGINAL-URL:https://womenagainstmilitarymadness.org
X-WR-CALDESC:Events for Women Against Military Madness
REFRESH-INTERVAL;VALUE=DURATION:PT1H
X-Robots-Tag:noindex
X-PUBLISHED-TTL:PT1H
BEGIN:VTIMEZONE
TZID:America/Chicago
BEGIN:DAYLIGHT
TZOFFSETFROM:-0600
TZOFFSETTO:-0500
TZNAME:CDT
DTSTART:20210314T080000
END:DAYLIGHT
BEGIN:STANDARD
TZOFFSETFROM:-0500
TZOFFSETTO:-0600
TZNAME:CST
DTSTART:20211107T070000
END:STANDARD
BEGIN:DAYLIGHT
TZOFFSETFROM:-0600
TZOFFSETTO:-0500
TZNAME:CDT
DTSTART:20220313T080000
END:DAYLIGHT
BEGIN:STANDARD
TZOFFSETFROM:-0500
TZOFFSETTO:-0600
TZNAME:CST
DTSTART:20221106T070000
END:STANDARD
BEGIN:DAYLIGHT
TZOFFSETFROM:-0600
TZOFFSETTO:-0500
TZNAME:CDT
DTSTART:20230312T080000
END:DAYLIGHT
BEGIN:STANDARD
TZOFFSETFROM:-0500
TZOFFSETTO:-0600
TZNAME:CST
DTSTART:20231105T070000
END:STANDARD
BEGIN:DAYLIGHT
TZOFFSETFROM:-0600
TZOFFSETTO:-0500
TZNAME:CDT
DTSTART:20240310T080000
END:DAYLIGHT
BEGIN:STANDARD
TZOFFSETFROM:-0500
TZOFFSETTO:-0600
TZNAME:CST
DTSTART:20241103T070000
END:STANDARD
BEGIN:DAYLIGHT
TZOFFSETFROM:-0600
TZOFFSETTO:-0500
TZNAME:CDT
DTSTART:20250309T080000
END:DAYLIGHT
BEGIN:STANDARD
TZOFFSETFROM:-0500
TZOFFSETTO:-0600
TZNAME:CST
DTSTART:20251102T070000
END:STANDARD
BEGIN:DAYLIGHT
TZOFFSETFROM:-0600
TZOFFSETTO:-0500
TZNAME:CDT
DTSTART:20260308T080000
END:DAYLIGHT
BEGIN:STANDARD
TZOFFSETFROM:-0500
TZOFFSETTO:-0600
TZNAME:CST
DTSTART:20261101T070000
END:STANDARD
END:VTIMEZONE
BEGIN:VEVENT
DTSTART;TZID=America/Chicago:20250821T183000
DTEND;TZID=America/Chicago:20250821T203000
DTSTAMP:20260423T223550
CREATED:20250815T182226Z
LAST-MODIFIED:20250815T182226Z
UID:10006067-1755801000-1755808200@womenagainstmilitarymadness.org
SUMMARY:Webinar Watch Party: Resisting Political Repression
DESCRIPTION:Webinar Watch Party: Resisting Political RepressionDefending the Anti-War Movement’s Right to Organize!\nThursday\, August 21st @ 6:30 pm @ Lucy Parsons Center\, 4100 S 28th Ave\, MinneapolisTrump has increased repression on the people’s movements. Palestine solidarity activists across the country are fighting for their right to protest against genocide. Come hear about how folks are fighting back and recent victories in defending the right to organize!\n\nSpeakers from:Jess Sundin from the Committee to Stop FBI RepressionMaya Sanchez from New Orleans Stop Helping Israeli PortsConor Cauley from Jacksonville Palestine Solidarity Action NetworkNatalie Rath from U of MN Students for a Democratic SocietyCarlos Montes from Los Angeles CSO and the Committee to Stop FBI Repression MC: Meredith Aby\, Anti War Action Network steering committee and member of MN Anti War Committee\n\nCo-sponsored by MN Anti-War Committee\, U of MN sds\, Anti War Action Network & Committee to Stop FBI Repression\n\n\n	Related
URL:https://womenagainstmilitarymadness.org/events/webinar-watch-party-resisting-political-repression/
LOCATION:Lucy Parsons Center\, 4100 28th Ave S\, Minneapolis\, MN\, 55407\, United States
CATEGORIES:Featured Events,Sponsored Events,Upcoming Events
ATTACH;FMTTYPE=image/webp:https://womenagainstmilitarymadness.org/wp-content/uploads/2025/08/532453987_1230778865757484_4074195227735452993_n.webp
END:VEVENT
BEGIN:VEVENT
DTSTART;TZID=America/Chicago:20250515T150000
DTEND;TZID=America/Chicago:20250515T163000
DTSTAMP:20260423T223550
CREATED:20250513T181530Z
LAST-MODIFIED:20250513T181530Z
UID:10005732-1747321200-1747326600@womenagainstmilitarymadness.org
SUMMARY:The Palestine Exception Screening
DESCRIPTION:Thursday\, May 15\, 2025\, 3:00 – 4:30 PM\, Rapson Hall\, Room 100\, 89 Church Street SE\, Mpls \n🇵🇸🇵🇸🇵🇸Join us on Nakba Day\, this Thursday\, May 15th for a free screening of “The Palestine Exception” at UMN. \n📍Rapson Hall\, Room 100\n89 Church Street SE \n⏰ 3 PM \nAs we prepare for the Nakba March on Saturday\, May 17\, join us on Thursday May 15 to watch the film\, “The Palestine Exception.” Let us not be silent about the ongoing Nakba in Palestine! \nAbout the film: “After years of right-wing assaults on higher education\, attacks took a new form in 2023 and 2024 that has been described as the new McCarthyism. As students across the country organize protests against Israel’s war on Gaza\, decades-long taboos in academia around criticism of Israel–the “Palestine exception”–are shattered. This film features professors and students as they join calls for a ceasefire and divestment from companies that do business with Israel and face waves of crackdown from administrators\, the media\, the police and politicians. Scholars from diverse disciplines explain what is at stake in these protests and why so many young people identify with the Palestinian cause. The documentary unfolds as a story of college campuses as sites of both rebellion and repression\, places where personal and collective histories converge in unexpected ways.“\n#nakba #palestineexception #umn \nSponsored by WAMM\, the Free Palestine Coalition and many more \n\n\n	Related
URL:https://womenagainstmilitarymadness.org/events/the-palestine-exception-screening/
LOCATION:Rapson Hall\, 89 Church Street SE\, Minneapolis\, MN\, 55455\, United States
CATEGORIES:Featured Events,Sponsored Events,Upcoming Events
ATTACH;FMTTYPE=image/png:https://womenagainstmilitarymadness.org/wp-content/uploads/2025/05/Screenshot-2025-05-13-at-1.13.59 PM.png
END:VEVENT
BEGIN:VEVENT
DTSTART;VALUE=DATE:20250417
DTEND;VALUE=DATE:20250418
DTSTAMP:20260423T223550
CREATED:20250417T193136Z
LAST-MODIFIED:20250417T193136Z
UID:10005131-1744848000-1744934399@womenagainstmilitarymadness.org
SUMMARY:National Day of Action for Higher Ed! Palestinian Prisoner's Day
DESCRIPTION:Thursday\, April 17\, 2025 \nFood Drive: 10:30am – 2:30pm — 1721 University Ave SE \nWatch Party: 4-6pm — 130 Murphy Hall \nRally: 7pm — Northrop Mall \nDie-in & Candlelight vigil: 8:15pm \nJoin UMN Educators for Justice in Palestine\, UMN Divest Coalition organizations\, MN Free Palestine Coalition organizations\, and several community organizations on the National Day of Action for Higher Ed to stand up for Palestinian liberation\, immigrant rights\, prison abolition\, and academic freedom. April 17 is also the Palestinian Prisoners’ Day. We join other academic workers\, students\, union members\, and activists within multiple higher education associations and unions\, trade unions\, and others across the U.S. for a coordinated national direct action in protest of the ongoing genocide in Gaza and the escalating repression at home. We believe that the liberal notion of academic freedom divorced from Palestine speech is not freedom! We stand against the neoliberal and colonial logic of higher ed that represses speech and academic freedom in the US and that enables genocide\, carceral tactics\, starvation\, and the long-running destruction of education and historical memory in Gaza and throughout Palestine. Free Palestine! Hands Off Our Students! Dismantle ICE! Stop Suppressing Palestine Speech! Endorsed by WAMM \n\n\n	Related
URL:https://womenagainstmilitarymadness.org/events/national-day-of-action-for-higher-ed-palestinian-prisoners-day/
LOCATION:Northrop Plaza\, 84 Church St SE\, Minneapolis
CATEGORIES:Featured Events,Upcoming Events
ATTACH;FMTTYPE=image/webp:https://womenagainstmilitarymadness.org/wp-content/uploads/2025/04/e1932370-c1e1-5d3f-e536-ca4247a7563d.webp
ORGANIZER;CN="Students for a Democratic Society at UMN":MAILTO:umnsds@gmail.com
END:VEVENT
BEGIN:VEVENT
DTSTART;TZID=America/Chicago:20241218T150000
DTEND;TZID=America/Chicago:20241218T163000
DTSTAMP:20260423T223550
CREATED:20241205T191958Z
LAST-MODIFIED:20241205T191958Z
UID:10003238-1734534000-1734539400@womenagainstmilitarymadness.org
SUMMARY:Drop the Charges! Court Rally for Robyn
DESCRIPTION:Wednesday\, December 18\, 2024\, 3:00 PM\, Hennepin County Government Center\, 300 S 6th Street\, Minneapolis\, MN (downtown across the street from the Hennepin County jail) \n📣 Mark your calendars! 🚨 Let’s show up for beloved WAMM director Robyn as he faces bunk charges for last month’s nonviolent #halimyhall protest. #dropthephonycharges \n\nOrganized by WAMM\, UMN SDS and MNAAC (MN Abortion Action Committee)\n\n\n	Related
URL:https://womenagainstmilitarymadness.org/events/drop-the-charges-court-rally-for-robyn-2/
LOCATION:Hennepin County Government Center
CATEGORIES:Featured Events,Upcoming Events
ATTACH;FMTTYPE=image/png:https://womenagainstmilitarymadness.org/wp-content/uploads/2024/12/Screenshot-2024-12-05-at-1.16.50 PM.png
ORGANIZER;CN="Students for a Democratic Society at UMN":MAILTO:umnsds@gmail.com
END:VEVENT
BEGIN:VEVENT
DTSTART;TZID=America/Chicago:20241107T130000
DTEND;TZID=America/Chicago:20241107T143000
DTSTAMP:20260423T223550
CREATED:20241029T205323Z
LAST-MODIFIED:20241029T205323Z
UID:10002889-1730984400-1730989800@womenagainstmilitarymadness.org
SUMMARY:DROP THE CHARGES! Court Rally for Robyn
DESCRIPTION:Thursday\, November 7\, 2024\, 1:00 PM\, 401 S 4th Ave\, Mpls \n🇵🇸DROP THE CHARGES AGAINST HALIMY HALL PROTESTER ROBYN!🇵🇸 \nJoin us next Thursday\, November 7th at 1 pm outside the Hennepin County District Courthouse to rally in support of Robyn during his arraignment hearing and demand that his bogus charge be dropped! Robyn Harbison is a recent UMN grad\, MNAAC member\, and the director of WAMM\, and is facing a bogus felony charge for assault against a police officer despite never touching a cop (let alone harming one). From UMN to Palestine\, protesting is not a crime! Drop the charges! \n1 PM Thursday\, November 7th\nOutside the Hennepin County Courthouse\n401 S 4th Ave\, Minneapolis \nOrganized by UMN SDS in collaboration with MN Abortion Action Committee + WAMM \n\n\n	Related
URL:https://womenagainstmilitarymadness.org/events/drop-the-charges-court-rally-for-robyn/
LOCATION:Hennepin County Public Safety Facility\, 401 4th Ave S\, Minneapolis\, MN\, 55415\, United States
CATEGORIES:Featured Events,Sponsored Events,Upcoming Events
ATTACH;FMTTYPE=image/jpeg:https://womenagainstmilitarymadness.org/wp-content/uploads/2024/10/IMG_5550.jpg
ORGANIZER;CN="Students for a Democratic Society at UMN":MAILTO:umnsds@gmail.com
END:VEVENT
BEGIN:VEVENT
DTSTART;TZID=America/Chicago:20241021T150000
DTEND;TZID=America/Chicago:20241021T170000
DTSTAMP:20260423T223550
CREATED:20241010T205156Z
LAST-MODIFIED:20241010T205156Z
UID:10002882-1729522800-1729530000@womenagainstmilitarymadness.org
SUMMARY:NO HOMECOMING AS USUAL! UMN DIVEST March
DESCRIPTION:Monday\, October 21\, 2024\, 3:00 pm\, 300 Washington Ave SE \n🇵🇸NO HOCO AS USUAL PROTEST🇵🇸 \nJoin us at 3pm on Monday\, October 21st to protest UMN’s ongoing financial support of Israel and administration’s continued attacks on academic freedom! There are no universities left in Gaza! No hoco as usual during a genocide! \n3 PM Monday\, October 21st\nMarch starting outside Coffman Memorial Union\n300 Washington Ave SE \nOrganized by UMN SDS \n\n\n	Related
URL:https://womenagainstmilitarymadness.org/events/no-homecoming-as-usual-umn-divest-march/
LOCATION:Coffman Student Union\, 300 Washington Ave SE\, Minneapolis\, MN\, 55455\, United States
CATEGORIES:Featured Events,Sponsored Events,Upcoming Events
ATTACH;FMTTYPE=image/png:https://womenagainstmilitarymadness.org/wp-content/uploads/2024/10/Screenshot-2024-10-10-at-3.48.31 PM.png
ORGANIZER;CN="Students for a Democratic Society at UMN":MAILTO:umnsds@gmail.com
END:VEVENT
BEGIN:VEVENT
DTSTART;TZID=America/Chicago:20241017T173000
DTEND;TZID=America/Chicago:20241017T193000
DTSTAMP:20260423T223550
CREATED:20241014T173229Z
LAST-MODIFIED:20241014T173229Z
UID:10002885-1729186200-1729193400@womenagainstmilitarymadness.org
SUMMARY:Healthcare Justice in Palestine
DESCRIPTION:Thursday\, October 17\, 2024\, 5:30 – 7:30 pm\, Rapson Hall room 100\, 89 Church St SE\, Minneapolis\, MN 55455 \nSave the date!!! Join us to learn about healthcare Justice in Palestine from Palestinian and Palestine Solidarity healthcare professionals. \n⏰ October 17\, 5:30-7:30 pm\n📍Rapson Hall\, Room 100. UMN. 89 Church St SE\, Minneapolis\, MN 55455 \nAdvocacy is rooted in literacy. It has never been more important to learn about Palestine\, connect in community\, and then speak up in every space we can. Racist erasure thrives on our ignorance when we are cut off from each other and from knowledge. It thrives on replacing principled resistance with apathy and convincing us to despair. Resist this. \nJoin @ejpumn for an evening of connection in community\, liberatory learning\, and a reminder of our certainty of freedom. We all have a role in striving towards liberation. All of us or none of us. 🇵🇸 \nOrganized by Educators for Justice in Palestine – UMN\, SJP UMN and UMN SDS \n\n\n	Related
URL:https://womenagainstmilitarymadness.org/events/healthcare-justice-in-palestine/
LOCATION:Rapson Hall\, 89 Church Street SE\, Minneapolis\, MN\, 55455\, United States
CATEGORIES:Featured Events,Sponsored Events,Upcoming Events
ATTACH;FMTTYPE=image/jpeg:https://womenagainstmilitarymadness.org/wp-content/uploads/2024/10/744289ef-b45c-8f44-59c1-a81022415f27.jpg
END:VEVENT
BEGIN:VEVENT
DTSTART;TZID=America/Chicago:20240425T170000
DTEND;TZID=America/Chicago:20240425T190000
DTSTAMP:20260423T223550
CREATED:20240425T163502Z
LAST-MODIFIED:20240425T163502Z
UID:10002561-1714064400-1714071600@womenagainstmilitarymadness.org
SUMMARY:Teaching Palestine: A Workshop with Dr. Rabab Abdulhadi
DESCRIPTION:Thursday\, April 25\, 2024\, 5:00 – 7:00 pm\, Online\, register here \nEncampment watch party: McNamera Lawn area \nJoin us for an encampment watch party at the New encampment location— McNamara lawn area. March at 2 pm from Student Union to McNamara. 5 pm: Teaching Palestine workshop. @umnsds @sjpumn \nThank you for your interest in “Teaching Palestine”\, a workshop with Dr. Rabab Abdulhadi. The purpose of this workshop is for Twin Cities faculty and graduate instructors (and non-academic members of the Twin Cities community) to learn about how to teach about Palestine. In particular\, those who may not have taught about Palestine in their classes in the past would benefit from this teach-in. The goal is to learn how to integrate Palestine in our syllabi\, and how to make Palestine a part of university curricula on an ongoing basis\, and not just during the genocide. \nOrganized by UMN SDS and SJP UMN\, Sponsored by WAMM \n\n\n	Related
URL:https://womenagainstmilitarymadness.org/events/teaching-palestine-a-workshop-with-dr-rabab-abdulhadi/
LOCATION:Online Event
CATEGORIES:Featured Events,Sponsored Events,Upcoming Events
ATTACH;FMTTYPE=image/png:https://womenagainstmilitarymadness.org/wp-content/uploads/2024/04/Screenshot-2024-04-25-at-11.25.46 AM.png
ORGANIZER;CN="Students for a Democratic Society at UMN":MAILTO:umnsds@gmail.com
END:VEVENT
BEGIN:VEVENT
DTSTART;TZID=America/Chicago:20240113T100000
DTEND;TZID=America/Chicago:20240114T133000
DTSTAMP:20260423T223550
CREATED:20240112T201741Z
LAST-MODIFIED:20240112T201741Z
UID:10002669-1705140000-1705239000@womenagainstmilitarymadness.org
SUMMARY:Fly a Kite 4 Gaza
DESCRIPTION:Kite Art Build: Saturday\, January 13\, 10:00 am – 1:00 pm\, Public Functionary\, 1500 Jackson St NE Studio 247\nFly a Kite 4 Gaza: Sunday\, January 14\, 12:30 – 1:30 pm\, MN Capitol Lawn\n\nCelebrate International Kite Day honoring the martyrs of Gaza and calling for a free Palestine!!! Kites will be provided at this event where we will chant and hear music as we demand no more US aid to Israel and an end to the Zionist occupation. This event was largely inspired by the poem If I Must Die by Refaat Alareer.\nJoin us the day before to build kites together at Public Functionary to make sure we fill the sky with hundreds of beautiful kites for Gaza.\n\nInitiated by UMN SDS and SJP UMN> Sponsored by WAMM\n\n\n	Related
URL:https://womenagainstmilitarymadness.org/events/fly-a-kite-4-gaza/
LOCATION:Minnesota State Capitol\, 75 Rev. Dr. Martin Luther King\, Jr. Blvd\, St Paul\, MN\, 55155\, United States
CATEGORIES:Featured Events,Sponsored Events,Upcoming Events
ATTACH;FMTTYPE=image/jpeg:https://womenagainstmilitarymadness.org/wp-content/uploads/2024/01/418574214_754172606748474_6278373933132457523_n-copy.jpg
ORGANIZER;CN="Students for a Democratic Society at UMN":MAILTO:umnsds@gmail.com
END:VEVENT
BEGIN:VEVENT
DTSTART;TZID=America/Chicago:20220702T130000
DTEND;TZID=America/Chicago:20220702T143000
DTSTAMP:20260423T223550
CREATED:20220613T151843Z
LAST-MODIFIED:20220630T132009Z
UID:10002277-1656766800-1656772200@womenagainstmilitarymadness.org
SUMMARY:Defend Abortion: March for More Clinics!
DESCRIPTION:Saturday\, July 2\, 2022\, 1:00 PM\n\n\n\n\n\n\n\n\n\n200 SE Oak St in Minneapolis\n\n\n\n\n\n\n\n\n\n8 clinics is not enough! With Minnesota’s new status as the Midwest’s sanctuary state for abortion\, we need more clinics to meet the needs of the people in our state and surrounding! \n\n\nIn 1975\, the University of Minnesota closed its only abortion clinic due to pressure from the state legislature and has not offered these services to the people of Minnesota since. Students for a Democratic Society calls on University administrators to stand with us in the fight for legal abortion and OPEN MORE CLINICS NOW! An abortion clinic at every University of Minnesota campus across the state would greatly increase the capacity of our state to meet the growing needs for these procedures and strengthen our status as a sanctuary state! On campus abortion access would also make reproductive care more accessible to students and staff! March with us to demand more clinics NOW!\n\nThis is a student-led action\, but we welcome the Twin Cities community to join us in the streets! We need more clinics\, more funding for existing clinics\, direct state funding to abortion funds\, an end to state funding of anti-abortion “crisis centers”\, and we need the Democrats to codify Roe now!\n\n\n	Related
URL:https://womenagainstmilitarymadness.org/events/defend-abortion-march-for-more-clinics/
LOCATION:200 SE Oak St in Minneapolis\, 200 SE Oak St\, Minneapolis\, MN\, 55455\, United States
CATEGORIES:Featured Events,Upcoming Events
ATTACH;FMTTYPE=image/jpeg:https://womenagainstmilitarymadness.org/wp-content/uploads/2022/06/Abortion-Rights.jpeg
END:VEVENT
END:VCALENDAR