BEGIN:VCALENDAR
VERSION:2.0
PRODID:-//Women Against Military Madness - ECPv6.15.20//NONSGML v1.0//EN
CALSCALE:GREGORIAN
METHOD:PUBLISH
X-WR-CALNAME:Women Against Military Madness
X-ORIGINAL-URL:https://womenagainstmilitarymadness.org
X-WR-CALDESC:Events for Women Against Military Madness
REFRESH-INTERVAL;VALUE=DURATION:PT1H
X-Robots-Tag:noindex
X-PUBLISHED-TTL:PT1H
BEGIN:VTIMEZONE
TZID:America/Chicago
BEGIN:DAYLIGHT
TZOFFSETFROM:-0600
TZOFFSETTO:-0500
TZNAME:CDT
DTSTART:20210314T080000
END:DAYLIGHT
BEGIN:STANDARD
TZOFFSETFROM:-0500
TZOFFSETTO:-0600
TZNAME:CST
DTSTART:20211107T070000
END:STANDARD
BEGIN:DAYLIGHT
TZOFFSETFROM:-0600
TZOFFSETTO:-0500
TZNAME:CDT
DTSTART:20220313T080000
END:DAYLIGHT
BEGIN:STANDARD
TZOFFSETFROM:-0500
TZOFFSETTO:-0600
TZNAME:CST
DTSTART:20221106T070000
END:STANDARD
BEGIN:DAYLIGHT
TZOFFSETFROM:-0600
TZOFFSETTO:-0500
TZNAME:CDT
DTSTART:20230312T080000
END:DAYLIGHT
BEGIN:STANDARD
TZOFFSETFROM:-0500
TZOFFSETTO:-0600
TZNAME:CST
DTSTART:20231105T070000
END:STANDARD
BEGIN:DAYLIGHT
TZOFFSETFROM:-0600
TZOFFSETTO:-0500
TZNAME:CDT
DTSTART:20240310T080000
END:DAYLIGHT
BEGIN:STANDARD
TZOFFSETFROM:-0500
TZOFFSETTO:-0600
TZNAME:CST
DTSTART:20241103T070000
END:STANDARD
BEGIN:DAYLIGHT
TZOFFSETFROM:-0600
TZOFFSETTO:-0500
TZNAME:CDT
DTSTART:20250309T080000
END:DAYLIGHT
BEGIN:STANDARD
TZOFFSETFROM:-0500
TZOFFSETTO:-0600
TZNAME:CST
DTSTART:20251102T070000
END:STANDARD
BEGIN:DAYLIGHT
TZOFFSETFROM:-0600
TZOFFSETTO:-0500
TZNAME:CDT
DTSTART:20260308T080000
END:DAYLIGHT
BEGIN:STANDARD
TZOFFSETFROM:-0500
TZOFFSETTO:-0600
TZNAME:CST
DTSTART:20261101T070000
END:STANDARD
BEGIN:DAYLIGHT
TZOFFSETFROM:-0600
TZOFFSETTO:-0500
TZNAME:CDT
DTSTART:20270314T080000
END:DAYLIGHT
BEGIN:STANDARD
TZOFFSETFROM:-0500
TZOFFSETTO:-0600
TZNAME:CST
DTSTART:20271107T070000
END:STANDARD
END:VTIMEZONE
BEGIN:VEVENT
DTSTART;TZID=America/Chicago:20260206T170000
DTEND;TZID=America/Chicago:20260206T190000
DTSTAMP:20260423T192730
CREATED:20260206T220943Z
LAST-MODIFIED:20260206T220943Z
UID:10006296-1770397200-1770404400@womenagainstmilitarymadness.org
SUMMARY:Protest— Tell Walz: MN won't sell out for ICE!
DESCRIPTION:Friday\, February 6\, 5 pm\, Governor’s Mansion\, 1006 Summit Ave\, St Paul \n\nPROTEST!!! \nWalz wants to cave to Trump’s demands and give ICE the blessing to terrorize immigrants in Minnesota. We say – hell no! Minnesota has shown again and again that we will fight back until ICE is out of our state and out of every state! \nOrganized by MIRAC\, CAIR\, TCC4J\, WIAOFC\, AWC. Endorsed by WAMM \n\n\n\n\n	Related
URL:https://womenagainstmilitarymadness.org/events/protest-tell-walz-mn-wont-sell-out-for-ice/
LOCATION:Minnesota Governor’s Residence\, 1006 Summit Ave\, St Paul\, Minneapolis\, MN\, United States
CATEGORIES:Featured Events,Upcoming Events
ATTACH;FMTTYPE=image/png:https://womenagainstmilitarymadness.org/wp-content/uploads/2026/02/TellWalz.png
END:VEVENT
BEGIN:VEVENT
DTSTART;TZID=America/Chicago:20260119T120000
DTEND;TZID=America/Chicago:20260119T173000
DTSTAMP:20260423T192730
CREATED:20260114T003906Z
LAST-MODIFIED:20260114T003906Z
UID:10006281-1768824000-1768843800@womenagainstmilitarymadness.org
SUMMARY:MLK Day: Protest Trump's Agenda!
DESCRIPTION:Monday\, January 19\, 12 PM\, Car caravan begins at lot north of Hamline Ave Police Station\, 389 Hamline Ave N\, St Paul\, MN \n\n“If you can’t fly\, then run; if you can’t run\, then walk; if you can’t walk\, then crawl\, but by all means keep moving forward”. Martin Luther King Jr.\nThis powerful message emphasizes perseverance\, adaptability\, and the importance of continuous progress\, even when facing obstacles\, by adjusting your pace but never stopping your forward momentum towards your goals or a better future.\nWE MUST STAY THE COURSE!\n\nIndoor Rally with speakers starts at 1:30PM at 235 Marshall Ave\, St Paul. Concert with food starts at 3:30PM at the same location (St paul College Cafeteria).\n\nOrganized by BLM MN\, TCC4J and MIRAC. Endorsed by WAMM\n\n\n\n	Related
URL:https://womenagainstmilitarymadness.org/events/mlk-day-protest-trumps-agenda/
LOCATION:389 Hamline Ave N\, 389 Hamline Ave N\, St Paul\, MN\, 55104\, United States
CATEGORIES:Featured Events,Upcoming Events
ATTACH;FMTTYPE=image/webp:https://womenagainstmilitarymadness.org/wp-content/uploads/2026/01/MLKday.webp
END:VEVENT
BEGIN:VEVENT
DTSTART;TZID=America/Chicago:20251108T130000
DTEND;TZID=America/Chicago:20251108T160000
DTSTAMP:20260423T192730
CREATED:20251010T035402Z
LAST-MODIFIED:20251015T022444Z
UID:10006110-1762606800-1762617600@womenagainstmilitarymadness.org
SUMMARY:Activist Holiday Craft @ Bake Sale
DESCRIPTION:Saturday\, November 8th\, 1-4pm\, New City Center\, 3104 16th Ave S\, Minneapolis\, MN  \nThe annual Holiday Craft & Bake Sale is back!  \nShop for holiday gifts and baked goods\, all while supporting local progressive organizations! \n Saturday\, Nov 8th\n 1-4pm\nNew City Center (3104 16th Ave S\, Mpls) \n\n\n	Related
URL:https://womenagainstmilitarymadness.org/events/activist-holiday-craft-bake-sale/
LOCATION:New City Center\, 3104 16th Ave So\, Minneapolis\, Minnesota
CATEGORIES:Featured Events,Upcoming Events
ATTACH;FMTTYPE=image/webp:https://womenagainstmilitarymadness.org/wp-content/uploads/2025/10/unnamed8.webp
END:VEVENT
BEGIN:VEVENT
DTSTART;TZID=America/Chicago:20251030T100000
DTEND;TZID=America/Chicago:20251030T143000
DTSTAMP:20260423T192731
CREATED:20251028T234514Z
LAST-MODIFIED:20251028T234514Z
UID:10006119-1761818400-1761834600@womenagainstmilitarymadness.org
SUMMARY:Justice for Mariah! Justice for Allison! Press Conference + Rally
DESCRIPTION:Thursday\, October 30\, 2025\, 12:00 PM\, 300 S 5th Street\, Minneapolis\, Pack the Court at 10 AM and 1:15 PM \nPACK THE COURTS AND PRESS CONFERENCE! \n\nTogether\, with the families of Allison Lussier and Mariah Samuels\, The Twin Cities Coalition for Justice makes the following demands:\n-Accountability from Mpls for failing Allison Lussier’s and Mariah Samuel’s’ cases\n-Full MPD cooperation with the city auditor’s investigation\n-City of Mpls prioritize domestic violence cases\n-Terminate MPD Chief Brian O’Hara\n-Amend the Minneapolis City Charter to establish an all-elected Civilian Police Accountability Commission (CPAC) to have full authority over MPD\n\n\nWe’re calling on everyone who believes in justice to stand with us on October\, 30th at 300 S 5th St\, Minneapolis.\n\n\n 10:00 AM — Chuck Foss’s court hearing\n 12:00 PM — Press Conference\n 1:15 PM — David Wright\, the man responsible for Mariah Samuel’s murder\, appears in court.\n\n\nLet’s show that we will not stand for injustice and that we will always stand for justice.\nOur voices are powerful\, and our strength is in our numbers.\nShow up. Stand up. Be heard. Together\, we make the difference.\n\nOrganized by Twin Cities Coalition for Justice and Indigenous Protectors Movement\, sponsored by WAMM\n\n\n\n	Related
URL:https://womenagainstmilitarymadness.org/events/justice-for-mariah-justice-for-allison-press-conference-rally/
LOCATION:300 S 5th Street\, 300 S 5th Street\, Minneapolis\, MN\, 55415\, United States
CATEGORIES:Featured Events,Upcoming Events
ATTACH;FMTTYPE=image/webp:https://womenagainstmilitarymadness.org/wp-content/uploads/2025/10/JfMJfA.webp
ORGANIZER;CN="Twin Cities Coalition for Justice":MAILTO:TherealTCC4J@gmail.com
END:VEVENT
BEGIN:VEVENT
DTSTART;TZID=America/Chicago:20251025T190000
DTEND;TZID=America/Chicago:20251025T230000
DTSTAMP:20260423T192731
CREATED:20251024T224913Z
LAST-MODIFIED:20251024T224913Z
UID:10006117-1761418800-1761433200@womenagainstmilitarymadness.org
SUMMARY:HALLOWEEN FUNDRAISER AND DANCE PARTY
DESCRIPTION:Saturday\, October 25th\, 7-11 pm\, Lucy Parsons Center\, 4100 S 28th Ave\, Minneapolis \nHalloween party & fundraiser for the amazing folks over at Wrongfully Incarcerated & Over-Sentenced Families Council MN \nCostume contest\, cash bar\, raffle & a spoooooky good time \n\n\n	Related
URL:https://womenagainstmilitarymadness.org/events/halloween-fundraiser-and-dance-party/
LOCATION:Lucy Parsons Center\, 4100 28th Ave S\, Minneapolis\, MN\, 55407\, United States
CATEGORIES:Featured Events,Upcoming Events
ATTACH;FMTTYPE=image/webp:https://womenagainstmilitarymadness.org/wp-content/uploads/2025/10/unnamed2.webp
ORGANIZER;CN="Twin Cities Coalition for Justice":MAILTO:TherealTCC4J@gmail.com
END:VEVENT
BEGIN:VEVENT
DTSTART;TZID=America/Chicago:20250621T140000
DTEND;TZID=America/Chicago:20250621T160000
DTSTAMP:20260423T192731
CREATED:20250606T183330Z
LAST-MODIFIED:20250606T183330Z
UID:10005748-1750514400-1750521600@womenagainstmilitarymadness.org
SUMMARY:Resisting the Raids: Police Violence and Resistance From Stonewall to ICE
DESCRIPTION:Saturday\, June 21\, 2025\, 2 – 4 PM\, New City Center\, 3104 16th Ave S\, Mpls \nJoin us for a special Juneteenth edition of Resisting the Raids: Police Violence and Resistance From Stonewall to ICE \nJoin us for a panel presentation and community discussion on the history of resisting violent police and immigration oppression from queer and immigrant perspectives. Come meet with local organizers and community members as we form connections to continue the fight to keep each other safe! \nOrganized by Taking Back Pride Coalition\, Twin Cities Coalition for Justice (TCC4J) and MN Immigrant Rights Action Committee (MIRAC) \n\n\n	Related
URL:https://womenagainstmilitarymadness.org/events/resisting-the-raids-police-violence-and-resistance-from-stonewall-to-ice/
LOCATION:New City Center\, 3104 16th Ave So\, Minneapolis\, Minnesota
CATEGORIES:Featured Events,Sponsored Events,Upcoming Events
ATTACH;FMTTYPE=image/png:https://womenagainstmilitarymadness.org/wp-content/uploads/2025/06/Screenshot-2025-06-06-at-1.31.24 PM.png
END:VEVENT
BEGIN:VEVENT
DTSTART;VALUE=DATE:20250120
DTEND;VALUE=DATE:20250121
DTSTAMP:20260423T192731
CREATED:20241216T192447Z
LAST-MODIFIED:20241216T192447Z
UID:10003242-1737331200-1737417599@womenagainstmilitarymadness.org
SUMMARY:Twin Cities Inauguration Day Protest
DESCRIPTION:Monday\, January 20\, 2025\, Time & Location TBD \nFight for MLK’s Dream: Resist Trump’s Nightmare!  \nJoin us on MLK Day to protest Trump’s agenda.  \nOrganized by BLM Minnesota\, Twin Cities Coalition for Justice\, and Minnesota Immigrant Rights Action Committee. Sponsored by WAMM (updated details on website and social media). \n\n\n	Related
URL:https://womenagainstmilitarymadness.org/events/twin-cities-inauguration-day-protest/
CATEGORIES:Featured Events,Sponsored Events,Upcoming Events
ATTACH;FMTTYPE=image/jpeg:https://womenagainstmilitarymadness.org/wp-content/uploads/2024/12/3edc4d74-4b02-4745-8b30-4517326e2c90.jpg
END:VEVENT
BEGIN:VEVENT
DTSTART;TZID=America/Chicago:20240912T170000
DTEND;TZID=America/Chicago:20240912T183000
DTSTAMP:20260423T192731
CREATED:20240829T170149Z
LAST-MODIFIED:20240829T170149Z
UID:10002855-1726160400-1726165800@womenagainstmilitarymadness.org
SUMMARY:CPAC Rally + Relaunch Event
DESCRIPTION:Thursday\, September 12\, 2024\, 5:00 pm\, 3000 Minnehaha Ave\, Mpls \n💚CPAC IS BACK!💚 \n⚠️Join us for a press conference for the relaunch of our NEW petition to get an all-elected Civilian Police Accountability Commission (CPAC)! \n🗓️ Thursday\, September 12th\n⏰ 5pm\n📍 3000 Minnehaha Ave (in front of the burnt down 3rd precinct) \n🗣️Oh you thought we were done!? We got news for you\, the fight for community control\, and REAL police accountability won’t stop! Not even after we win! We are in this for the long haul and are under no illusions\, this is a protracted struggle! \nFrom 2021-2024 our dedicated\, all-volunteer petitioners collected over 12k signatures so the people of Minneapolis could vote this November to establish CPAC. We turned in our petition twice\, and were rejected twice for numerous technicalities. \nSince then we have taken the time to regroup\, learn from our mistakes\, plan new strategies\, and strengthen the language of our amendment. 💯 \nWe have already hit the ground running to collect signatures for our new and improved CPAC petition! We are starting from scratch\, so help us get the word out\, if you signed the last CPAC petition you will need to sign again! \n🚨Our calls to action are to show up on September 12th for our press conference\, sign our new CPAC petition\, help us get the word out\, and if you want to get involved in organizing for community control send us a DM! Organized by Twin Cities Coalition for Justice\, endorsed by WAMM \n\n\n	Related
URL:https://womenagainstmilitarymadness.org/events/cpac-rally-relaunch-event/
LOCATION:3000 Minnehaha Ave\, 3000 Minnehaha Ave\, Minneapolis\, MN\, 55406\, United States
CATEGORIES:Featured Events,Sponsored Events,Upcoming Events
ATTACH;FMTTYPE=image/jpeg:https://womenagainstmilitarymadness.org/wp-content/uploads/2024/08/63f46c82-cb39-d5a8-5b8e-19294af15353.jpg
ORGANIZER;CN="Twin Cities Coalition for Justice":MAILTO:TherealTCC4J@gmail.com
END:VEVENT
BEGIN:VEVENT
DTSTART;TZID=America/Chicago:20240113T140000
DTEND;TZID=America/Chicago:20240113T170000
DTSTAMP:20260423T192731
CREATED:20240109T161511Z
LAST-MODIFIED:20240109T161511Z
UID:10002664-1705154400-1705165200@womenagainstmilitarymadness.org
SUMMARY:MLK Solidarity Caravan & Vigil: Fighting for the Dream!
DESCRIPTION:Saturday\, January 13\, 2024\, 2:00 – 5:00 pm\nStart at Western District Police Dept\, 389 Hamline Ave N\, St Paul\, MN \nFollowed by a car caravan to the MN State Capitol\,\n75 MLK Blvd\, St. Paul \nJustice for Marcus Golden murdered by SPPD 8 years ago!\nReparations Now!\nFree Palestine!\nStop Endless Wars!\nNo human is illegal!\nJustice For All stolen lives!\nSolidarity with all oppressed people\nVigil for lives lost to genocide\, war\, police\, and remembering Mel Reeves and Tou Ger Xiong \nOrganized by BLM Minnesota\, the MN Anti-War Committee\, and many others. Sponsored by WAMM \n\n\n	Related
URL:https://womenagainstmilitarymadness.org/events/mlk-solidarity-caravan-vigil-fighting-for-the-dream/
LOCATION:389 Hamline Ave N\, 389 Hamline Ave N\, St Paul\, MN\, 55104\, United States
CATEGORIES:Featured Events,Sponsored Events,Upcoming Events
ATTACH;FMTTYPE=image/jpeg:https://womenagainstmilitarymadness.org/wp-content/uploads/2024/01/416302328_801011528734222_5748865649190956716_n.jpg
ORGANIZER;CN="Twin Cities Coalition for Justice":MAILTO:TherealTCC4J@gmail.com
END:VEVENT
BEGIN:VEVENT
DTSTART;TZID=America/Chicago:20220702T130000
DTEND;TZID=America/Chicago:20220702T143000
DTSTAMP:20260423T192731
CREATED:20220613T151843Z
LAST-MODIFIED:20220630T132009Z
UID:10002277-1656766800-1656772200@womenagainstmilitarymadness.org
SUMMARY:Defend Abortion: March for More Clinics!
DESCRIPTION:Saturday\, July 2\, 2022\, 1:00 PM\n\n\n\n\n\n\n\n\n\n200 SE Oak St in Minneapolis\n\n\n\n\n\n\n\n\n\n8 clinics is not enough! With Minnesota’s new status as the Midwest’s sanctuary state for abortion\, we need more clinics to meet the needs of the people in our state and surrounding! \n\n\nIn 1975\, the University of Minnesota closed its only abortion clinic due to pressure from the state legislature and has not offered these services to the people of Minnesota since. Students for a Democratic Society calls on University administrators to stand with us in the fight for legal abortion and OPEN MORE CLINICS NOW! An abortion clinic at every University of Minnesota campus across the state would greatly increase the capacity of our state to meet the growing needs for these procedures and strengthen our status as a sanctuary state! On campus abortion access would also make reproductive care more accessible to students and staff! March with us to demand more clinics NOW!\n\nThis is a student-led action\, but we welcome the Twin Cities community to join us in the streets! We need more clinics\, more funding for existing clinics\, direct state funding to abortion funds\, an end to state funding of anti-abortion “crisis centers”\, and we need the Democrats to codify Roe now!\n\n\n	Related
URL:https://womenagainstmilitarymadness.org/events/defend-abortion-march-for-more-clinics/
LOCATION:200 SE Oak St in Minneapolis\, 200 SE Oak St\, Minneapolis\, MN\, 55455\, United States
CATEGORIES:Featured Events,Upcoming Events
ATTACH;FMTTYPE=image/jpeg:https://womenagainstmilitarymadness.org/wp-content/uploads/2022/06/Abortion-Rights.jpeg
END:VEVENT
END:VCALENDAR