BEGIN:VCALENDAR
VERSION:2.0
PRODID:-//Women Against Military Madness - ECPv6.15.20//NONSGML v1.0//EN
CALSCALE:GREGORIAN
METHOD:PUBLISH
X-ORIGINAL-URL:https://womenagainstmilitarymadness.org
X-WR-CALDESC:Events for Women Against Military Madness
REFRESH-INTERVAL;VALUE=DURATION:PT1H
X-Robots-Tag:noindex
X-PUBLISHED-TTL:PT1H
BEGIN:VTIMEZONE
TZID:America/Chicago
BEGIN:DAYLIGHT
TZOFFSETFROM:-0600
TZOFFSETTO:-0500
TZNAME:CDT
DTSTART:20220313T080000
END:DAYLIGHT
BEGIN:STANDARD
TZOFFSETFROM:-0500
TZOFFSETTO:-0600
TZNAME:CST
DTSTART:20221106T070000
END:STANDARD
BEGIN:DAYLIGHT
TZOFFSETFROM:-0600
TZOFFSETTO:-0500
TZNAME:CDT
DTSTART:20230312T080000
END:DAYLIGHT
BEGIN:STANDARD
TZOFFSETFROM:-0500
TZOFFSETTO:-0600
TZNAME:CST
DTSTART:20231105T070000
END:STANDARD
BEGIN:DAYLIGHT
TZOFFSETFROM:-0600
TZOFFSETTO:-0500
TZNAME:CDT
DTSTART:20240310T080000
END:DAYLIGHT
BEGIN:STANDARD
TZOFFSETFROM:-0500
TZOFFSETTO:-0600
TZNAME:CST
DTSTART:20241103T070000
END:STANDARD
BEGIN:DAYLIGHT
TZOFFSETFROM:-0600
TZOFFSETTO:-0500
TZNAME:CDT
DTSTART:20250309T080000
END:DAYLIGHT
BEGIN:STANDARD
TZOFFSETFROM:-0500
TZOFFSETTO:-0600
TZNAME:CST
DTSTART:20251102T070000
END:STANDARD
BEGIN:DAYLIGHT
TZOFFSETFROM:-0600
TZOFFSETTO:-0500
TZNAME:CDT
DTSTART:20260308T080000
END:DAYLIGHT
BEGIN:STANDARD
TZOFFSETFROM:-0500
TZOFFSETTO:-0600
TZNAME:CST
DTSTART:20261101T070000
END:STANDARD
END:VTIMEZONE
BEGIN:VEVENT
DTSTART;TZID=America/Chicago:20250923T180000
DTEND;TZID=America/Chicago:20250923T210000
DTSTAMP:20260423T185725
CREATED:20250916T173816Z
LAST-MODIFIED:20250916T173816Z
UID:10006090-1758650400-1758661200@womenagainstmilitarymadness.org
SUMMARY:Women and Nonviolence
DESCRIPTION:Tuesday\, September 23\, 2025\, 6 – 9 PM\, Coeur de Catherine –  Rauenhorst Ballroom\, 2004 Randolph Avenue\, St Catherine University\, St Paul\, MN \nJoin Twin Cities Nonviolent (TCNV) and St. Catherine University for an evening centering our attention and actions on women and nonviolence. In the aftermath of the tragic assassination of Melissa Hortman\, Mark Hortman and their dog Gilbert\, and the attempted assassination of John and Yvette Hoffman\, we gather to hear from our women lawmakers about what we must do to counteract these threats to a peace-filled world. \nInvited: Lt Governor Peggy Flanagan\, Senator Patricia Torres Ray\, Senator Erin Murphy\, Senator Zaynab Mohamed\, Representative Lisa Demuth\, and Representative Ilhan Omar \n(An empty chair will join these women in honor of Representative Melissa Hortman.) \nIntroduction and Welcome by St. Catherine University President \nDr. Marcheta P. Evans \nPre-Registration Required – Free HERE \n6PM to 9PM \nVisit with tabling organizations 6-7:30PM and build community. \nConversation 7:30-9PM. \nLocation on Campus: Rauenhorst Ballroom at Coeur de Catherine \n2004 Randolph Avenue\, St. Paul\, MN 55105 \nOrganized by Twin Cities Nonviolent \n\n\n	Related
URL:https://womenagainstmilitarymadness.org/events/women-and-nonviolence/
LOCATION:2004 Randolph Ave\, 2004 Randolph Avenue\, St Paul\, MN\, 55105\, United States
CATEGORIES:Featured Events,Upcoming Events
ATTACH;FMTTYPE=image/webp:https://womenagainstmilitarymadness.org/wp-content/uploads/2025/09/image-2.webp
END:VEVENT
BEGIN:VEVENT
DTSTART;TZID=America/Chicago:20250921T110000
DTEND;TZID=America/Chicago:20250921T130000
DTSTAMP:20260423T185725
CREATED:20250915T170837Z
LAST-MODIFIED:20250915T170837Z
UID:10006084-1758452400-1758459600@womenagainstmilitarymadness.org
SUMMARY:International Peace Day - Hands Across Mississippi River
DESCRIPTION:Sunday\, September 21\, 2025\, 11 AM – 1 PM\, gather at each end of the Lake Street/Marshall Ave Bridge at 11AM \nRally and March for Nonviolence: first day of the twelve days free from violence\n11 AM: Gathering begins coome one\, come all! \n12 PM: Walking across the briddge \n12:30 PM: Blessing Mississippi with Indigenous singers and drummers – Imnizaska \n1 PM: Gathering completed \nJoin us for twelve days free from violence \nFFI: twincitiesnonviolent.org \nOrganized by Twin Cities Nonviolent\, endorsed by WAMM and MN Alliance of Peacemakers \n\n\n	Related
URL:https://womenagainstmilitarymadness.org/events/international-peace-day-hands-across-mississippi-river/
LOCATION:Lake Street/Marshall Avenue Bridge over the Mississippi River\, 4998-4800 E Lake Street\, Minneapolis\, MN\, 55407\, United States
CATEGORIES:Featured Events,Sponsored Events,Upcoming Events
ATTACH;FMTTYPE=image/webp:https://womenagainstmilitarymadness.org/wp-content/uploads/2025/09/image-1.webp
END:VEVENT
BEGIN:VEVENT
DTSTART;TZID=America/Chicago:20250624T170000
DTEND;TZID=America/Chicago:20250624T213000
DTSTAMP:20260423T185725
CREATED:20250513T162857Z
LAST-MODIFIED:20250513T162857Z
UID:10005728-1750784400-1750800600@womenagainstmilitarymadness.org
SUMMARY:Shall We Gather at the River!
DESCRIPTION:Tuesday\, June 24\, 2025\, 5:00 – 9:30 PM\, Summit Brewing Company\, 910 Montreal Circle\, Saint Paul\, MN 55102 \nJoin us for an evening of breaking down silos and bettering communications with interesting conversations\, great food and beverage and the chance to win fantastic prizes including one $1000 grand prize. This all awaits on Tuesday\, June 24\, 2025 at Summit Brewing in St. Paul. \nWe gather to speed network\, in person\, and share the many works of our wonderful organizations. How many times do you get so many people representing so many incredible nonprofits in one room? \nAmidst wonderfully delicious food and amazing music\, we will share the stories of our peace and justice actions right here in the Twin Cities. \n\n\n\n\nWe at Twin Cities Nonviolent (TCNV) are organizing this summer solstice meetup in prelude to our Twelve Days Free from Violence\, September 21 to October 2\, 2025. This event is a fundraiser for the Twelve Days Free from Violence. There are many groups that wish to join TCNV for this time and we want to support them! \nPlease be generous as you register for June 24\, 2025\, Shall We Gather at the River! \nOrganized by Twin Cities Nonviolent\, sponsored by WAMM \n\n\n\n\n	Related
URL:https://womenagainstmilitarymadness.org/events/shall-we-gather-at-the-river-2/
LOCATION:Summit Brewing\, 910 Montreal Circle\, St Paull\, MN\, 55102\, United States
CATEGORIES:Sponsored Events,Upcoming Events
ATTACH;FMTTYPE=image/webp:https://womenagainstmilitarymadness.org/wp-content/uploads/2025/05/IMG_8326.webp
END:VEVENT
BEGIN:VEVENT
DTSTART;TZID=America/Chicago:20230930T100000
DTEND;TZID=America/Chicago:20230930T120000
DTSTAMP:20260423T185725
CREATED:20230801T171403Z
LAST-MODIFIED:20230919T160250Z
UID:10002545-1696068000-1696075200@womenagainstmilitarymadness.org
SUMMARY:Walk for Peace and Justice
DESCRIPTION:Walk for Peace and Justice and Hands Across Mississippi for Clean Water\, Clean Air and Clean Land\,\, Saturday\, September 30\, 2023.  Schedule below.\n\nWe are calling on all Minnesotans to participate in these inspiring events!\n\nChallenged by our experiences of violence across the Twin Cities in recent years\, Friends for a NonViolent World (FNVW)\, in collaboration with Twin Cities Nonviolent (TCNV) and many other peace and justice groups\, are organizing a Walk for Peace and Justice on September 30\, 2023.\n\nThe walk takes place on Day 10 of Twin Cities Nonviolent annual 12 Days Free from Violence.  Brackett Park in Minneapolis is the kick-off location. We will walk to the Lake Street/Marshall Avenue Peace Bridge for a Hands Across Mississippi: Clean Water\, Clear Air and Clean Land ceremony sponsored by TC Nonviolent and Vote Climate.\n\n\nWAMM’s End Military Madness Against the Earth and Veterans for Peace Chapter 27 will be walking the 1/2 mile walk. PLEASE JOIN US We would like both WAMM and VFP members to JOIN US and ALL walkers for peace and justice ARE WELCOME. WAMM and VFP will take the 1/2 mile walk to the bridge for ceremonies. We will have signs available.\n\nAs you can see on the schedule\, the 1/2 mile walk starts about 11:15. You can come earlier and socialize. The festivities begin with coffee and meet and greet at Brackett Park beginning at 10:00 am. Address: 3800 E.28th St.\, Minneapolis.\n\nTogether we will uplift the vision of a world beyond violence and a culture rooted in nonviolence as we create collaborative communities.\n\nFind out more here: http://fnvw.org/walk4peace\n\nEndorsed by Women Against Military Madness\n\nIn addition these events will be listed on the Peace in Ukraine Coalition website that is asking for  a focus on Peace in Ukraine from September 30 to Oct. 8\, 2023 and is calling for an Immediate Ceasefire with Diplomacy. More information is available about this Global coalition of over 100 groups at PeaceinUkraine.org.  WAMM and Veterans for Peace are both coalition members and cosponsors of Peace in Ukraine.\n\nSchedule:\n10:00 am  Gathering at Brackett Park\, 3800 E. 28th St.. Minneapolis11:15 am  Gather at Brackett Park for walk to Lake Street/Marshall Ave Peace Bridge.\n12:00 Noon  Hands Across Mississippi ceremony on the Peace Bridge\n\nSee you there!\n\n\n	Related
URL:https://womenagainstmilitarymadness.org/events/walk-for-peace-and-justice/
LOCATION:Lake Street/Marshall Avenue Bridge over the Mississippi River\, 4998-4800 E Lake Street\, Minneapolis\, MN\, 55407\, United States
CATEGORIES:Featured Events,Upcoming Events
ATTACH;FMTTYPE=image/jpeg:https://womenagainstmilitarymadness.org/wp-content/uploads/2023/08/Sept-30-Walk-for-Peaace.jpeg
END:VEVENT
BEGIN:VEVENT
DTSTART;TZID=America/Chicago:20230621T170000
DTEND;TZID=America/Chicago:20230621T203000
DTSTAMP:20260423T185725
CREATED:20230612T184309Z
LAST-MODIFIED:20230612T185011Z
UID:10002531-1687366800-1687379400@womenagainstmilitarymadness.org
SUMMARY:Shall We Gather at the River
DESCRIPTION:Shall We Gather at the River\nWednesday\, June 21\, 2023 5 to 8:30 pm\nSummit Brewing\, 910 Montreal Circle in St. Paul \nSpeed Networking event with music\, light dinner and prizes\, including $1000 to one lucky nonprofit and so much more. \nWe gather together on the summer solstice to bring our collective energies to one room\, one place and one time. We know that we have the power to make real change happen. We believe in this change with every cell of our beings. Let’s show up on June 21 for our organizations\, for our community and for the world we know is possible. Let’s have some fund together! \nGo to tiny.cc/8867vz to register. \nSponsored by Twin Cities Nonviolent \n  \n\n\n	Related
URL:https://womenagainstmilitarymadness.org/events/shall-we-gather-at-the-river/
LOCATION:Summit Brewing\, 910 Montreal Circle\, St Paull\, MN\, 55102\, United States
CATEGORIES:Featured Events,Upcoming Events
ATTACH;FMTTYPE=image/png:https://womenagainstmilitarymadness.org/wp-content/uploads/2023/06/Screenshot-2023-06-12-at-1.49.34-PM.png
END:VEVENT
END:VCALENDAR