BEGIN:VCALENDAR
VERSION:2.0
PRODID:-//Women Against Military Madness - ECPv6.15.20//NONSGML v1.0//EN
CALSCALE:GREGORIAN
METHOD:PUBLISH
X-ORIGINAL-URL:https://womenagainstmilitarymadness.org
X-WR-CALDESC:Events for Women Against Military Madness
REFRESH-INTERVAL;VALUE=DURATION:PT1H
X-Robots-Tag:noindex
X-PUBLISHED-TTL:PT1H
BEGIN:VTIMEZONE
TZID:America/Chicago
BEGIN:DAYLIGHT
TZOFFSETFROM:-0600
TZOFFSETTO:-0500
TZNAME:CDT
DTSTART:20230312T080000
END:DAYLIGHT
BEGIN:STANDARD
TZOFFSETFROM:-0500
TZOFFSETTO:-0600
TZNAME:CST
DTSTART:20231105T070000
END:STANDARD
BEGIN:DAYLIGHT
TZOFFSETFROM:-0600
TZOFFSETTO:-0500
TZNAME:CDT
DTSTART:20240310T080000
END:DAYLIGHT
BEGIN:STANDARD
TZOFFSETFROM:-0500
TZOFFSETTO:-0600
TZNAME:CST
DTSTART:20241103T070000
END:STANDARD
BEGIN:DAYLIGHT
TZOFFSETFROM:-0600
TZOFFSETTO:-0500
TZNAME:CDT
DTSTART:20250309T080000
END:DAYLIGHT
BEGIN:STANDARD
TZOFFSETFROM:-0500
TZOFFSETTO:-0600
TZNAME:CST
DTSTART:20251102T070000
END:STANDARD
END:VTIMEZONE
BEGIN:VEVENT
DTSTART;TZID=America/Chicago:20240918T140000
DTEND;TZID=America/Chicago:20240918T160000
DTSTAMP:20260423T235102
CREATED:20240909T165237Z
LAST-MODIFIED:20240909T165237Z
UID:10002863-1726668000-1726675200@womenagainstmilitarymadness.org
SUMMARY:UMN Walk Out\, Rally\, and March
DESCRIPTION:Wednesday\, September 18th. 2 PM Walk out\, 2:30 PM Rally followed by a march\, Northrop Plaza (84 Church Street SE) \n🇵🇸 INAUGURATION WALK OUT\, RALLY\, AND MARCH! 🇵🇸 \nJoin us on Wednesday\, September 18th in protesting the inauguration of UMN President Rebecca Cunningham with a walk out\, rally\, and march! Cunningham has started out her time as president by lying to students and doing everything in her power to block divestment from Israel. Stand with Palestine and reject her inauguration! Students: skip class! Staff: leave work! Faculty: cancel class! \nOrganized by UMN Divest and UMN Educators for Justice in Palestine \n\n\n	Related
URL:https://womenagainstmilitarymadness.org/events/umn-walk-out-rally-and-march/
LOCATION:Northrop Plaza\, 84 Church St SE\, Minneapolis
CATEGORIES:Upcoming Events
ATTACH;FMTTYPE=image/png:https://womenagainstmilitarymadness.org/wp-content/uploads/2024/09/UMN-walkout.png
END:VEVENT
BEGIN:VEVENT
DTSTART;TZID=America/Chicago:20240827T090000
DTEND;TZID=America/Chicago:20240827T090000
DTSTAMP:20260423T235102
CREATED:20240826T174120Z
LAST-MODIFIED:20240826T181916Z
UID:10002850-1724749200-1724749200@womenagainstmilitarymadness.org
SUMMARY:Emergency Rally
DESCRIPTION:Emergency Rally\nTuesday\, August 27\, 2024\, 8:00 am press conference\, 9:00 am emergency rally\, McNamara Plaza\, 200 SE Oak St\, Minneapolis\, MN 55455 \nUMN Divest was made aware that the University of Minnesota Board of Regents would be voting on Regent Mayerons proposed ‘political neutrality’ policy for the University Endowment. This would effectively make the University administration unaccountable for any demands of current and future students for divestment from ANY institution committing war crimes\, human rights violations\, and genocide. This policy proposal is a direct reaction against the student\, staff\, and faculty’s demands of divestment from Israel and any entity complicit in war crimes and human rights violations and shows us once again that administration is always on the side of money. \nJoin UMN Divest outside McNamara at 8:00AM for a press conference and rally to show that the university community does not believe in the neutrality of the endowment and call in to the regents at 612-624-6608 to demand they vote NO to neutrality! \nUMN\, divest from genocide!! \nOrganized by UMN Divest \n\n\n	Related
URL:https://womenagainstmilitarymadness.org/events/28257/
LOCATION:McNamara Plaza\, 200 SE Oak St\, McNamara Plaza\, 200 SE Oak St\, Minneapolis
END:VEVENT
BEGIN:VEVENT
DTSTART;TZID=America/Chicago:20240704T173000
DTEND;TZID=America/Chicago:20240704T203000
DTSTAMP:20260423T235102
CREATED:20240703T152032Z
LAST-MODIFIED:20240703T152032Z
UID:10002820-1720114200-1720125000@womenagainstmilitarymadness.org
SUMMARY:Forget the 4th! Free Palestine!
DESCRIPTION:Thursday\, July 4\, 2024\, 5:30 – 8:30 pm\, East River Flats Park \nJoin UMN Divest for a bbq\, teach in\, games\, and crafts on July 4th from 5:30 PM – 8:30 PM at East River Flats Park (351 E River Parkway) to celebrate resistance to US intervention in Palestine and around the globe. We will have free food for all\, a teach in about US imperialism led by @antiwarmn\, lawn games\, and arts + crafts! Learn more about what UMN Divest has been up to this summer and join us there! Organized by UMN DIVEST Coalition\, sponsored by WAMM (we will have a table there!) \n\n\n	Related
URL:https://womenagainstmilitarymadness.org/events/forget-the-4th-free-palestine/
LOCATION:East River Flats Park\, 351 E River Pkwy\, Minneapolis\, MN\, 55455\, United States
CATEGORIES:Featured Events,Sponsored Events,Upcoming Events
ATTACH;FMTTYPE=image/jpeg:https://womenagainstmilitarymadness.org/wp-content/uploads/2024/07/4th.jpeg
END:VEVENT
BEGIN:VEVENT
DTSTART;TZID=America/Chicago:20240510T073000
DTEND;TZID=America/Chicago:20240510T093000
DTSTAMP:20260423T235102
CREATED:20240507T192417Z
LAST-MODIFIED:20240507T192417Z
UID:10002728-1715326200-1715333400@womenagainstmilitarymadness.org
SUMMARY:PACK THE ROOM AT THE BOR MEETING
DESCRIPTION:Friday\, May 10\, 2024\, 7:30 am\, 200 SE Oak St\, 6th floor of McNamara Alumni Center\, Mpls\, MN\nWe are calling on the University community to come pack the room at the Board of Regents meeting this Friday at 7:30 am at McNamara to support UMN Divest as we present our divestment resolution and to hold administration accountable for their commitments to support divestment! Disclose! Divest! We will not stop! We will not rest! \n7:30 am\nFriday\, May 10th\n6th floor of McNamara Alumni Center\n200 SE Oak St\, MPLS \n#freepalestine #universityofminnesota #universityofminnesotatwincities #divest \nFollow UMN Divest Coalition’s telegram for frequent hourly updates: Click Here: t.me/UMNDIVEST \n\n\n	Related
URL:https://womenagainstmilitarymadness.org/events/pack-the-room-at-the-bor-meeting/
LOCATION:200 SE Oak St in Minneapolis\, 200 SE Oak St\, Minneapolis\, MN\, 55455\, United States
CATEGORIES:Featured Events,Sponsored Events,Upcoming Events
ATTACH;FMTTYPE=image/png:https://womenagainstmilitarymadness.org/wp-content/uploads/2024/05/Screenshot-2024-05-07-at-10.15.49 AM.png
END:VEVENT
BEGIN:VEVENT
DTSTART;TZID=America/Chicago:20240503T170000
DTEND;TZID=America/Chicago:20240503T180000
DTSTAMP:20260423T235102
CREATED:20240503T175834Z
LAST-MODIFIED:20240503T175834Z
UID:10002725-1714755600-1714759200@womenagainstmilitarymadness.org
SUMMARY:UMN Jewish Students Press Conference - JVP
DESCRIPTION:Friday\, May 3\, 2024\, 5:00 pm\, Northrop Plaza\, 84 Church St SE\, Minneapolis\, MN 55455 \nMake sure to support our Jewish siblings tonight (May 3rd)\, at 5PM at Northrop plaza\, to demand the University listen to the full breadth of the Jewish student population. \nJoin members of the UMN Divest Encampment and allies at 5PM in UMN Northrop Plaza for a press conference and solidarity Shabbat uplifting the perspectives of anti-Zionist Jewish students and demanding they be included in conversations with the administration. This event is a collaboration between student leaders and the Twin Cities Chapter of Jewish Voice for Peace. \n\n\n	Related
URL:https://womenagainstmilitarymadness.org/events/umn-jewish-students-press-conference-jvp/
LOCATION:Northrop Auditorium\, 84 Church St SE\, Minneapolis\, MN\, 55455\, United States
CATEGORIES:Featured Events,Sponsored Events,Upcoming Events
ATTACH;FMTTYPE=image/jpeg:https://womenagainstmilitarymadness.org/wp-content/uploads/2024/05/jvp.jpg
END:VEVENT
END:VCALENDAR