BEGIN:VCALENDAR
VERSION:2.0
PRODID:-//Women Against Military Madness - ECPv6.15.20//NONSGML v1.0//EN
CALSCALE:GREGORIAN
METHOD:PUBLISH
X-WR-CALNAME:Women Against Military Madness
X-ORIGINAL-URL:https://womenagainstmilitarymadness.org
X-WR-CALDESC:Events for Women Against Military Madness
REFRESH-INTERVAL;VALUE=DURATION:PT1H
X-Robots-Tag:noindex
X-PUBLISHED-TTL:PT1H
BEGIN:VTIMEZONE
TZID:America/Chicago
BEGIN:DAYLIGHT
TZOFFSETFROM:-0600
TZOFFSETTO:-0500
TZNAME:CDT
DTSTART:20250309T080000
END:DAYLIGHT
BEGIN:STANDARD
TZOFFSETFROM:-0500
TZOFFSETTO:-0600
TZNAME:CST
DTSTART:20251102T070000
END:STANDARD
BEGIN:DAYLIGHT
TZOFFSETFROM:-0600
TZOFFSETTO:-0500
TZNAME:CDT
DTSTART:20260308T080000
END:DAYLIGHT
BEGIN:STANDARD
TZOFFSETFROM:-0500
TZOFFSETTO:-0600
TZNAME:CST
DTSTART:20261101T070000
END:STANDARD
BEGIN:DAYLIGHT
TZOFFSETFROM:-0600
TZOFFSETTO:-0500
TZNAME:CDT
DTSTART:20270314T080000
END:DAYLIGHT
BEGIN:STANDARD
TZOFFSETFROM:-0500
TZOFFSETTO:-0600
TZNAME:CST
DTSTART:20271107T070000
END:STANDARD
END:VTIMEZONE
BEGIN:VEVENT
DTSTART;TZID=America/Chicago:20260425T103000
DTEND;TZID=America/Chicago:20260425T123000
DTSTAMP:20260423T131354
CREATED:20260421T224740Z
LAST-MODIFIED:20260421T224740Z
UID:10006373-1777113000-1777120200@womenagainstmilitarymadness.org
SUMMARY:FAMM IN THE PARK
DESCRIPTION:Saturday\, April 25th @ 10:30 AM | Powderhorn Park – Southeast Playground \nCorner of E 35th St & 15th Ave S \nWear your Keffiyeh\, share snacks\, and meet other kids and families! \n\n\n	Related
URL:https://womenagainstmilitarymadness.org/events/famm-in-the-park-3/
LOCATION:Powderhorn Park\, 3400 15th Ave S\, Minneapolis\, MN\, 55407\, United States
CATEGORIES:Featured Events,Upcoming Events
ATTACH;FMTTYPE=image/webp:https://womenagainstmilitarymadness.org/wp-content/uploads/2026/04/FAMMinthepark.webp
END:VEVENT
BEGIN:VEVENT
DTSTART;TZID=America/Chicago:20260427T160000
DTEND;TZID=America/Chicago:20260427T170000
DTSTAMP:20260423T131354
CREATED:20250627T142945Z
LAST-MODIFIED:20250627T142945Z
UID:10005806-1777305600-1777309200@womenagainstmilitarymadness.org
SUMMARY:Pipeline Blues Vigil
DESCRIPTION: Every Monday 4pm-5pm\, 1006 Summit Ave.\, St. Paul.\n\nWAMM and Veterans For Peace are sponsoring a regular “Stop Line 3!” vigil in solidarity with Water Protectors outside the Governor’s Mansion.\n\nAll are welcome. Bring Signs. Spread the word!\n\nSponsored by Women Against Military Madness\, Climate Justice Committee and Veterans for Peace Chapter 27.\n\n\n	Related
URL:https://womenagainstmilitarymadness.org/events/pipeline-blues-vigil/2026-04-27/
LOCATION:Minnesota Governor’s Residence\, 1006 Summit Ave\, St Paul\, Minneapolis\, MN\, United States
CATEGORIES:Recurring Events
ATTACH;FMTTYPE=image/webp:https://womenagainstmilitarymadness.org/wp-content/uploads/2025/05/WAMM-Favicon.webp
ORGANIZER;CN="Women Against Military Madness":MAILTO:general@wamm.me
END:VEVENT
BEGIN:VEVENT
DTSTART;TZID=America/Chicago:20260606T103000
DTEND;TZID=America/Chicago:20260606T123000
DTSTAMP:20260423T131354
CREATED:20260410T234942Z
LAST-MODIFIED:20260410T234942Z
UID:10006371-1780741800-1780749000@womenagainstmilitarymadness.org
SUMMARY:19TH ANNUAL WALK AGAINST WEAPONS!
DESCRIPTION:Saturday\, June 6th @ 10:30 AM – Langford Park\, St. Paul\, MN \n\nNo War on Iran!\nLockheed Martin out of Saint Paul!\nMoney for Human Needs; Not for War\nFree Palestine!\n\n\n\n	Related
URL:https://womenagainstmilitarymadness.org/events/19th-annual-walk-against-weapons/
LOCATION:Langford Park\, 30 Langford Park\, St Paul\, MN\, 55108\, United States
CATEGORIES:Featured Events,Upcoming Events
ATTACH;FMTTYPE=image/webp:https://womenagainstmilitarymadness.org/wp-content/uploads/2026/04/WalkAgainstWeapons.webp
ORGANIZER;CN="Women Against Military Madness":MAILTO:general@wamm.me
END:VEVENT
END:VCALENDAR