BEGIN:VCALENDAR
VERSION:2.0
PRODID:-//Women Against Military Madness - ECPv6.15.20//NONSGML v1.0//EN
CALSCALE:GREGORIAN
METHOD:PUBLISH
X-WR-CALNAME:Women Against Military Madness
X-ORIGINAL-URL:https://womenagainstmilitarymadness.org
X-WR-CALDESC:Events for Women Against Military Madness
REFRESH-INTERVAL;VALUE=DURATION:PT1H
X-Robots-Tag:noindex
X-PUBLISHED-TTL:PT1H
BEGIN:VTIMEZONE
TZID:America/Chicago
BEGIN:DAYLIGHT
TZOFFSETFROM:-0600
TZOFFSETTO:-0500
TZNAME:CDT
DTSTART:20240310T080000
END:DAYLIGHT
BEGIN:STANDARD
TZOFFSETFROM:-0500
TZOFFSETTO:-0600
TZNAME:CST
DTSTART:20241103T070000
END:STANDARD
BEGIN:DAYLIGHT
TZOFFSETFROM:-0600
TZOFFSETTO:-0500
TZNAME:CDT
DTSTART:20250309T080000
END:DAYLIGHT
BEGIN:STANDARD
TZOFFSETFROM:-0500
TZOFFSETTO:-0600
TZNAME:CST
DTSTART:20251102T070000
END:STANDARD
BEGIN:DAYLIGHT
TZOFFSETFROM:-0600
TZOFFSETTO:-0500
TZNAME:CDT
DTSTART:20260308T080000
END:DAYLIGHT
BEGIN:STANDARD
TZOFFSETFROM:-0500
TZOFFSETTO:-0600
TZNAME:CST
DTSTART:20261101T070000
END:STANDARD
END:VTIMEZONE
BEGIN:VEVENT
DTSTART;TZID=America/Chicago:20251109T150000
DTEND;TZID=America/Chicago:20251109T163000
DTSTAMP:20260423T205504
CREATED:20251106T041644Z
LAST-MODIFIED:20251106T041644Z
UID:10006125-1762700400-1762705800@womenagainstmilitarymadness.org
SUMMARY:Resisting ICE: A Talk with AZ Courts Project
DESCRIPTION:Sunday\, November 9\, 2025\, 3 PM CST\, Online event\, register here \nYoung WILPF US is hosting a powerful conversation you won’t want to miss\n— Resisting ICE: A Talk with the Arizona Courts Project\, happening\nSunday\, November 9th at 1PM PT / 4PM ET on Zoom. \nWe’ll be joined by two incredible movement leaders from the Arizona\nCourts Project\, Jovana Renteria (Justice Director) and Yakeleen Almazán\n(Community Engagement Director) \nTogether\, we’ll dig into how grassroots organizing and court action are\nbeing used to protect undocumented families and push back against ICE’s\nabuses of power. Sign up below and bring a friend. \nhttps://zoom.us/meeting/register/ghheXc5uRSCQETegqv_zMg \nOrganized by Women’s International League for Peace and Freedom – US Section\, endorsed by WAMM \n\n\n	Related
URL:https://womenagainstmilitarymadness.org/events/resisting-ice-a-talk-with-az-courts-project/
LOCATION:Online Event
CATEGORIES:Featured Events,Upcoming Events
ATTACH;FMTTYPE=image/webp:https://womenagainstmilitarymadness.org/wp-content/uploads/2025/11/AZCourts.webp
END:VEVENT
END:VCALENDAR