BEGIN:VCALENDAR
VERSION:2.0
PRODID:-//Women Against Military Madness - ECPv6.15.20//NONSGML v1.0//EN
CALSCALE:GREGORIAN
METHOD:PUBLISH
X-WR-CALNAME:Women Against Military Madness
X-ORIGINAL-URL:https://womenagainstmilitarymadness.org
X-WR-CALDESC:Events for Women Against Military Madness
REFRESH-INTERVAL;VALUE=DURATION:PT1H
X-Robots-Tag:noindex
X-PUBLISHED-TTL:PT1H
BEGIN:VTIMEZONE
TZID:America/Chicago
BEGIN:DAYLIGHT
TZOFFSETFROM:-0600
TZOFFSETTO:-0500
TZNAME:CDT
DTSTART:20230312T080000
END:DAYLIGHT
BEGIN:STANDARD
TZOFFSETFROM:-0500
TZOFFSETTO:-0600
TZNAME:CST
DTSTART:20231105T070000
END:STANDARD
BEGIN:DAYLIGHT
TZOFFSETFROM:-0600
TZOFFSETTO:-0500
TZNAME:CDT
DTSTART:20240310T080000
END:DAYLIGHT
BEGIN:STANDARD
TZOFFSETFROM:-0500
TZOFFSETTO:-0600
TZNAME:CST
DTSTART:20241103T070000
END:STANDARD
BEGIN:DAYLIGHT
TZOFFSETFROM:-0600
TZOFFSETTO:-0500
TZNAME:CDT
DTSTART:20250309T080000
END:DAYLIGHT
BEGIN:STANDARD
TZOFFSETFROM:-0500
TZOFFSETTO:-0600
TZNAME:CST
DTSTART:20251102T070000
END:STANDARD
END:VTIMEZONE
BEGIN:VEVENT
DTSTART;TZID=America/Chicago:20240427T080000
DTEND;TZID=America/Chicago:20240427T120000
DTSTAMP:20260424T013250
CREATED:20240405T175712Z
LAST-MODIFIED:20240405T175712Z
UID:10002716-1714204800-1714219200@womenagainstmilitarymadness.org
SUMMARY:Women's Prison Book Project Pancake Breakfast
DESCRIPTION:Saturday\, April 27\, 2024\, 8:00 am – 12:00 pm\, Walker Church (New City Center)\, 3104 16th Ave S\, MPLS \nJoin WPBP for our annual Pancake Breakfast and Book Sale! On April 27th from 8 AM – 12 PM we’ll be serving up delicious pancakes and welcoming community members to learn more\, shop books\, and share their love of WPBP together. Tickets can be purchased at the event using cash or card. $12 adults / $8 kids. Book sale will take place downstairs with options to shop merch and more. See you there! \n\n\n	Related
URL:https://womenagainstmilitarymadness.org/events/womens-prison-book-project-pancake-breakfast/
LOCATION:New City Center\, 3104 16th Ave So\, Minneapolis\, Minnesota
CATEGORIES:Featured Events,Sponsored Events,Upcoming Events
ATTACH;FMTTYPE=image/jpeg:https://womenagainstmilitarymadness.org/wp-content/uploads/2024/04/434197063_819370133561152_1172184501180001702_n.jpg
END:VEVENT
END:VCALENDAR