BEGIN:VCALENDAR
VERSION:2.0
PRODID:-//Women Against Military Madness - ECPv6.15.20//NONSGML v1.0//EN
CALSCALE:GREGORIAN
METHOD:PUBLISH
X-ORIGINAL-URL:https://womenagainstmilitarymadness.org
X-WR-CALDESC:Events for Women Against Military Madness
REFRESH-INTERVAL;VALUE=DURATION:PT1H
X-Robots-Tag:noindex
X-PUBLISHED-TTL:PT1H
BEGIN:VTIMEZONE
TZID:America/Chicago
BEGIN:DAYLIGHT
TZOFFSETFROM:-0600
TZOFFSETTO:-0500
TZNAME:CDT
DTSTART:20240310T080000
END:DAYLIGHT
BEGIN:STANDARD
TZOFFSETFROM:-0500
TZOFFSETTO:-0600
TZNAME:CST
DTSTART:20241103T070000
END:STANDARD
BEGIN:DAYLIGHT
TZOFFSETFROM:-0600
TZOFFSETTO:-0500
TZNAME:CDT
DTSTART:20250309T080000
END:DAYLIGHT
BEGIN:STANDARD
TZOFFSETFROM:-0500
TZOFFSETTO:-0600
TZNAME:CST
DTSTART:20251102T070000
END:STANDARD
BEGIN:DAYLIGHT
TZOFFSETFROM:-0600
TZOFFSETTO:-0500
TZNAME:CDT
DTSTART:20260308T080000
END:DAYLIGHT
BEGIN:STANDARD
TZOFFSETFROM:-0500
TZOFFSETTO:-0600
TZNAME:CST
DTSTART:20261101T070000
END:STANDARD
BEGIN:DAYLIGHT
TZOFFSETFROM:-0600
TZOFFSETTO:-0500
TZNAME:CDT
DTSTART:20270314T080000
END:DAYLIGHT
BEGIN:STANDARD
TZOFFSETFROM:-0500
TZOFFSETTO:-0600
TZNAME:CST
DTSTART:20271107T070000
END:STANDARD
END:VTIMEZONE
BEGIN:VEVENT
DTSTART;TZID=America/Chicago:20260414T120000
DTEND;TZID=America/Chicago:20260414T140000
DTSTAMP:20260423T143244
CREATED:20260410T002949Z
LAST-MODIFIED:20260410T002949Z
UID:10006365-1776168000-1776175200@womenagainstmilitarymadness.org
SUMMARY:PACK THE ROOM! DUMP WATERFALL
DESCRIPTION:Tuesday\, April 14th @ 12 PM | St. Paul Regional Water Service Building – 1900 Rice St.\, St. Paul\, MN \nJoin us in packing the room for the St. Paul Board of Water Commissioners meeting to tell them to cut the contract with Israeli Cyber Security company Waterfall! \n\n\n	Related
URL:https://womenagainstmilitarymadness.org/events/pack-the-room-dump-waterfall/
LOCATION:1900 Rice St\, 1900 Rice St\, St. Paul\, MN\, United States
CATEGORIES:Featured Events,Upcoming Events
ATTACH;FMTTYPE=image/webp:https://womenagainstmilitarymadness.org/wp-content/uploads/2026/04/DumpWaterfall.webp
ORGANIZER;CN="Women Against Military Madness":MAILTO:general@wamm.me
END:VEVENT
BEGIN:VEVENT
DTSTART;TZID=America/Chicago:20250715T170000
DTEND;TZID=America/Chicago:20250715T170000
DTSTAMP:20260423T143244
CREATED:20250716T172614Z
LAST-MODIFIED:20250716T172614Z
UID:10006039-1752598800-1752598800@womenagainstmilitarymadness.org
SUMMARY:St Paul: Show Up to the Board of Water Commissioners Meeting!
DESCRIPTION:Tuesday\, July 15\, 2025\, 5:00 PM\, 1900 Rice St\, St Paul\, MN \n  \n\n\n‼️ SHOW UP THIS TUESDAY TO DIVEST ST. PAUL FROM ISRAEL ‼️ \nWaterfall Security Solutions is an Israeli company that is in the business of cyber protection. On October 1\, 2024\, the Saint Paul Board of Water Commissioners entered into a contract with Waterfall to protect the computer network of Saint Paul Regional Water Services. The contract is in the amount $74\,000.00. It expires on October 1\, 2025.We are now lobbying Saint Paul elected officials. We simply ask that the contract be allowed to expire. We argue that a strategy of economic isolation was successful in dismantling apartheid in South Africa\, and is applicable to Israel today given its apartheid history and the determination by the International Court of Justice that Israel is plausibly committing genocide against the Palestinian people in Gaza.To date\, we have received no substantive response\, so we are intensifying our campaign to dump Waterfall. Come to 1900 Rice St in St. Paul at 5pm Tuesday to tell the Board of Water Commissioners to dump Waterfall! \n  \nOrganized and endorsed by WAMM\, Veterans for Peace Chapter 27 and MN Peace Action Coalition \n\n\n\n	Related
URL:https://womenagainstmilitarymadness.org/events/st-paul-show-up-to-the-board-of-water-commissioners-meeting/
LOCATION:1900 Rice St\, 1900 Rice St\, St. Paul\, MN\, United States
ATTACH;FMTTYPE=image/webp:https://womenagainstmilitarymadness.org/wp-content/uploads/2025/07/1.webp
ORGANIZER;CN="Women Against Military Madness":MAILTO:general@wamm.me
END:VEVENT
END:VCALENDAR