BEGIN:VCALENDAR
VERSION:2.0
PRODID:-//Women Against Military Madness - ECPv6.15.20//NONSGML v1.0//EN
CALSCALE:GREGORIAN
METHOD:PUBLISH
X-ORIGINAL-URL:https://womenagainstmilitarymadness.org
X-WR-CALDESC:Events for Women Against Military Madness
REFRESH-INTERVAL;VALUE=DURATION:PT1H
X-Robots-Tag:noindex
X-PUBLISHED-TTL:PT1H
BEGIN:VTIMEZONE
TZID:America/Chicago
BEGIN:DAYLIGHT
TZOFFSETFROM:-0600
TZOFFSETTO:-0500
TZNAME:CDT
DTSTART:20230312T080000
END:DAYLIGHT
BEGIN:STANDARD
TZOFFSETFROM:-0500
TZOFFSETTO:-0600
TZNAME:CST
DTSTART:20231105T070000
END:STANDARD
BEGIN:DAYLIGHT
TZOFFSETFROM:-0600
TZOFFSETTO:-0500
TZNAME:CDT
DTSTART:20240310T080000
END:DAYLIGHT
BEGIN:STANDARD
TZOFFSETFROM:-0500
TZOFFSETTO:-0600
TZNAME:CST
DTSTART:20241103T070000
END:STANDARD
BEGIN:DAYLIGHT
TZOFFSETFROM:-0600
TZOFFSETTO:-0500
TZNAME:CDT
DTSTART:20250309T080000
END:DAYLIGHT
BEGIN:STANDARD
TZOFFSETFROM:-0500
TZOFFSETTO:-0600
TZNAME:CST
DTSTART:20251102T070000
END:STANDARD
END:VTIMEZONE
BEGIN:VEVENT
DTSTART;TZID=America/Chicago:20240912T170000
DTEND;TZID=America/Chicago:20240912T183000
DTSTAMP:20260423T193137
CREATED:20240829T170149Z
LAST-MODIFIED:20240829T170149Z
UID:10002855-1726160400-1726165800@womenagainstmilitarymadness.org
SUMMARY:CPAC Rally + Relaunch Event
DESCRIPTION:Thursday\, September 12\, 2024\, 5:00 pm\, 3000 Minnehaha Ave\, Mpls \n💚CPAC IS BACK!💚 \n⚠️Join us for a press conference for the relaunch of our NEW petition to get an all-elected Civilian Police Accountability Commission (CPAC)! \n🗓️ Thursday\, September 12th\n⏰ 5pm\n📍 3000 Minnehaha Ave (in front of the burnt down 3rd precinct) \n🗣️Oh you thought we were done!? We got news for you\, the fight for community control\, and REAL police accountability won’t stop! Not even after we win! We are in this for the long haul and are under no illusions\, this is a protracted struggle! \nFrom 2021-2024 our dedicated\, all-volunteer petitioners collected over 12k signatures so the people of Minneapolis could vote this November to establish CPAC. We turned in our petition twice\, and were rejected twice for numerous technicalities. \nSince then we have taken the time to regroup\, learn from our mistakes\, plan new strategies\, and strengthen the language of our amendment. 💯 \nWe have already hit the ground running to collect signatures for our new and improved CPAC petition! We are starting from scratch\, so help us get the word out\, if you signed the last CPAC petition you will need to sign again! \n🚨Our calls to action are to show up on September 12th for our press conference\, sign our new CPAC petition\, help us get the word out\, and if you want to get involved in organizing for community control send us a DM! Organized by Twin Cities Coalition for Justice\, endorsed by WAMM \n\n\n	Related
URL:https://womenagainstmilitarymadness.org/events/cpac-rally-relaunch-event/
LOCATION:3000 Minnehaha Ave\, 3000 Minnehaha Ave\, Minneapolis\, MN\, 55406\, United States
CATEGORIES:Featured Events,Sponsored Events,Upcoming Events
ATTACH;FMTTYPE=image/jpeg:https://womenagainstmilitarymadness.org/wp-content/uploads/2024/08/63f46c82-cb39-d5a8-5b8e-19294af15353.jpg
ORGANIZER;CN="Twin Cities Coalition for Justice":MAILTO:TherealTCC4J@gmail.com
END:VEVENT
BEGIN:VEVENT
DTSTART;TZID=America/Chicago:20240501T170000
DTEND;TZID=America/Chicago:20240501T183000
DTSTAMP:20260423T193137
CREATED:20240404T190433Z
LAST-MODIFIED:20240404T190433Z
UID:10002714-1714582800-1714588200@womenagainstmilitarymadness.org
SUMMARY:May Day March
DESCRIPTION:International Workers Day! March for immigrant & workers rights!\nWednesday\, May 1\, 2024\nLake Street & Minnehaha Ave\, Minneapolis\n5:00 pm – Rally\, Gather at the Mpls 3rd Precinct\, 3000 Minnehaha Ave\n5:30 pm – March on Lake Street\n\nInitiated by Minnesota Immigrant Rights Action Committee (MIRAC) and MN Workers United\n\nEndorsers (in formation):\nAnti-War Committee\nAsamblea de Derechos Civiles\nCAIR-MN\nClimate Justice Committee\nCTUL\nMinneapolis Federation of Teachers Local 59\nMinnesota Abortion Action Committee (MNAAC)\nStudents for a Democratic Society UMN\nStudents for Justice in Palestine – St Kates\nTCC4J\nWomen Against Military Madness\n\n\n	Related
URL:https://womenagainstmilitarymadness.org/events/may-day-march-2/
LOCATION:3000 Minnehaha Ave\, 3000 Minnehaha Ave\, Minneapolis\, MN\, 55406\, United States
CATEGORIES:Featured Events,Sponsored Events,Upcoming Events
ATTACH;FMTTYPE=image/jpeg:https://womenagainstmilitarymadness.org/wp-content/uploads/2024/04/435379006_807984444692295_2207007900233320488_n.jpg
END:VEVENT
END:VCALENDAR