BEGIN:VCALENDAR
VERSION:2.0
PRODID:-//Women Against Military Madness - ECPv6.15.20//NONSGML v1.0//EN
CALSCALE:GREGORIAN
METHOD:PUBLISH
X-ORIGINAL-URL:https://womenagainstmilitarymadness.org
X-WR-CALDESC:Events for Women Against Military Madness
REFRESH-INTERVAL;VALUE=DURATION:PT1H
X-Robots-Tag:noindex
X-PUBLISHED-TTL:PT1H
BEGIN:VTIMEZONE
TZID:America/Chicago
BEGIN:DAYLIGHT
TZOFFSETFROM:-0600
TZOFFSETTO:-0500
TZNAME:CDT
DTSTART:20210314T080000
END:DAYLIGHT
BEGIN:STANDARD
TZOFFSETFROM:-0500
TZOFFSETTO:-0600
TZNAME:CST
DTSTART:20211107T070000
END:STANDARD
BEGIN:DAYLIGHT
TZOFFSETFROM:-0600
TZOFFSETTO:-0500
TZNAME:CDT
DTSTART:20220313T080000
END:DAYLIGHT
BEGIN:STANDARD
TZOFFSETFROM:-0500
TZOFFSETTO:-0600
TZNAME:CST
DTSTART:20221106T070000
END:STANDARD
BEGIN:DAYLIGHT
TZOFFSETFROM:-0600
TZOFFSETTO:-0500
TZNAME:CDT
DTSTART:20230312T080000
END:DAYLIGHT
BEGIN:STANDARD
TZOFFSETFROM:-0500
TZOFFSETTO:-0600
TZNAME:CST
DTSTART:20231105T070000
END:STANDARD
BEGIN:DAYLIGHT
TZOFFSETFROM:-0600
TZOFFSETTO:-0500
TZNAME:CDT
DTSTART:20240310T080000
END:DAYLIGHT
BEGIN:STANDARD
TZOFFSETFROM:-0500
TZOFFSETTO:-0600
TZNAME:CST
DTSTART:20241103T070000
END:STANDARD
BEGIN:DAYLIGHT
TZOFFSETFROM:-0600
TZOFFSETTO:-0500
TZNAME:CDT
DTSTART:20250309T080000
END:DAYLIGHT
BEGIN:STANDARD
TZOFFSETFROM:-0500
TZOFFSETTO:-0600
TZNAME:CST
DTSTART:20251102T070000
END:STANDARD
BEGIN:DAYLIGHT
TZOFFSETFROM:-0600
TZOFFSETTO:-0500
TZNAME:CDT
DTSTART:20260308T080000
END:DAYLIGHT
BEGIN:STANDARD
TZOFFSETFROM:-0500
TZOFFSETTO:-0600
TZNAME:CST
DTSTART:20261101T070000
END:STANDARD
END:VTIMEZONE
BEGIN:VEVENT
DTSTART;TZID=America/Chicago:20251208T170000
DTEND;TZID=America/Chicago:20251208T180000
DTSTAMP:20260423T193357
CREATED:20251203T193705Z
LAST-MODIFIED:20251203T193705Z
UID:10006136-1765213200-1765216800@womenagainstmilitarymadness.org
SUMMARY:ICE out! Hands off Muslim Immigrants! Rally in Solidarity with our Somali & Afghan Communities!
DESCRIPTION:Monday\, December 8\, 5 PM\, 301 Cedar Ave S\, Minneapolis \nOn Monday\, December 8\, community members and organizations from the MN Free Palestine Coalition will hold a rally to stand in solidarity with our Somali and Afghan communities. Trump has made racist remarks about both communities and has threatened to deport Somali and Afghan immigrants. MPD Chief O’Hara has also made racist remarks about Somali youth. We demand that MN politicians protect our Somali and Afghan communities\, rather than endangering them with racist comments and empty press conferences! We demand an immediate separation ordinance to protect all MN residents from ICE raids! Come out and say no to fascism! No ICE in our cities! No racist attacks on Muslim immigrants! Free Palestine! \nOrganized by the Free Palestine Coalition \n\n\n	Related
URL:https://womenagainstmilitarymadness.org/events/ice-out-hands-off-muslim-immigrants-rally-in-solidarity-with-our-somali-afghan-communities/
LOCATION:301 Cedar Ave S\, Minneapolis\, MN 55454-1030\, 301 Cedar Ave S\, Minneapolis\, MN\, 55454\, United States
CATEGORIES:Featured Events,Upcoming Events
ATTACH;FMTTYPE=image/webp:https://womenagainstmilitarymadness.org/wp-content/uploads/2025/12/HandsOff.webp
END:VEVENT
BEGIN:VEVENT
DTSTART;TZID=America/Chicago:20251019T130000
DTEND;TZID=America/Chicago:20251019T143000
DTSTAMP:20260423T193357
CREATED:20251010T033603Z
LAST-MODIFIED:20251010T033603Z
UID:10006107-1760878800-1760884200@womenagainstmilitarymadness.org
SUMMARY:PROTEST: Shutdown AFRICOM!
DESCRIPTION:PROTEST: Shutdown AFRICOM!\nSunday\, October 19\, 2025\, 1:00 PM\, May Day Plaza\, 301 Cedar Ave\, Minneapolis \nJoin us in the street as we protest Africom (US Africa Command) and the US’s secret wars in Africa as part of 5th International Month of Action Against Africom\, a global campaign started by the @blackallianceforpeace.\nNo more drone strikes!\nNo more U.S. proxy wars!\nNo more U.S. bases on African soil! \nOrganized by Anti War Committee\, endorsed by WAMM \n\n\n	Related
URL:https://womenagainstmilitarymadness.org/events/protest-shutdown-africom/
LOCATION:301 Cedar Ave S\, Minneapolis\, MN 55454-1030\, 301 Cedar Ave S\, Minneapolis\, MN\, 55454\, United States
CATEGORIES:Upcoming Events
ATTACH;FMTTYPE=image/webp:https://womenagainstmilitarymadness.org/wp-content/uploads/2025/10/unnamed12.webp
ORGANIZER;CN="Anti-War Committee":MAILTO:info@antiwarcommittee.org
END:VEVENT
BEGIN:VEVENT
DTSTART;TZID=America/Chicago:20230415T130000
DTEND;TZID=America/Chicago:20230415T140000
DTSTAMP:20260423T193357
CREATED:20230403T190559Z
LAST-MODIFIED:20230404T002937Z
UID:10002447-1681563600-1681567200@womenagainstmilitarymadness.org
SUMMARY:Funds for Human Needs\, Not War!
DESCRIPTION:Funds for Human Needs\, Not War! \nSaturday\, April 15\, 2023\, 1:00 pm\nMayday Plaza\, 301 Cedar Ave in Minneapolis 55454 \nSay No to Endless U.S. Wars:\nRussia\, China\, Ukraine\, Syria\, Iraq\, Somalia —Everywhere!\nSay No to Nuclear War and World War 3!\nANTI-WAR PROTEST\nSaturday\, April 15\, 2023\n1:00 pm\nMayday Plaza\n3rd Street and Cedar Ave\non the West Bank\, Minneapolis\n(301 Cedar Ave South)\n\nSend an anti-war message on Tax Day!\nMinneapolis event initiated by Minnesota Peace Action Coalition.\nFor more information\, 612-827-5364\n\n\n	Related
URL:https://womenagainstmilitarymadness.org/events/funds-for-human-needs-not-war/
LOCATION:301 Cedar Ave S\, Minneapolis\, MN 55454-1030\, 301 Cedar Ave S\, Minneapolis\, MN\, 55454\, United States
CATEGORIES:Featured Events,Upcoming Events
ATTACH;FMTTYPE=image/jpeg:https://womenagainstmilitarymadness.org/wp-content/uploads/2023/04/Rally-2-scaled-1.jpeg
END:VEVENT
BEGIN:VEVENT
DTSTART;TZID=America/Chicago:20230121T130000
DTEND;TZID=America/Chicago:20230121T140000
DTSTAMP:20260423T193357
CREATED:20221215T163147Z
LAST-MODIFIED:20221215T163147Z
UID:10002270-1674306000-1674309600@womenagainstmilitarymadness.org
SUMMARY:Stop US Wars & Militarism!
DESCRIPTION:New Year\, Same Wars:\nStop U.S. Wars & Militarism!\nSaturday\, January 21\, 2023\n1:00 pm Mayday Plaza\n301 Cedar Ave on the West Bank in Minneapolis \nDetails to come \nInitiated by Minnesota Peace Action Coalition. Endorsement list in formation. Call 612-827-5364 for info. \n\n\n	Related
URL:https://womenagainstmilitarymadness.org/events/stop-us-wars-militarism/
LOCATION:301 Cedar Ave S\, Minneapolis\, MN 55454-1030\, 301 Cedar Ave S\, Minneapolis\, MN\, 55454\, United States
CATEGORIES:Featured Events,Upcoming Events
ATTACH;FMTTYPE=image/png:https://womenagainstmilitarymadness.org/wp-content/uploads/2022/12/Screenshot-2022-12-15-at-10.30.45-AM.png
END:VEVENT
BEGIN:VEVENT
DTSTART;TZID=America/Chicago:20221015T130000
DTEND;TZID=America/Chicago:20221015T143000
DTSTAMP:20260423T193357
CREATED:20220923T173841Z
LAST-MODIFIED:20220923T173841Z
UID:10002385-1665838800-1665844200@womenagainstmilitarymadness.org
SUMMARY:Say NO to U.S. Wars!
DESCRIPTION:Say NO to U.S. Wars! \nSaturday\, October 15th at 1:00pm \n301 Cedar Ave S\, Minneapolis\, MN 55454-1030 \nNationally coordinated days of local anti-war protests OCTOBER 15-22\, 2022!\n\nNO U.S. WARS\nStop U.S./NATO proxy war with Russia in Ukraine!\nNo war with China!\nSay NO to the growing danger of Nuclear War!\nEnd endless U.S. wars: Syria\, Iraq\, Somalia\, Afghanistan\, Everywhere!\nNo new wars – Korea\, Iran\, Anywhere!\nNo U.S. aid to the occupation of Palestine – Free Palestine!\nFunds for human needs\, not for war!\n\nSchedule:\n1:00pm Gather at 3rd St. & Cedar Ave. (Mayday Plaza on the West Bank)\n1:45 pm Neighborhood march to make a visible anti-war statement.\n\nInitiated by:\nMinnesota Peace Action Coalition\n\nEndorsed by: Antiwar Advocates of Minnesota CD2\, Anti-War Committee\, Bikers Riding Against Police Brutality\, Climate Justice Committee\, Freedom Road Socialist Organization\, Mayday Books\, Minnesota War Tax Resistance\, Movement for a People’s Democracy – Midwest\, Party for Socialism and Liberation – Minneapolis\, Socialist Action\, Socialist Party USA-Twin Cities Local\, St. Paul Eastside Neighbors for Peace\, Twin Cities Assange Defense\, Twin Cities CPUSA (Communist Party)\, Veterans for Peace Chapter 27\, Welfare Rights Committee\, Women Against Military Madness.\n\nFor more information\, please call 612-827-5364.\n\n\n	Related
URL:https://womenagainstmilitarymadness.org/events/say-no-to-u-s-wars/
LOCATION:301 Cedar Ave S\, Minneapolis\, MN 55454-1030\, 301 Cedar Ave S\, Minneapolis\, MN\, 55454\, United States
CATEGORIES:Featured Events,Sponsored Events,Upcoming Events
ATTACH;FMTTYPE=image/jpeg:https://womenagainstmilitarymadness.org/wp-content/uploads/2022/09/307935769_5480430662036748_399070382178385181_n.jpg
END:VEVENT
END:VCALENDAR