BEGIN:VCALENDAR
VERSION:2.0
PRODID:-//Women Against Military Madness - ECPv6.15.20//NONSGML v1.0//EN
CALSCALE:GREGORIAN
METHOD:PUBLISH
X-WR-CALNAME:Women Against Military Madness
X-ORIGINAL-URL:https://womenagainstmilitarymadness.org
X-WR-CALDESC:Events for Women Against Military Madness
REFRESH-INTERVAL;VALUE=DURATION:PT1H
X-Robots-Tag:noindex
X-PUBLISHED-TTL:PT1H
BEGIN:VTIMEZONE
TZID:America/Chicago
BEGIN:DAYLIGHT
TZOFFSETFROM:-0600
TZOFFSETTO:-0500
TZNAME:CDT
DTSTART:20240310T080000
END:DAYLIGHT
BEGIN:STANDARD
TZOFFSETFROM:-0500
TZOFFSETTO:-0600
TZNAME:CST
DTSTART:20241103T070000
END:STANDARD
BEGIN:DAYLIGHT
TZOFFSETFROM:-0600
TZOFFSETTO:-0500
TZNAME:CDT
DTSTART:20250309T080000
END:DAYLIGHT
BEGIN:STANDARD
TZOFFSETFROM:-0500
TZOFFSETTO:-0600
TZNAME:CST
DTSTART:20251102T070000
END:STANDARD
BEGIN:DAYLIGHT
TZOFFSETFROM:-0600
TZOFFSETTO:-0500
TZNAME:CDT
DTSTART:20260308T080000
END:DAYLIGHT
BEGIN:STANDARD
TZOFFSETFROM:-0500
TZOFFSETTO:-0600
TZNAME:CST
DTSTART:20261101T070000
END:STANDARD
END:VTIMEZONE
BEGIN:VEVENT
DTSTART;TZID=America/Chicago:20250828T170000
DTEND;TZID=America/Chicago:20250828T190000
DTSTAMP:20260425T105003
CREATED:20250813T162702Z
LAST-MODIFIED:20250813T162702Z
UID:10006061-1756400400-1756407600@womenagainstmilitarymadness.org
SUMMARY:Klobuchar: GAZA IS STARVING! Protest
DESCRIPTION:Thursday\, August 28\, 2025\, 5 PM\, Klobuchar’s Office\, 701 4th Ave S\, Minneapolis \nJoin the Minnesota Peace Action Coalition for an upcoming protest in front of the office of Senator Amy Klobuchar to demand an end to US support of Israel’s starvation policies in Gaza! \n📆 Thursday\, August 28th\, 5:00 p.m.\n📌 701 4th Ave S in downtown Minneapolis\n❗ Bring a pot or pan to the protest as a symbol of the starvation in Gaza! \nWe demand:\n-END THE SEIGE!\n-NO MORE AID SITE MASSACRES!\n-AIR DROPS KILL; LET AID TRUCKS IN!\n-ARMS EMBARGO NOW! \nOrganized by MN Peace Action Coalition \n\n\n	Related
URL:https://womenagainstmilitarymadness.org/events/klobuchar-gaza-is-starving-protest/
LOCATION:701 4th Ave S\, 701 4th Ave S\, Minneapolis
ATTACH;FMTTYPE=image/webp:https://womenagainstmilitarymadness.org/wp-content/uploads/2025/08/klobuchar.webp
END:VEVENT
END:VCALENDAR