BEGIN:VCALENDAR
VERSION:2.0
PRODID:-//Women Against Military Madness - ECPv6.15.20//NONSGML v1.0//EN
CALSCALE:GREGORIAN
METHOD:PUBLISH
X-ORIGINAL-URL:https://womenagainstmilitarymadness.org
X-WR-CALDESC:Events for Women Against Military Madness
REFRESH-INTERVAL;VALUE=DURATION:PT1H
X-Robots-Tag:noindex
X-PUBLISHED-TTL:PT1H
BEGIN:VTIMEZONE
TZID:America/Chicago
BEGIN:DAYLIGHT
TZOFFSETFROM:-0600
TZOFFSETTO:-0500
TZNAME:CDT
DTSTART:20240310T080000
END:DAYLIGHT
BEGIN:STANDARD
TZOFFSETFROM:-0500
TZOFFSETTO:-0600
TZNAME:CST
DTSTART:20241103T070000
END:STANDARD
BEGIN:DAYLIGHT
TZOFFSETFROM:-0600
TZOFFSETTO:-0500
TZNAME:CDT
DTSTART:20250309T080000
END:DAYLIGHT
BEGIN:STANDARD
TZOFFSETFROM:-0500
TZOFFSETTO:-0600
TZNAME:CST
DTSTART:20251102T070000
END:STANDARD
BEGIN:DAYLIGHT
TZOFFSETFROM:-0600
TZOFFSETTO:-0500
TZNAME:CDT
DTSTART:20260308T080000
END:DAYLIGHT
BEGIN:STANDARD
TZOFFSETFROM:-0500
TZOFFSETTO:-0600
TZNAME:CST
DTSTART:20261101T070000
END:STANDARD
END:VTIMEZONE
BEGIN:VEVENT
DTSTART;TZID=America/Chicago:20250927T130000
DTEND;TZID=America/Chicago:20250927T153000
DTSTAMP:20260423T192051
CREATED:20250916T022721Z
LAST-MODIFIED:20250916T022721Z
UID:10006088-1758978000-1758987000@womenagainstmilitarymadness.org
SUMMARY:Protest\, Police & You
DESCRIPTION:Saturday\, September 27\, 2025\, 1 – 3:30 PM\, Brooklyn Park Library (Mississippi Room)\, 8500 W Broadway\, Brooklyn Park\, MN \nJoin The People’s Action Coalition Against Trump for a teach-in about the history of police violence and repression. Come learn about the history of police repression and why we must stand against the repression of our movements today.\nWe say End Police Brutality Now! Community Control of the Police Now \nSeptember 27th\, 1-3:30 \nBrooklyn Park Library\, Mississippi Room 8500 Broadway\, Brooklyn Park\, MN \nOrganized by The People’s Action Coalition Against Trump (PACAT) \n\n\n	Related
URL:https://womenagainstmilitarymadness.org/events/protest-police-you/
LOCATION:Brooklyn Park Library\, 8500 W Broadway\, Brooklyn Park\, MN\, 55445\, United States
ATTACH;FMTTYPE=image/webp:https://womenagainstmilitarymadness.org/wp-content/uploads/2025/09/PPU.webp
END:VEVENT
END:VCALENDAR