BEGIN:VCALENDAR
VERSION:2.0
PRODID:-//Women Against Military Madness - ECPv6.15.20//NONSGML v1.0//EN
CALSCALE:GREGORIAN
METHOD:PUBLISH
X-ORIGINAL-URL:https://womenagainstmilitarymadness.org
X-WR-CALDESC:Events for Women Against Military Madness
REFRESH-INTERVAL;VALUE=DURATION:PT1H
X-Robots-Tag:noindex
X-PUBLISHED-TTL:PT1H
BEGIN:VTIMEZONE
TZID:America/Chicago
BEGIN:DAYLIGHT
TZOFFSETFROM:-0600
TZOFFSETTO:-0500
TZNAME:CDT
DTSTART:20230312T080000
END:DAYLIGHT
BEGIN:STANDARD
TZOFFSETFROM:-0500
TZOFFSETTO:-0600
TZNAME:CST
DTSTART:20231105T070000
END:STANDARD
BEGIN:DAYLIGHT
TZOFFSETFROM:-0600
TZOFFSETTO:-0500
TZNAME:CDT
DTSTART:20240310T080000
END:DAYLIGHT
BEGIN:STANDARD
TZOFFSETFROM:-0500
TZOFFSETTO:-0600
TZNAME:CST
DTSTART:20241103T070000
END:STANDARD
BEGIN:DAYLIGHT
TZOFFSETFROM:-0600
TZOFFSETTO:-0500
TZNAME:CDT
DTSTART:20250309T080000
END:DAYLIGHT
BEGIN:STANDARD
TZOFFSETFROM:-0500
TZOFFSETTO:-0600
TZNAME:CST
DTSTART:20251102T070000
END:STANDARD
END:VTIMEZONE
BEGIN:VEVENT
DTSTART;TZID=America/Chicago:20240316T130000
DTEND;TZID=America/Chicago:20240316T143000
DTSTAMP:20260425T052128
CREATED:20240305T181955Z
LAST-MODIFIED:20240305T181955Z
UID:10002694-1710594000-1710599400@womenagainstmilitarymadness.org
SUMMARY:General Dynamics: End Complicity in Genocide!
DESCRIPTION:Saturday\, March 16\, 2024\, 1:00 pm\, 8800 Penn Ave S\, Bloomington\, MN \nGeneral Dynamics is one of the world’s largest weapons companies. According to @afsc_org\, “General Dynamics supplies the Israeli military with a wide variety of weapons\, including various bombs. The company’s technologies are also integrated into Israel’s main weapon systems\, including fighter jets and armored combat vehicles.”General Dynamics’s facility in Bloomington\, MN develops weapons guidance systems as well as what it calls “information dominance” technology. The State of Minnesota has over $30 million in public pension funds invested in General Dynamics.Organized by @mnpeaceaction (MPAC)\, Normandale Students for Palestine\, and @bloomingtonforpalestine \n\n\n	Related
URL:https://womenagainstmilitarymadness.org/events/general-dynamics-end-complicity-in-genocide/
LOCATION:8800 Penn Ave S\, 8800 Penn Ave S\, Bloomington\, MN\, 55431\, United States
CATEGORIES:Featured Events,Sponsored Events,Upcoming Events
ATTACH;FMTTYPE=image/png:https://womenagainstmilitarymadness.org/wp-content/uploads/2024/03/MPAC-316-Gen-Dy-1.png
END:VEVENT
END:VCALENDAR