BEGIN:VCALENDAR
VERSION:2.0
PRODID:-//Women Against Military Madness - ECPv6.15.20//NONSGML v1.0//EN
CALSCALE:GREGORIAN
METHOD:PUBLISH
X-WR-CALNAME:Women Against Military Madness
X-ORIGINAL-URL:https://womenagainstmilitarymadness.org
X-WR-CALDESC:Events for Women Against Military Madness
REFRESH-INTERVAL;VALUE=DURATION:PT1H
X-Robots-Tag:noindex
X-PUBLISHED-TTL:PT1H
BEGIN:VTIMEZONE
TZID:America/Chicago
BEGIN:DAYLIGHT
TZOFFSETFROM:-0600
TZOFFSETTO:-0500
TZNAME:CDT
DTSTART:20210314T080000
END:DAYLIGHT
BEGIN:STANDARD
TZOFFSETFROM:-0500
TZOFFSETTO:-0600
TZNAME:CST
DTSTART:20211107T070000
END:STANDARD
BEGIN:DAYLIGHT
TZOFFSETFROM:-0600
TZOFFSETTO:-0500
TZNAME:CDT
DTSTART:20220313T080000
END:DAYLIGHT
BEGIN:STANDARD
TZOFFSETFROM:-0500
TZOFFSETTO:-0600
TZNAME:CST
DTSTART:20221106T070000
END:STANDARD
BEGIN:DAYLIGHT
TZOFFSETFROM:-0600
TZOFFSETTO:-0500
TZNAME:CDT
DTSTART:20230312T080000
END:DAYLIGHT
BEGIN:STANDARD
TZOFFSETFROM:-0500
TZOFFSETTO:-0600
TZNAME:CST
DTSTART:20231105T070000
END:STANDARD
END:VTIMEZONE
BEGIN:VEVENT
DTSTART;TZID=America/Chicago:20220907T170000
DTEND;TZID=America/Chicago:20220907T190000
DTSTAMP:20260424T043341
CREATED:20220830T142822Z
LAST-MODIFIED:20220830T142822Z
UID:10001867-1662570000-1662577200@womenagainstmilitarymadness.org
SUMMARY:Middle East Peace Now (MEPN) Picnic
DESCRIPTION:Middle East Peace Now (MEPN) Picnic\nWednesday\, September 7\, 2022 5:00 pm\nBeard’s Plaisance Park\n4525 Upton Ave. S.\, Mpls.\, MN 55410\n \nPlease join us for our first annual social gathering!\nWe are hosting a potluck style picnic\nand can’t wait to reconnect with you! \n\nWater and dinnerware + cutlery will be provided. You’re welcome to bring your own beverage as well. There will be a charcoal grill and grill master! \nParking: The entrance to Beard’s Plaisance is on the east side of Upton Ave. S. at 46th Street W\, to the West of Lake Harriet. The park is best approached by driving either North or S on Upton Ave.\, and parking should be available on the neighboring side streets such as W. 46th St. \nWe will also hear from local activist Barry Cohen\, who will share about his recent presentation to The State Board of Investments urging them to divest from Israeli stocks and bonds. \nWe are so excited that MEPN Zoom forums have been very successful during the pandemic\, enabling us to have excellent speakers from around the US and the world. Due to this success\, the MEPN Board has decided to go to all Zoom forums moving forward. \nWe will meet via Zoom for forums and host in-person social gatherings two times a year\, in July and December.\n\nPlease email mepn@mepn.org with any questions!\n\n\n\n	Related
URL:https://womenagainstmilitarymadness.org/events/middle-east-peace-now-mepn-picnic/
LOCATION:Beard’s Plaisance Park\, 4525 Upton Ave. S.\, Minneapolis\, MN\, 55410\, United States
CATEGORIES:Featured Events,Upcoming Events
ATTACH;FMTTYPE=image/png:https://womenagainstmilitarymadness.org/wp-content/uploads/2022/08/MEPN-Picnic.png
END:VEVENT
END:VCALENDAR