BEGIN:VCALENDAR
VERSION:2.0
PRODID:-//Women Against Military Madness - ECPv6.15.20//NONSGML v1.0//EN
CALSCALE:GREGORIAN
METHOD:PUBLISH
X-WR-CALNAME:Women Against Military Madness
X-ORIGINAL-URL:https://womenagainstmilitarymadness.org
X-WR-CALDESC:Events for Women Against Military Madness
REFRESH-INTERVAL;VALUE=DURATION:PT1H
X-Robots-Tag:noindex
X-PUBLISHED-TTL:PT1H
BEGIN:VTIMEZONE
TZID:America/Chicago
BEGIN:DAYLIGHT
TZOFFSETFROM:-0600
TZOFFSETTO:-0500
TZNAME:CDT
DTSTART:20230312T080000
END:DAYLIGHT
BEGIN:STANDARD
TZOFFSETFROM:-0500
TZOFFSETTO:-0600
TZNAME:CST
DTSTART:20231105T070000
END:STANDARD
BEGIN:DAYLIGHT
TZOFFSETFROM:-0600
TZOFFSETTO:-0500
TZNAME:CDT
DTSTART:20240310T080000
END:DAYLIGHT
BEGIN:STANDARD
TZOFFSETFROM:-0500
TZOFFSETTO:-0600
TZNAME:CST
DTSTART:20241103T070000
END:STANDARD
BEGIN:DAYLIGHT
TZOFFSETFROM:-0600
TZOFFSETTO:-0500
TZNAME:CDT
DTSTART:20250309T080000
END:DAYLIGHT
BEGIN:STANDARD
TZOFFSETFROM:-0500
TZOFFSETTO:-0600
TZNAME:CST
DTSTART:20251102T070000
END:STANDARD
END:VTIMEZONE
BEGIN:VEVENT
DTSTART;TZID=America/Chicago:20240511T130000
DTEND;TZID=America/Chicago:20240511T140000
DTSTAMP:20260425T051949
CREATED:20240502T205141Z
LAST-MODIFIED:20240502T205141Z
UID:10002724-1715432400-1715436000@womenagainstmilitarymadness.org
SUMMARY:NJP/I's 11th Annual Nakba commemoration
DESCRIPTION:Saturday\, May 11\, 2024\, 1:00 pm\, Bridge Square\, Northfield\, MN 55057 \nOrganized by Northfielders for Justice in Palestine/Israel \n ~ The Nakba Program ~\nWelcome – Fred Rogers\nGreetings from Ahmed Tharwat of BelAhdan TV– Allison Schmitt\nStory of the Nakba – Fred Rogers   (Brief historical outline based on the book The Ethnic Cleansing of Palestine by Ilan Pappe)\nCeremony of Naming the Palestinian Villages Depopulated and razed in 1948 and 2023-4\nAfter each village name is read a bell will be rung\, then attendees are invited to participate in the placing of Palestinian flags in the locations of the villages marked on the large map.\nMoment of Silence\nTime for Reflections and Comments\nMothers March – For everyone\,  not just mothers or those with mothers\nWalking in solidarity with Palestinian Mothers\, especially those in Gaza who have had to walk many miles in recent months.\nThis walk will begin and end at Bridge Square and last about ½ hour. Bring signs and flags.\n\n\n	Related
URL:https://womenagainstmilitarymadness.org/events/njp-is-11th-annual-nakba-commemoration/
LOCATION:Bridge Square\, Bridge Square\, Northfield\, MN\, 55057\, United States
CATEGORIES:Featured Events,Sponsored Events,Upcoming Events
ATTACH;FMTTYPE=image/jpeg:https://womenagainstmilitarymadness.org/wp-content/uploads/2024/05/thumbnail_Nakba-Poster-2024.jpg
END:VEVENT
END:VCALENDAR