BEGIN:VCALENDAR
VERSION:2.0
PRODID:-//Women Against Military Madness - ECPv6.15.20//NONSGML v1.0//EN
CALSCALE:GREGORIAN
METHOD:PUBLISH
X-ORIGINAL-URL:https://womenagainstmilitarymadness.org
X-WR-CALDESC:Events for Women Against Military Madness
REFRESH-INTERVAL;VALUE=DURATION:PT1H
X-Robots-Tag:noindex
X-PUBLISHED-TTL:PT1H
BEGIN:VTIMEZONE
TZID:America/Chicago
BEGIN:DAYLIGHT
TZOFFSETFROM:-0600
TZOFFSETTO:-0500
TZNAME:CDT
DTSTART:20230312T080000
END:DAYLIGHT
BEGIN:STANDARD
TZOFFSETFROM:-0500
TZOFFSETTO:-0600
TZNAME:CST
DTSTART:20231105T070000
END:STANDARD
BEGIN:DAYLIGHT
TZOFFSETFROM:-0600
TZOFFSETTO:-0500
TZNAME:CDT
DTSTART:20240310T080000
END:DAYLIGHT
BEGIN:STANDARD
TZOFFSETFROM:-0500
TZOFFSETTO:-0600
TZNAME:CST
DTSTART:20241103T070000
END:STANDARD
BEGIN:DAYLIGHT
TZOFFSETFROM:-0600
TZOFFSETTO:-0500
TZNAME:CDT
DTSTART:20250309T080000
END:DAYLIGHT
BEGIN:STANDARD
TZOFFSETFROM:-0500
TZOFFSETTO:-0600
TZNAME:CST
DTSTART:20251102T070000
END:STANDARD
END:VTIMEZONE
BEGIN:VEVENT
DTSTART;TZID=America/Chicago:20241113T170000
DTEND;TZID=America/Chicago:20241113T200000
DTSTAMP:20260424T051341
CREATED:20241108T214635Z
LAST-MODIFIED:20241108T214635Z
UID:10003223-1731517200-1731528000@womenagainstmilitarymadness.org
SUMMARY:Oyate Hotanin 10th Anniversary Celebration
DESCRIPTION:Tuesday\, November 12 – 6:00PM doors\, 7:00PM show\, Bryant Lake Bowl \n$8 advance\, $10 at the door \nSpecial Guests: Richard Moves Camp\, Christopher Harrington \nChange Narrative – Live Storytelling\, Lower Sioux Youth music videos\, Welby June and Buffalo Weavers \nWednesday\, November 13 – 5:00-8:00PM\, Minnesota American Indian Center \nAn Evening with Richard MovesCamp: Lakota View on Climate and Life with Wiping the Tears Ceremony \nFitness and Nutrition & Native Elders Support team \nFREE with registration! For more info on both events\, tickets and registration links go to https://oyatehotanin.org/ \n\n\n	Related
URL:https://womenagainstmilitarymadness.org/events/oyate-hotanin-10th-anniversary-celebration/2024-11-13/
LOCATION:Bryant Lake Bowl\, 810 W Lake St\, Minneapolis\, MN\, 55408\, United States
CATEGORIES:Featured Events,Sponsored Events,Upcoming Events
ATTACH;FMTTYPE=image/jpeg:https://womenagainstmilitarymadness.org/wp-content/uploads/2024/11/imagejpeg_0006.jpg
END:VEVENT
END:VCALENDAR