BEGIN:VCALENDAR
VERSION:2.0
PRODID:-//Women Against Military Madness - ECPv6.15.20//NONSGML v1.0//EN
CALSCALE:GREGORIAN
METHOD:PUBLISH
X-WR-CALNAME:Women Against Military Madness
X-ORIGINAL-URL:https://womenagainstmilitarymadness.org
X-WR-CALDESC:Events for Women Against Military Madness
REFRESH-INTERVAL;VALUE=DURATION:PT1H
X-Robots-Tag:noindex
X-PUBLISHED-TTL:PT1H
BEGIN:VTIMEZONE
TZID:America/Chicago
BEGIN:DAYLIGHT
TZOFFSETFROM:-0600
TZOFFSETTO:-0500
TZNAME:CDT
DTSTART:20220313T080000
END:DAYLIGHT
BEGIN:STANDARD
TZOFFSETFROM:-0500
TZOFFSETTO:-0600
TZNAME:CST
DTSTART:20221106T070000
END:STANDARD
BEGIN:DAYLIGHT
TZOFFSETFROM:-0600
TZOFFSETTO:-0500
TZNAME:CDT
DTSTART:20230312T080000
END:DAYLIGHT
BEGIN:STANDARD
TZOFFSETFROM:-0500
TZOFFSETTO:-0600
TZNAME:CST
DTSTART:20231105T070000
END:STANDARD
BEGIN:DAYLIGHT
TZOFFSETFROM:-0600
TZOFFSETTO:-0500
TZNAME:CDT
DTSTART:20240310T080000
END:DAYLIGHT
BEGIN:STANDARD
TZOFFSETFROM:-0500
TZOFFSETTO:-0600
TZNAME:CST
DTSTART:20241103T070000
END:STANDARD
BEGIN:DAYLIGHT
TZOFFSETFROM:-0600
TZOFFSETTO:-0500
TZNAME:CDT
DTSTART:20250309T080000
END:DAYLIGHT
BEGIN:STANDARD
TZOFFSETFROM:-0500
TZOFFSETTO:-0600
TZNAME:CST
DTSTART:20251102T070000
END:STANDARD
END:VTIMEZONE
BEGIN:VEVENT
DTSTART;TZID=America/Chicago:20240422T130000
DTEND;TZID=America/Chicago:20240422T150000
DTSTAMP:20260424T013651
CREATED:20240417T185957Z
LAST-MODIFIED:20240417T185957Z
UID:10002548-1713790800-1713798000@womenagainstmilitarymadness.org
SUMMARY:Earth Day Rally
DESCRIPTION:Earth Day Rally\nMonday\, April 22\, 2024\,  1:00 – 3:00 pm\, Ford Parkway & Cleveland in Highland Park\, St. Paul\nSponsored by Veterans For Peace chapter 27 \nStop the Wars! Save the Earth! \n\n\n	Related
URL:https://womenagainstmilitarymadness.org/events/earth-day-rally/
LOCATION:Cleveland Avenue South and Ford Parkway\, Cleveland Avenue South and Ford Parkway\, St Paul\, 55116\, United States
CATEGORIES:Featured Events,Sponsored Events,Upcoming Events
ATTACH;FMTTYPE=image/jpeg:https://womenagainstmilitarymadness.org/wp-content/uploads/2024/04/6cd4bea5-7ab0-fa31-15e4-272e8ff81867.jpg
ORGANIZER;CN="Veterans For Peace Chapter 27":MAILTO:vfpchapter27@gmail.com
END:VEVENT
BEGIN:VEVENT
DTSTART;TZID=America/Chicago:20230524T120000
DTEND;TZID=America/Chicago:20230524T140000
DTSTAMP:20260424T013651
CREATED:20230515T203028Z
LAST-MODIFIED:20230515T203028Z
UID:10002526-1684929600-1684936800@womenagainstmilitarymadness.org
SUMMARY:Peace in Ukraine Bannering
DESCRIPTION:JOIN US FOR BANNERING\nWEDNESDAY\, MAY 24\, 2023 12 NOON to 2:00 P.M.\nSt. Paul Highland\, Cleveland Avenue and Ford Parkway in St. Paul\n\nJoin us as we build a massive\, unified response with peace-loving people around the world to say No to War in Ukraine; Yes to Negotiations & peace. Tell Biden\, Putin & Zelensky to end the war in Ukraine!\n\nMultiple national anti-war groups are publishing an ad in “The Hill” asking congresspeople to End the War in Ukraine on Wednesday\, May 24\, 2023. These local events are in support of that effort.\n\nIT’S TIME TO STOP THE KILLING AND DEVASTATION. CEASEFIRE & PEACE NEGOTIATIONS NOW!\nSIGN THE PETITION: https://www.codepink.org/notoww3\n\nSponsored by Veterans for Peace Chapter 27 and Women Against Military Madness FFI: WomenAgainstMilitaryMadness.org 612-827-5364\n\n\n	Related
URL:https://womenagainstmilitarymadness.org/events/peace-in-ukraine-bannering/
LOCATION:Cleveland Avenue South and Ford Parkway\, Cleveland Avenue South and Ford Parkway\, St Paul\, 55116\, United States
CATEGORIES:Featured Events,Upcoming Events
ATTACH;FMTTYPE=image/png:https://womenagainstmilitarymadness.org/wp-content/uploads/2023/05/Screenshot-2023-05-15-at-3.12.54-PM.png
ORGANIZER;CN="Women Against Military Madness":MAILTO:general@wamm.me
END:VEVENT
BEGIN:VEVENT
DTSTART;TZID=America/Chicago:20230422T130000
DTEND;TZID=America/Chicago:20230422T150000
DTSTAMP:20260424T013651
CREATED:20230404T013627Z
LAST-MODIFIED:20230404T013627Z
UID:10002449-1682168400-1682175600@womenagainstmilitarymadness.org
SUMMARY:Militarism Fuels the Climate Crisis
DESCRIPTION:‘Militarism Fuels the Climate Crisis’ Earth Day Event \nSaturday\, April 22\, 2023\, 1-3 pm\nCleveland and Ford Parkway in St. Paul \nJoin Veterans For Peace and the Peace Bus with bannering and signs making the connection between militarism and the climate crisis.\nReceive a peace button and greet autos and pedestrians with an Earth Day message. There is no Planet B! \nCo-sponsored by the End Military Madness Against the Earth action group of Women Against Military Madness.\nFFI: 612-827-5364 \n  \n\n\n	Related
URL:https://womenagainstmilitarymadness.org/events/militarism-fuels-the-climate-crisis/
LOCATION:Cleveland Avenue South and Ford Parkway\, Cleveland Avenue South and Ford Parkway\, St Paul\, 55116\, United States
CATEGORIES:Featured Events,Upcoming Events
ATTACH;FMTTYPE=image/png:https://womenagainstmilitarymadness.org/wp-content/uploads/2023/04/CCMP_-_Militarism_Fuels_Climate_Crisis_Slider_1.png
END:VEVENT
END:VCALENDAR