BEGIN:VCALENDAR
VERSION:2.0
PRODID:-//Women Against Military Madness - ECPv6.15.20//NONSGML v1.0//EN
CALSCALE:GREGORIAN
METHOD:PUBLISH
X-ORIGINAL-URL:https://womenagainstmilitarymadness.org
X-WR-CALDESC:Events for Women Against Military Madness
REFRESH-INTERVAL;VALUE=DURATION:PT1H
X-Robots-Tag:noindex
X-PUBLISHED-TTL:PT1H
BEGIN:VTIMEZONE
TZID:America/Chicago
BEGIN:DAYLIGHT
TZOFFSETFROM:-0600
TZOFFSETTO:-0500
TZNAME:CDT
DTSTART:20220313T080000
END:DAYLIGHT
BEGIN:STANDARD
TZOFFSETFROM:-0500
TZOFFSETTO:-0600
TZNAME:CST
DTSTART:20221106T070000
END:STANDARD
BEGIN:DAYLIGHT
TZOFFSETFROM:-0600
TZOFFSETTO:-0500
TZNAME:CDT
DTSTART:20230312T080000
END:DAYLIGHT
BEGIN:STANDARD
TZOFFSETFROM:-0500
TZOFFSETTO:-0600
TZNAME:CST
DTSTART:20231105T070000
END:STANDARD
BEGIN:DAYLIGHT
TZOFFSETFROM:-0600
TZOFFSETTO:-0500
TZNAME:CDT
DTSTART:20240310T080000
END:DAYLIGHT
BEGIN:STANDARD
TZOFFSETFROM:-0500
TZOFFSETTO:-0600
TZNAME:CST
DTSTART:20241103T070000
END:STANDARD
BEGIN:DAYLIGHT
TZOFFSETFROM:-0600
TZOFFSETTO:-0500
TZNAME:CDT
DTSTART:20250309T080000
END:DAYLIGHT
BEGIN:STANDARD
TZOFFSETFROM:-0500
TZOFFSETTO:-0600
TZNAME:CST
DTSTART:20251102T070000
END:STANDARD
END:VTIMEZONE
BEGIN:VEVENT
DTSTART;TZID=America/Chicago:20240421T130000
DTEND;TZID=America/Chicago:20240421T150000
DTSTAMP:20260424T020708
CREATED:20240417T174425Z
LAST-MODIFIED:20240417T174425Z
UID:10002718-1713704400-1713711600@womenagainstmilitarymadness.org
SUMMARY:Earth Day - From Little Earth to Palestine: Rally & March
DESCRIPTION:EARTH DAY RALLY AND MARCH\, 4/21: From Little Earth to Palestine! 📣🇵🇸 Fight back against environmental racism! Divest MN from apartheid Israel! Shut down Smith Foundry! No greenwashing genocide! More info below 👇 \n🗓️Sunday April 21st\n⏰1:00PM\n📍Smith Foundry (28th and Longfellow Ave\, MPLS) \nHOW ISRAEL USES GREENWASHING: \nGreenwashing: the act of framing one’s actions or policies as environmentally friendly — “green” — as a means of concealing some other harm. \nGreenwashing is a tactic used by settler colonies that attempts to deceivingly characterize the genocidal and intrinsically capitalistic annexations of land by occupation forces as “environmentally progressive”. \nIsrael’s exploitation of Palestinian land and resources has locked Palestine into a captive market\, effectively creating an economic relationship rooted in manufactured dependence and cyclical debt. \nThis is especially prevalent in the energy sector in Palestine where Gazans have two sources of electricity: the frequently bombed Gaza Power Plant which depends on fuel—a resource that Israel has substantially restricted access to due to its “dual purpose” categorization—and the Israel Electric Corporation (IEC). \nIsraeli green energy corporations like SolarEdge build solar fields on stolen and illegally occupied Palestinian land to sell to the IEC. Palestinians are forced to depend on Israel for access to their own resources and the global West is deceived into believing that renewable energy sources are being developed from a place of ethical benevolence. \nThe systemic dispossession and exploitation of Palestinian land with resources deemed profitable for the occupation’s endeavors contributes to the de-development of Palestine—worsening conditions for Palestinians and making it increasingly difficult for Palestinians to achieve sovereignty under Israel’s apartheid regime. \nInitiated by Climate Justice Committee and Anti-War Committee. Endorsed by the Free Palestine Coalition\, EPNI\, WAMM\, and others. \n\n\n	Related
URL:https://womenagainstmilitarymadness.org/events/earth-day-from-little-earth-to-palestine-rally-march/
LOCATION:East 28th Street and Longfellow Avenue\, 2199 East 28th Street\, Minneapolis\, MN\, 55407\, United States
CATEGORIES:Featured Events,Sponsored Events,Upcoming Events
ATTACH;FMTTYPE=image/jpeg:https://womenagainstmilitarymadness.org/wp-content/uploads/2024/04/unnamed.jpg
END:VEVENT
BEGIN:VEVENT
DTSTART;TZID=America/Chicago:20230709T130000
DTEND;TZID=America/Chicago:20230709T140000
DTSTAMP:20260424T020708
CREATED:20230629T193348Z
LAST-MODIFIED:20230629T193348Z
UID:10002392-1688907600-1688911200@womenagainstmilitarymadness.org
SUMMARY:Stop Polluting East Phillips
DESCRIPTION:Stop Polluting East Phillips – Campaign Kick Off!\nSmith Foundry & Bituminous Roadways Don’t Belong in the Neighborhoods!\nSunday\, July 9\, 2023 1:00 pm\n28th and Longfellow in Minneapolis \nThe fight to #DefendEastPhillips isn’t over! First we won the depot\, now we’re gonna win this: get Bituminous & Smith out of the neighborhood and into a non-residential area! No chance they’d have ever even been allowed in a richer\, whiter neighborhood like Kenwood. Fight for the air we breathe! \nSponsored by the Climate Justice Committee \n  \n  \n\n\n	Related
URL:https://womenagainstmilitarymadness.org/events/stop-polluting-east-phillips/
LOCATION:East 28th Street and Longfellow Avenue\, 2199 East 28th Street\, Minneapolis\, MN\, 55407\, United States
CATEGORIES:Featured Events,Upcoming Events
ATTACH;FMTTYPE=image/jpeg:https://womenagainstmilitarymadness.org/wp-content/uploads/2023/06/StopPolluting.jpeg
END:VEVENT
END:VCALENDAR