BEGIN:VCALENDAR
VERSION:2.0
PRODID:-//Women Against Military Madness - ECPv6.15.20//NONSGML v1.0//EN
CALSCALE:GREGORIAN
METHOD:PUBLISH
X-ORIGINAL-URL:https://womenagainstmilitarymadness.org
X-WR-CALDESC:Events for Women Against Military Madness
REFRESH-INTERVAL;VALUE=DURATION:PT1H
X-Robots-Tag:noindex
X-PUBLISHED-TTL:PT1H
BEGIN:VTIMEZONE
TZID:America/Chicago
BEGIN:DAYLIGHT
TZOFFSETFROM:-0600
TZOFFSETTO:-0500
TZNAME:CDT
DTSTART:20210314T080000
END:DAYLIGHT
BEGIN:STANDARD
TZOFFSETFROM:-0500
TZOFFSETTO:-0600
TZNAME:CST
DTSTART:20211107T070000
END:STANDARD
BEGIN:DAYLIGHT
TZOFFSETFROM:-0600
TZOFFSETTO:-0500
TZNAME:CDT
DTSTART:20220313T080000
END:DAYLIGHT
BEGIN:STANDARD
TZOFFSETFROM:-0500
TZOFFSETTO:-0600
TZNAME:CST
DTSTART:20221106T070000
END:STANDARD
BEGIN:DAYLIGHT
TZOFFSETFROM:-0600
TZOFFSETTO:-0500
TZNAME:CDT
DTSTART:20230312T080000
END:DAYLIGHT
BEGIN:STANDARD
TZOFFSETFROM:-0500
TZOFFSETTO:-0600
TZNAME:CST
DTSTART:20231105T070000
END:STANDARD
BEGIN:DAYLIGHT
TZOFFSETFROM:-0600
TZOFFSETTO:-0500
TZNAME:CDT
DTSTART:20240310T080000
END:DAYLIGHT
BEGIN:STANDARD
TZOFFSETFROM:-0500
TZOFFSETTO:-0600
TZNAME:CST
DTSTART:20241103T070000
END:STANDARD
BEGIN:DAYLIGHT
TZOFFSETFROM:-0600
TZOFFSETTO:-0500
TZNAME:CDT
DTSTART:20250309T080000
END:DAYLIGHT
BEGIN:STANDARD
TZOFFSETFROM:-0500
TZOFFSETTO:-0600
TZNAME:CST
DTSTART:20251102T070000
END:STANDARD
BEGIN:DAYLIGHT
TZOFFSETFROM:-0600
TZOFFSETTO:-0500
TZNAME:CDT
DTSTART:20260308T080000
END:DAYLIGHT
BEGIN:STANDARD
TZOFFSETFROM:-0500
TZOFFSETTO:-0600
TZNAME:CST
DTSTART:20261101T070000
END:STANDARD
BEGIN:DAYLIGHT
TZOFFSETFROM:-0600
TZOFFSETTO:-0500
TZNAME:CDT
DTSTART:20270314T080000
END:DAYLIGHT
BEGIN:STANDARD
TZOFFSETFROM:-0500
TZOFFSETTO:-0600
TZNAME:CST
DTSTART:20271107T070000
END:STANDARD
END:VTIMEZONE
BEGIN:VEVENT
DTSTART;TZID=America/Chicago:20260207T160000
DTEND;TZID=America/Chicago:20260207T180000
DTSTAMP:20260423T193706
CREATED:20260206T223713Z
LAST-MODIFIED:20260206T223713Z
UID:10006298-1770480000-1770487200@womenagainstmilitarymadness.org
SUMMARY:📢 PROTEST: SHUT DOWN THE U.S. WAR MACHINE! 📢
DESCRIPTION:Saturday\, February 7\, 4 PM\, Lake St and Minnehaha Ave\, Mpls\n PROTEST: SHUT DOWN THE U.S. WAR MACHINE! Join the Minnesota Peace Action Coalition Saturday\, February 7 to say HANDS OFF IRAN\, VENEZUELA\, AND CUBA!\nAs Trump’s threats of war escalate\, we will be joining the National Day of Action to demand:\nAn end to the blockade on Cuba!\nEnd all U.S. sanctions!\nFree President Maduro!\nNo U.S. attacks on Iran!\nEnd U.S. aid to Israel! \n Saturday\, February 7 at 4pm\n E Lake St & Minnehaha Ave\, Mpls\nOrganized by MPAC \n\n\n	Related
URL:https://womenagainstmilitarymadness.org/events/%f0%9f%93%a2-protest-shut-down-the-u-s-war-machine-%f0%9f%93%a2/
LOCATION:East Lake Street/Minnehaha Avenue in Minneapolis\, Minneapolis\, 55406\, United States
CATEGORIES:Featured Events,Upcoming Events
ATTACH;FMTTYPE=image/jpeg:https://womenagainstmilitarymadness.org/wp-content/uploads/2026/02/ShutDowntheWarMachine.jpg
END:VEVENT
BEGIN:VEVENT
DTSTART;TZID=America/Chicago:20250630T180000
DTEND;TZID=America/Chicago:20250630T200000
DTSTAMP:20260423T193706
CREATED:20250627T210035Z
LAST-MODIFIED:20250627T210035Z
UID:10006024-1751306400-1751313600@womenagainstmilitarymadness.org
SUMMARY:Emergency Protest and March
DESCRIPTION:Monday\, June 30\, 6PM\, Lake St and Minnehaha Ave\, Minneapolis \nEMERGENCY PROTEST 🚨 The Supreme Court has decided to give sweeping power to Trump. This could ultimately allow him to end birthright citizenship. We must resist! \nOrganized by the People’s Action Coalition Against Trump (PACAT) \n\n\n	Related
URL:https://womenagainstmilitarymadness.org/events/emergency-protest-and-march/
LOCATION:East Lake Street/Minnehaha Avenue in Minneapolis\, Minneapolis\, 55406\, United States
CATEGORIES:Featured Events,Upcoming Events
ATTACH;FMTTYPE=image/webp:https://womenagainstmilitarymadness.org/wp-content/uploads/2025/06/509626204_18213317611305677_8697736832414066968_n.webp
END:VEVENT
BEGIN:VEVENT
DTSTART;TZID=America/Chicago:20221217T130000
DTEND;TZID=America/Chicago:20221217T150000
DTSTAMP:20260423T193706
CREATED:20221201T161252Z
LAST-MODIFIED:20221201T161252Z
UID:10002198-1671282000-1671289200@womenagainstmilitarymadness.org
SUMMARY:Say No to U.S. Wars
DESCRIPTION:Send an anti-war message for the holidays: \nSay No to U.S. Wars\nSaturday\, December 17\, 2022 at 1:00 pm\nMinnehaha and Lake Street in Minneapolis \nStop U.S./NATO proxy war with Russia in Ukraine – Negotiation\, not escalation • Say no to nuclear war • Say no to World War 3 • Stop the endless wars: Syria\, Iraq\, Somalia\, aid to the occupation of Palestine • No new wars & interventions: China\, Korea\, Iran\, Haiti\, anywhere • Funds for housing & human needs\, not the war machine!  \nThe U.S./NATO proxy war with Russia in Ukraine and U.S. provocative actions in the Pacific aimed at China over Taiwan\, bring the U.S. into direct confrontation with major nuclear powers. In addition\, the endless series of U.S. wars and interventions around the world continue. During this holiday season let’s make Peace on Earth a call to action to end the insane war moves of the U.S. government. \nBe part of a visible anti-war presence with signs\, banners and anti-war holiday carols to say no to U.S. wars \nInitiated by Minnesota Peace Action Coalition\nEndorsement list in formation. For more information call 612-827-5364. \n\n\n	Related
URL:https://womenagainstmilitarymadness.org/events/say-no-to-u-s-wars-2/
LOCATION:East Lake Street/Minnehaha Avenue in Minneapolis\, Minneapolis\, 55406\, United States
CATEGORIES:Featured Events,Upcoming Events
ATTACH;FMTTYPE=image/jpeg:https://womenagainstmilitarymadness.org/wp-content/uploads/2022/12/22_12-17-22_NoWarHolidaysCrop.jpg
END:VEVENT
BEGIN:VEVENT
DTSTART;TZID=America/Chicago:20220806T130000
DTEND;TZID=America/Chicago:20220806T143000
DTSTAMP:20260423T193706
CREATED:20220719T164152Z
LAST-MODIFIED:20220719T170239Z
UID:10002286-1659790800-1659796200@womenagainstmilitarymadness.org
SUMMARY:Say NO to Nuclear War protest
DESCRIPTION:Anti-War Protest\nSaturday\, August 6\, 2022\, 1:00 PM\nLake Street & Minnehaha Avenue South in Minneapolis\nNote location change to Minnehaha Ave South & Lake Street\, Minneapolis\n\n\nSay NO to Nuclear War!\nSay NO to U.S. Wars\nStop U.S./NATO proxy war with Russia in Ukraine\nEnd endless U.S. wars: Syria\, Iraq\, Somalia\, Everywhere!\nNo new wars for the 1% – Funds for housing and health care\, not for war!\nANTI-WAR PROTEST\nSaturday\, August 6\, 2022\,\n1:00 PM\nLake Street & Minnehaha Ave South\nMinneapolis MN\nAs the world marks 77 years since the atomic bombings of Japan in 1945\, the danger of nuclear war and World War Three is again a reality. Non-nuclear wars lead to nuclear war. The endless series of U.S. wars and interventions could escalate and set off the spark that leads to nuclear war. Join the August 6th protest with signs and banners to send an anti-war message.\nOn the 77th Anniversary of the only use of nuclear weapons in war\,\nwe remember that the U.S. military detonated two atomic bombs over the Japanese cities of Hiroshima and Nagasaki on August 6 and 9\, 1945\, killing between 129\,000 and 226\,000 people.\nInitiated by Minnesota Peace Action Coalition\nInitial endorsements: Antiwar Advocates of Minnesota Congressional District 2\, Anti-War Committee\, Freedom Road Socialist Organization\, Mayday Books\, Minneapolis St. Paul Hiroshima Nagasaki Commemoration Committee\, Minnesota War Tax Resistance\, Movement 4 A Peoples Democracy\, Nukewatch\, Party for Socialism & Liberation – Minneapolis\, Party of Communists USA\, St. Joan of Arc Peacemakers\, St. Paul Eastside Neighbors for Peace\, Socialist Action\, Socialist Party USA – Twin Cities Local\, Twin Cities Assange Defense\, Veterans for Peace Chapter 27\, Welfare Rights Committee\, Women Against Military Madness.\nFor more information: 612-827-5364 \n\n\n	Related
URL:https://womenagainstmilitarymadness.org/events/say-no-to-nuclear-war-protest/
LOCATION:East Lake Street/Minnehaha Avenue in Minneapolis\, Minneapolis\, 55406\, United States
CATEGORIES:Featured Events,Upcoming Events
ATTACH;FMTTYPE=image/jpeg:https://womenagainstmilitarymadness.org/wp-content/uploads/2022/07/CalendarAug6.jpeg
END:VEVENT
END:VCALENDAR