BEGIN:VCALENDAR
VERSION:2.0
PRODID:-//Women Against Military Madness - ECPv6.15.20//NONSGML v1.0//EN
CALSCALE:GREGORIAN
METHOD:PUBLISH
X-WR-CALNAME:Women Against Military Madness
X-ORIGINAL-URL:https://womenagainstmilitarymadness.org
X-WR-CALDESC:Events for Women Against Military Madness
REFRESH-INTERVAL;VALUE=DURATION:PT1H
X-Robots-Tag:noindex
X-PUBLISHED-TTL:PT1H
BEGIN:VTIMEZONE
TZID:America/Chicago
BEGIN:DAYLIGHT
TZOFFSETFROM:-0600
TZOFFSETTO:-0500
TZNAME:CDT
DTSTART:20230312T080000
END:DAYLIGHT
BEGIN:STANDARD
TZOFFSETFROM:-0500
TZOFFSETTO:-0600
TZNAME:CST
DTSTART:20231105T070000
END:STANDARD
BEGIN:DAYLIGHT
TZOFFSETFROM:-0600
TZOFFSETTO:-0500
TZNAME:CDT
DTSTART:20240310T080000
END:DAYLIGHT
BEGIN:STANDARD
TZOFFSETFROM:-0500
TZOFFSETTO:-0600
TZNAME:CST
DTSTART:20241103T070000
END:STANDARD
BEGIN:DAYLIGHT
TZOFFSETFROM:-0600
TZOFFSETTO:-0500
TZNAME:CDT
DTSTART:20250309T080000
END:DAYLIGHT
BEGIN:STANDARD
TZOFFSETFROM:-0500
TZOFFSETTO:-0600
TZNAME:CST
DTSTART:20251102T070000
END:STANDARD
END:VTIMEZONE
BEGIN:VEVENT
DTSTART;TZID=America/Chicago:20240411T173000
DTEND;TZID=America/Chicago:20240411T183000
DTSTAMP:20260423T235331
CREATED:20240403T193707Z
LAST-MODIFIED:20240404T185040Z
UID:10002713-1712856600-1712860200@womenagainstmilitarymadness.org
SUMMARY:Tell Walz to Shut Down Smith Foundry
DESCRIPTION:Thursday\, April 11\, 2024\, 5:30 pm\, Eastcliff\, 176 N Mississippi River Blvd \, St Paul\, MN \nRally and Press Conference at the governor’s residence \nSmith has been polluting East Philips for decades. It’s blatant environmental racism: foundries would never be allowed in affluent white neighborhoods. Walz could put his weight behind shutting down Smith at any time through bills like HF 4231 + SF 4316 that would kill the grandfathered permits for polluters like Smith & St Paul Brass\, but he believes avoiding controversy in an election year is more important than the health of our communities. Tell Walz that he and the MN Pollution Control Agency need to do their jobs and SHUT DOWN SMITH FOUNDRY \nOrganized by Climate Justice Committee\, Sponsored by EMMAE \n\n\n	Related
URL:https://womenagainstmilitarymadness.org/events/tell-walz-to-shut-down-smith-foundry/
LOCATION:Eastcliff\, 176 N Mississippi River Blvd\, St Paul\, MN\, 55104\, United States
CATEGORIES:Featured Events,Sponsored Events,Upcoming Events
ATTACH;FMTTYPE=image/png:https://womenagainstmilitarymadness.org/wp-content/uploads/2024/04/Screenshot-2024-04-03-at-2.30.23 PM.png
END:VEVENT
BEGIN:VEVENT
DTSTART;TZID=America/Chicago:20240323T150000
DTEND;TZID=America/Chicago:20240323T170000
DTSTAMP:20260423T235331
CREATED:20240319T162825Z
LAST-MODIFIED:20240319T162825Z
UID:10002707-1711206000-1711213200@womenagainstmilitarymadness.org
SUMMARY:Interfaith Vigil + Rally for Palestine
DESCRIPTION:Saturday\, March 23\, 2024\, 3:15 pm\, Eastcliff Mansion\, 176 N Mississippi River Blvd\, St Paul \nTHIS SATURDAY! Christians and friends are walking 22 miles along the Mississippi in prayerful solidarity with the people of Gaza. \nMeet them on their way outside Gov. Walz’s current residence for an interfaith vigil + rally at 3:15 pm this Saturday\, March 23\, in collaboration with the Free Palestine Coalition. #gcpilgrimages \n\n\n	Related
URL:https://womenagainstmilitarymadness.org/events/interfaith-vigil-rally-for-palestine/
LOCATION:Eastcliff\, 176 N Mississippi River Blvd\, St Paul\, MN\, 55104\, United States
CATEGORIES:Featured Events,Sponsored Events,Upcoming Events
ATTACH;FMTTYPE=image/png:https://womenagainstmilitarymadness.org/wp-content/uploads/2024/03/Screenshot-2024-03-19-at-11.25.18 AM.png
END:VEVENT
BEGIN:VEVENT
DTSTART;TZID=America/Chicago:20240228T170000
DTEND;TZID=America/Chicago:20240228T190000
DTSTAMP:20260423T235331
CREATED:20240227T190817Z
LAST-MODIFIED:20240227T190817Z
UID:10002685-1709139600-1709146800@womenagainstmilitarymadness.org
SUMMARY:WALZ DIVEST! Rally & Press Conference
DESCRIPTION:Wednesday\, February 28\, 2024\, 5:00 PM\, 176 Mississippi River Blvd \nOn the eve of the State Board of Investment meeting\, the Anti-War Committee and our partners will address Walz at his home to call for immediate divestment from genocide and apartheid in Israel! \nStand up for Palestinian lives! Send a message to the world that Minnesota does not support the brutal genocide and ethnic cleansing of Palestinians! \nSHOW YOUR SUPPORT FOR MN DIVESTMENT! \nPress Conference & Rally\n⏰Wed\, Feb 28 – 5 PM\n📍Eastcliff Mansion\, 176 N Mississippi River Rd\, Mpls \nJoin us at the SBI meeting!\n⏰Thurs\, Feb 29 – 10 AM\n📍MN Senate Building Rm 1200\n95 University Ave West\, St. Paul \nOrganized by the Anti War Committee and the Free Palestine Coalition \n\n\n	Related
URL:https://womenagainstmilitarymadness.org/events/walz-divest-rally-press-conference/
LOCATION:Eastcliff\, 176 N Mississippi River Blvd\, St Paul\, MN\, 55104\, United States
CATEGORIES:Featured Events,Sponsored Events,Upcoming Events
ATTACH;FMTTYPE=image/jpeg:https://womenagainstmilitarymadness.org/wp-content/uploads/2024/02/8009b5ea-bead-4668-0a21-4758c5bb65b5.jpg
ORGANIZER;CN="Anti-War Committee":MAILTO:info@antiwarcommittee.org
END:VEVENT
END:VCALENDAR