BEGIN:VCALENDAR
VERSION:2.0
PRODID:-//Women Against Military Madness - ECPv6.15.20//NONSGML v1.0//EN
CALSCALE:GREGORIAN
METHOD:PUBLISH
X-WR-CALNAME:Women Against Military Madness
X-ORIGINAL-URL:https://womenagainstmilitarymadness.org
X-WR-CALDESC:Events for Women Against Military Madness
REFRESH-INTERVAL;VALUE=DURATION:PT1H
X-Robots-Tag:noindex
X-PUBLISHED-TTL:PT1H
BEGIN:VTIMEZONE
TZID:America/Chicago
BEGIN:DAYLIGHT
TZOFFSETFROM:-0600
TZOFFSETTO:-0500
TZNAME:CDT
DTSTART:20240310T080000
END:DAYLIGHT
BEGIN:STANDARD
TZOFFSETFROM:-0500
TZOFFSETTO:-0600
TZNAME:CST
DTSTART:20241103T070000
END:STANDARD
BEGIN:DAYLIGHT
TZOFFSETFROM:-0600
TZOFFSETTO:-0500
TZNAME:CDT
DTSTART:20250309T080000
END:DAYLIGHT
BEGIN:STANDARD
TZOFFSETFROM:-0500
TZOFFSETTO:-0600
TZNAME:CST
DTSTART:20251102T070000
END:STANDARD
BEGIN:DAYLIGHT
TZOFFSETFROM:-0600
TZOFFSETTO:-0500
TZNAME:CDT
DTSTART:20260308T080000
END:DAYLIGHT
BEGIN:STANDARD
TZOFFSETFROM:-0500
TZOFFSETTO:-0600
TZNAME:CST
DTSTART:20261101T070000
END:STANDARD
END:VTIMEZONE
BEGIN:VEVENT
DTSTART;TZID=America/Chicago:20250422T120000
DTEND;TZID=America/Chicago:20250422T140000
DTSTAMP:20260425T111503
CREATED:20250417T201244Z
LAST-MODIFIED:20250417T201244Z
UID:10005137-1745323200-1745330400@womenagainstmilitarymadness.org
SUMMARY:Earth Day Bannering
DESCRIPTION:Tuesday\, April 22\, 2025\, 12 – 2PM\, intersection of Cleveland Ave S & Ford Parkway\, Highland\, St Paul\, MN \nWAMM and Veterans For Peace\, Ch. 27\, will be bannering in Highland\, St. Paul\, at the intersection of Cleveland Ave. S. and Ford Parkway on Earth Day\, Tuesday\, April 22\, 12 noon to 2 pm.\nMonticello nuclear plant informational half-sheet flyers will be passed to pedestrians and cars. Petitions will be available for pedestrians to sign. EMMAE Committee people will also pass out the Stop the Wars Save the Earth stickers. The VFP bus will display the banner Stop the Wars\, Save the Earth. Signs will be available for people to hold. Save the date! Join the bannering! Organized by WAMM and Veterans for Peace Chapter 27\n\n\n	Related
URL:https://womenagainstmilitarymadness.org/events/earth-day-bannering/
LOCATION:intersection of Cleveland Ave S & Ford Parkway
CATEGORIES:Featured Events,Upcoming Events
ATTACH;FMTTYPE=image/webp:https://womenagainstmilitarymadness.org/wp-content/uploads/2025/04/IMG_5638-scaled.webp
ORGANIZER;CN="Veterans For Peace Chapter 27":MAILTO:vfpchapter27@gmail.com
END:VEVENT
END:VCALENDAR