BEGIN:VCALENDAR
VERSION:2.0
PRODID:-//Women Against Military Madness - ECPv6.15.20//NONSGML v1.0//EN
CALSCALE:GREGORIAN
METHOD:PUBLISH
X-ORIGINAL-URL:https://womenagainstmilitarymadness.org
X-WR-CALDESC:Events for Women Against Military Madness
REFRESH-INTERVAL;VALUE=DURATION:PT1H
X-Robots-Tag:noindex
X-PUBLISHED-TTL:PT1H
BEGIN:VTIMEZONE
TZID:America/Chicago
BEGIN:DAYLIGHT
TZOFFSETFROM:-0600
TZOFFSETTO:-0500
TZNAME:CDT
DTSTART:20220313T080000
END:DAYLIGHT
BEGIN:STANDARD
TZOFFSETFROM:-0500
TZOFFSETTO:-0600
TZNAME:CST
DTSTART:20221106T070000
END:STANDARD
BEGIN:DAYLIGHT
TZOFFSETFROM:-0600
TZOFFSETTO:-0500
TZNAME:CDT
DTSTART:20230312T080000
END:DAYLIGHT
BEGIN:STANDARD
TZOFFSETFROM:-0500
TZOFFSETTO:-0600
TZNAME:CST
DTSTART:20231105T070000
END:STANDARD
BEGIN:DAYLIGHT
TZOFFSETFROM:-0600
TZOFFSETTO:-0500
TZNAME:CDT
DTSTART:20240310T080000
END:DAYLIGHT
BEGIN:STANDARD
TZOFFSETFROM:-0500
TZOFFSETTO:-0600
TZNAME:CST
DTSTART:20241103T070000
END:STANDARD
BEGIN:DAYLIGHT
TZOFFSETFROM:-0600
TZOFFSETTO:-0500
TZNAME:CDT
DTSTART:20250309T080000
END:DAYLIGHT
BEGIN:STANDARD
TZOFFSETFROM:-0500
TZOFFSETTO:-0600
TZNAME:CST
DTSTART:20251102T070000
END:STANDARD
BEGIN:DAYLIGHT
TZOFFSETFROM:-0600
TZOFFSETTO:-0500
TZNAME:CDT
DTSTART:20260308T080000
END:DAYLIGHT
BEGIN:STANDARD
TZOFFSETFROM:-0500
TZOFFSETTO:-0600
TZNAME:CST
DTSTART:20261101T070000
END:STANDARD
END:VTIMEZONE
BEGIN:VEVENT
DTSTART;TZID=America/Chicago:20250426T120000
DTEND;TZID=America/Chicago:20250426T160000
DTSTAMP:20260424T024850
CREATED:20250418T160407Z
LAST-MODIFIED:20250418T160407Z
UID:10005147-1745668800-1745683200@womenagainstmilitarymadness.org
SUMMARY:May Day Coalition Art Build
DESCRIPTION:Saturday\, April 26\, 2025\, 12:00 – 4:00 PM\, MFT 59 Office\, 67 8th Ave NE\, Minneapolis \nJoin WAMM and the May 1 Coalition (Coalition 1 de Mayo) in making banners and signs with community members in preparation for International Worker’s Day! Kids welcome \nFight for Immigrant and Workers’ rights with us on May 1st\, 4:30PM at the State Capitol! \nOrganized by May 1 Coalition\, endorsed by WAMM \n\n\n	Related
URL:https://womenagainstmilitarymadness.org/events/may-day-coalition-art-build/
LOCATION:MFT 59 Office\, 67 8th Ave NE\, Minneapolis\, MN\, 55413\, United States
CATEGORIES:Featured Events,Sponsored Events,Upcoming Events
ATTACH;FMTTYPE=image/png:https://womenagainstmilitarymadness.org/wp-content/uploads/2025/04/Screenshot-2025-04-18-at-11.02.07 AM.png
END:VEVENT
BEGIN:VEVENT
DTSTART;TZID=America/Chicago:20240622T180000
DTEND;TZID=America/Chicago:20240622T210000
DTSTAMP:20260424T024850
CREATED:20240606T213320Z
LAST-MODIFIED:20240606T213320Z
UID:10002748-1719079200-1719090000@womenagainstmilitarymadness.org
SUMMARY:March on RNC/DNC Bus Fundraiser
DESCRIPTION:Saturday\, June 22\, 2024\, 6:00 – 9:00 pm\, MFT 59 Office\, 67 8th Ave NE\, Minneapolis\, MN \n We’re answering the call to march on the RNC & DNC this summer! Join us for a fundraiser Saturday\, June 22nd\, 6-9pm at MFT to raise money for buses down to Milwaukee and Chicago from the Twin Cities! Our movements are united against Trump’s racist\, reactionary agenda and Biden’s genocidal administration. Join us in protesting both parties on the national stage! \nJoint effort organized by the Free Palestine Coalition – the Anti-War Committee\, AMP MN\, MIRAC\, MN Workers United\, MNAAC\, TCC4J\, WAMM\, UMN SDS\, Climate Justice Committee\, MN Peace Action Coalition\, FRSO Twin Cities \n\n\n	Related
URL:https://womenagainstmilitarymadness.org/events/march-on-rnc-dnc-bus-fundraiser/
LOCATION:MFT 59 Office\, 67 8th Ave NE\, Minneapolis\, MN\, 55413\, United States
CATEGORIES:Featured Events,Sponsored Events,Upcoming Events
ATTACH;FMTTYPE=image/jpeg:https://womenagainstmilitarymadness.org/wp-content/uploads/2024/06/24_6-22-Fundraiser.jpg
END:VEVENT
BEGIN:VEVENT
DTSTART;TZID=America/Chicago:20231217T150000
DTEND;TZID=America/Chicago:20231217T163000
DTSTAMP:20260424T024850
CREATED:20231215T170927Z
LAST-MODIFIED:20231215T170927Z
UID:10002662-1702825200-1702830600@womenagainstmilitarymadness.org
SUMMARY:Why the Labor Movement Should Stand with Palestine
DESCRIPTION:Sunday\, December 17\, 2023\, 3:00 pm\, MFT 59 Office\, 67 8th Ave NE\, Mpls\, MN\n\nJoin us for a teach-in on the history of international labor solidarity and the role we can play in our unions and the broader labor movement in the US to stand with the Palestinian liberation movement in the fight against apartheid and occupation!\n\nHosted by Minnesota Workers United\, Endorsed by American Muslims for Palestine – Minnesota\, Minnesota Anti War Committee\, Women Against Military Madness\, UMN Students for a Democratic Society\n\n\n	Related
URL:https://womenagainstmilitarymadness.org/events/why-the-labor-movement-should-stand-with-palestine/
LOCATION:MFT 59 Office\, 67 8th Ave NE\, Minneapolis\, MN\, 55413\, United States
CATEGORIES:Featured Events,Sponsored Events,Upcoming Events
ATTACH;FMTTYPE=image/jpeg:https://womenagainstmilitarymadness.org/wp-content/uploads/2023/12/410315189_759981129501171_8234044502742501743_n.jpg
ORGANIZER;CN="MN Workers United":MAILTO:mn.workersunited@gmail.com
END:VEVENT
END:VCALENDAR