BEGIN:VCALENDAR
VERSION:2.0
PRODID:-//Women Against Military Madness - ECPv6.15.20//NONSGML v1.0//EN
CALSCALE:GREGORIAN
METHOD:PUBLISH
X-ORIGINAL-URL:https://womenagainstmilitarymadness.org
X-WR-CALDESC:Events for Women Against Military Madness
REFRESH-INTERVAL;VALUE=DURATION:PT1H
X-Robots-Tag:noindex
X-PUBLISHED-TTL:PT1H
BEGIN:VTIMEZONE
TZID:America/Chicago
BEGIN:DAYLIGHT
TZOFFSETFROM:-0600
TZOFFSETTO:-0500
TZNAME:CDT
DTSTART:20230312T080000
END:DAYLIGHT
BEGIN:STANDARD
TZOFFSETFROM:-0500
TZOFFSETTO:-0600
TZNAME:CST
DTSTART:20231105T070000
END:STANDARD
BEGIN:DAYLIGHT
TZOFFSETFROM:-0600
TZOFFSETTO:-0500
TZNAME:CDT
DTSTART:20240310T080000
END:DAYLIGHT
BEGIN:STANDARD
TZOFFSETFROM:-0500
TZOFFSETTO:-0600
TZNAME:CST
DTSTART:20241103T070000
END:STANDARD
BEGIN:DAYLIGHT
TZOFFSETFROM:-0600
TZOFFSETTO:-0500
TZNAME:CDT
DTSTART:20250309T080000
END:DAYLIGHT
BEGIN:STANDARD
TZOFFSETFROM:-0500
TZOFFSETTO:-0600
TZNAME:CST
DTSTART:20251102T070000
END:STANDARD
END:VTIMEZONE
BEGIN:VEVENT
DTSTART;TZID=America/Chicago:20240218T130000
DTEND;TZID=America/Chicago:20240218T150000
DTSTAMP:20260424T054657
CREATED:20240214T160549Z
LAST-MODIFIED:20240215T185531Z
UID:10002678-1708261200-1708268400@womenagainstmilitarymadness.org
SUMMARY:Hands Off Rafah Emergency Rally & March
DESCRIPTION:HANDS OFF RAFAH \nRALLY AND MARCH to protest Israel’s assault on Gaza’s last zone of relative safety\, where well over 1 million Palestinians have been sheltering in tents to escape the genocide – and keep demanding that St. Paul City Council urgently pass a ceasefire resolution like Minneapolis did! \nSunday\, February 18 @ 1 p.m.\nSt. Paul – Gather at the intersection of Summit Ave & N Milton St\, St. Paul \nOrganized by the Free Palestine Coalition \n\n\n	Related
URL:https://womenagainstmilitarymadness.org/events/hands-off-rafah-emergency-rally-march/
LOCATION:Milton and Snelling
CATEGORIES:Featured Events,Sponsored Events,Upcoming Events
ATTACH;FMTTYPE=image/png:https://womenagainstmilitarymadness.org/wp-content/uploads/2024/02/Screenshot-2024-02-15-at-12.48.21 PM.png
END:VEVENT
END:VCALENDAR