BEGIN:VCALENDAR
VERSION:2.0
PRODID:-//Women Against Military Madness - ECPv6.15.20//NONSGML v1.0//EN
CALSCALE:GREGORIAN
METHOD:PUBLISH
X-ORIGINAL-URL:https://womenagainstmilitarymadness.org
X-WR-CALDESC:Events for Women Against Military Madness
REFRESH-INTERVAL;VALUE=DURATION:PT1H
X-Robots-Tag:noindex
X-PUBLISHED-TTL:PT1H
BEGIN:VTIMEZONE
TZID:America/Chicago
BEGIN:DAYLIGHT
TZOFFSETFROM:-0600
TZOFFSETTO:-0500
TZNAME:CDT
DTSTART:20240310T080000
END:DAYLIGHT
BEGIN:STANDARD
TZOFFSETFROM:-0500
TZOFFSETTO:-0600
TZNAME:CST
DTSTART:20241103T070000
END:STANDARD
BEGIN:DAYLIGHT
TZOFFSETFROM:-0600
TZOFFSETTO:-0500
TZNAME:CDT
DTSTART:20250309T080000
END:DAYLIGHT
BEGIN:STANDARD
TZOFFSETFROM:-0500
TZOFFSETTO:-0600
TZNAME:CST
DTSTART:20251102T070000
END:STANDARD
BEGIN:DAYLIGHT
TZOFFSETFROM:-0600
TZOFFSETTO:-0500
TZNAME:CDT
DTSTART:20260308T080000
END:DAYLIGHT
BEGIN:STANDARD
TZOFFSETFROM:-0500
TZOFFSETTO:-0600
TZNAME:CST
DTSTART:20261101T070000
END:STANDARD
END:VTIMEZONE
BEGIN:VEVENT
DTSTART;TZID=America/Chicago:20250613T170000
DTEND;TZID=America/Chicago:20250613T190000
DTSTAMP:20260423T235221
CREATED:20250605T202444Z
LAST-MODIFIED:20250605T202444Z
UID:10005742-1749834000-1749841200@womenagainstmilitarymadness.org
SUMMARY:🇵🇸 DFL DINES WHILE GAZA STARVES 🇵🇸
DESCRIPTION:Friday\, June 13\, 2025\, 5 PM\, The Minneapolis Hilton\, 1001 Marquette Ave\, Mpls \nDFL DINES WHILE GAZA STARVES Oppose Trump’s agenda! Divest Minnesota from Israel! Rally outside the DFL’s annual Humphrey-Mondale Dinner fundraiser The Minneapolis Hilton\, 1001 Marquette Ave. Friday\, June 13 5 PMIsrael’s genocide is becoming undeniable. On top of daily bombings of schools and hospitals\, Israeli forces have now repeatedly killed dozens of Palestinians trying to access food at Israel’s much-criticized distribution sites. Even major U.S. allies are beginning to cut support for Israel’s ethnic cleansing system in Palestine.Join us to demand our state leaders join them by divesting Minnesota funds\, managed by the State Board of Investment\, from Israel. Governor Tim Walz\, Attorney General Keith Ellison\, State Auditor Julie Blaha and Secretary of State Steve Simon make up the SBI’s board members and are prominent DFLers. They have the power to take action against both the ongoing genocide\, and against Trump’s extremist\, full throttle attacks on all fronts\, domestically and abroad.State divestment from Israel would not only weaken support for its massacres in Palestine — it would send an important message that Minnesota is ready to fight Trump’s agenda across the board.It’s time for the SBI and DFL members to do what’s right:Oppose Trump’s agenda! Divest Minnesota from Israel! Organized by MN AWC\, sponsored by WAMM \n\n\n	Related
URL:https://womenagainstmilitarymadness.org/events/%f0%9f%87%b5%f0%9f%87%b8-dfl-dines-while-gaza-starves-%f0%9f%87%b5%f0%9f%87%b8/
LOCATION:Minneapolis Hilton
CATEGORIES:Featured Events,Sponsored Events,Upcoming Events
ATTACH;FMTTYPE=image/webp:https://womenagainstmilitarymadness.org/wp-content/uploads/2025/06/503325528_18145972792391495_3897089596993247468_n.webp
ORGANIZER;CN="Anti-War Committee":MAILTO:info@antiwarcommittee.org
END:VEVENT
END:VCALENDAR