BEGIN:VCALENDAR
VERSION:2.0
PRODID:-//Women Against Military Madness - ECPv6.15.20//NONSGML v1.0//EN
CALSCALE:GREGORIAN
METHOD:PUBLISH
X-WR-CALNAME:Women Against Military Madness
X-ORIGINAL-URL:https://womenagainstmilitarymadness.org
X-WR-CALDESC:Events for Women Against Military Madness
REFRESH-INTERVAL;VALUE=DURATION:PT1H
X-Robots-Tag:noindex
X-PUBLISHED-TTL:PT1H
BEGIN:VTIMEZONE
TZID:America/Chicago
BEGIN:DAYLIGHT
TZOFFSETFROM:-0600
TZOFFSETTO:-0500
TZNAME:CDT
DTSTART:20220313T080000
END:DAYLIGHT
BEGIN:STANDARD
TZOFFSETFROM:-0500
TZOFFSETTO:-0600
TZNAME:CST
DTSTART:20221106T070000
END:STANDARD
BEGIN:DAYLIGHT
TZOFFSETFROM:-0600
TZOFFSETTO:-0500
TZNAME:CDT
DTSTART:20230312T080000
END:DAYLIGHT
BEGIN:STANDARD
TZOFFSETFROM:-0500
TZOFFSETTO:-0600
TZNAME:CST
DTSTART:20231105T070000
END:STANDARD
BEGIN:DAYLIGHT
TZOFFSETFROM:-0600
TZOFFSETTO:-0500
TZNAME:CDT
DTSTART:20240310T080000
END:DAYLIGHT
BEGIN:STANDARD
TZOFFSETFROM:-0500
TZOFFSETTO:-0600
TZNAME:CST
DTSTART:20241103T070000
END:STANDARD
BEGIN:DAYLIGHT
TZOFFSETFROM:-0600
TZOFFSETTO:-0500
TZNAME:CDT
DTSTART:20250309T080000
END:DAYLIGHT
BEGIN:STANDARD
TZOFFSETFROM:-0500
TZOFFSETTO:-0600
TZNAME:CST
DTSTART:20251102T070000
END:STANDARD
BEGIN:DAYLIGHT
TZOFFSETFROM:-0600
TZOFFSETTO:-0500
TZNAME:CDT
DTSTART:20260308T080000
END:DAYLIGHT
BEGIN:STANDARD
TZOFFSETFROM:-0500
TZOFFSETTO:-0600
TZNAME:CST
DTSTART:20261101T070000
END:STANDARD
BEGIN:DAYLIGHT
TZOFFSETFROM:-0600
TZOFFSETTO:-0500
TZNAME:CDT
DTSTART:20270314T080000
END:DAYLIGHT
BEGIN:STANDARD
TZOFFSETFROM:-0500
TZOFFSETTO:-0600
TZNAME:CST
DTSTART:20271107T070000
END:STANDARD
END:VTIMEZONE
BEGIN:VEVENT
DTSTART;TZID=America/Chicago:20260122T173000
DTEND;TZID=America/Chicago:20260122T183000
DTSTAMP:20260423T192053
CREATED:20251219T021554Z
LAST-MODIFIED:20251219T021554Z
UID:10006267-1769103000-1769106600@womenagainstmilitarymadness.org
SUMMARY:Fight for Reproductive Justice!
DESCRIPTION:Thursday\, January 22\, 2026\, 5:30 PM\, MN State Capitol\, St Paul\nJan 22 marks the day Roe v Wade became law of the land. Across this country\, people are fighting harder than ever to regain the legal right to abortion\, and we know our fight doesn’t just stop at the law—we need meaningful access to reproductive healthcare for all. On a day when the anti-abortion right-wing makes a lot of noise with their “rally for life”\, join us to rally for reproductive justice at the state capitol! \n#abortionishealthcare \nOrganized by MN Abortion Action Committee\, endorsed by WAMM \n\n\n	Related
URL:https://womenagainstmilitarymadness.org/events/fight-for-reproductive-justice/
LOCATION:Minnesota State Capitol\, 75 Rev. Dr. Martin Luther King\, Jr. Blvd\, St Paul\, MN\, 55155\, United States
CATEGORIES:Featured Events,Upcoming Events
ATTACH;FMTTYPE=image/webp:https://womenagainstmilitarymadness.org/wp-content/uploads/2025/12/FightforRR.webp
ORGANIZER;CN="Minnesota Abortion Action Committee":MAILTO:info@mnaac.org
END:VEVENT
BEGIN:VEVENT
DTSTART;TZID=America/Chicago:20251025T130000
DTEND;TZID=America/Chicago:20251025T150000
DTSTAMP:20260423T192053
CREATED:20250916T023207Z
LAST-MODIFIED:20251002T172608Z
UID:10006089-1761397200-1761404400@womenagainstmilitarymadness.org
SUMMARY:STOP TRUMP'S ATTACKS! At Home and Abroad
DESCRIPTION:Saturday\, October 25\, 2025\, 1:00 PM\, MN State Capitol\, 75 Rev Martin Luther King Jr Drive\, St Paul\, MN \nSave the date and join the People’s Action Coalition Against Trump on October 25th to make your voices heard!\nNo more genocide in Palestine!\nNo more SNAP and Medicare cuts!\nNo more attacks on bodily autonomy!\nProtect our environment! \nSince his inauguration\, Donald Trump has waged a campaign of terror\, at home and abroad. Troops roam the streets of American cities. ICE is kidnapping people from their homes\, violently separating families daily. The U.S. has dropped bombs on innocent Iranians and Venezuelans. The genocide in Gaza continues\, unabated and encouraged by our government. \nThe People’s Action Coalition Against Trump invites you to join us on Saturday\, October 25\, at the Minnesota State Capitol. Together\, we will take a stand against Trump’s terror at home and abroad. \n⏰ Saturday\, October 25\, 1pm\n📍MN State Capitol\, St. Paul\, MN \nOrganized by PACAT (People’s Action Coalition Against Trump) – WAMM is a member org of PACAT \n\n\n	Related
URL:https://womenagainstmilitarymadness.org/events/stop-trumps-attacks-at-home-and-abroad/
LOCATION:Minnesota State Capitol\, 75 Rev. Dr. Martin Luther King\, Jr. Blvd\, St Paul\, MN\, 55155\, United States
CATEGORIES:Featured Events,Sponsored Events,Upcoming Events
ATTACH;FMTTYPE=image/webp:https://womenagainstmilitarymadness.org/wp-content/uploads/2025/09/JPEG-image-4F5F-9014-5A-0.webp
END:VEVENT
BEGIN:VEVENT
DTSTART;TZID=America/Chicago:20250801T173000
DTEND;TZID=America/Chicago:20250801T193000
DTSTAMP:20260423T192053
CREATED:20250731T194449Z
LAST-MODIFIED:20250731T194449Z
UID:10006048-1754069400-1754076600@womenagainstmilitarymadness.org
SUMMARY:People's Town Hall
DESCRIPTION:Friday\, August 1\, 2025\, 5:30 PM\, MN State Capitol\, 75 Rev MLK Jr Boulevard\, St Paul \nJoin local healthcare workers for a People’s Townhall this Friday Aug 1st at 5:30pm at the MN State Capitol steps. \nHolding this space for community\, we’ll offer updates\, resources\, and answer questions on children’s mental health. \nOur youth are our most beloved members of our communities. They deserve a world in which they can grow up and thrive. Let’s build that world of care together. \nOrganized by Healthcare Workers for Palestine – TC\, endorsed by WAMM and FAMM \n\n\n	Related
URL:https://womenagainstmilitarymadness.org/events/peoples-town-hall/
LOCATION:Minnesota State Capitol\, 75 Rev. Dr. Martin Luther King\, Jr. Blvd\, St Paul\, MN\, 55155\, United States
CATEGORIES:Sponsored Events,Upcoming Events
ATTACH;FMTTYPE=image/webp:https://womenagainstmilitarymadness.org/wp-content/uploads/2025/07/townhall.webp
END:VEVENT
BEGIN:VEVENT
DTSTART;TZID=America/Chicago:20250614T110000
DTEND;TZID=America/Chicago:20250614T150000
DTSTAMP:20260423T192053
CREATED:20250605T201641Z
LAST-MODIFIED:20250605T201641Z
UID:10005740-1749898800-1749913200@womenagainstmilitarymadness.org
SUMMARY:No Kings Day - Twin Cities!
DESCRIPTION:Saturday\, June 14\, 2025\, 11 AM – 3 PM\, Start at St Paul College \n\n\n\n\n\n\n\n\n\n\n\n\n\n\n\nThe Hands Off Coalition of Women’s March MN\, Indivisible Twin Cities\, MN 50501 and the AFL-CIO MN invites you to attend the Twin Cities metro area No Kings Day of Defiance event on Saturday\, June 14! \n\n11:00 AM – Gather at Saint Paul College (235 Marshall Ave\, Saint Paul\, MN 55102) \n12:00 PM – March from Saint Paul College to the MN State Capitol \n1:00 PM – Rally at the MN State Capitol Mall and Rotunda for inspiring speakers and performers\, to bands and activities for all ages \n\nNO KINGS is a national day of action and mass mobilization in response to increasing authoritarian excesses and corruption from Trump and his allies. We’ve watched as they’ve cracked down on free speech\, detained people for their political views\, threatened to deport American citizens\, and defied the courts. They’ve done this all while continuing to serve and enrich their billionaire allies Organized by Hands Off Coalition\, sponsored by WAMM\n\n\n\n\n\n\n\n\n\n	Related
URL:https://womenagainstmilitarymadness.org/events/no-kings-day-twin-cities/
LOCATION:Minnesota State Capitol\, 75 Rev. Dr. Martin Luther King\, Jr. Blvd\, St Paul\, MN\, 55155\, United States
CATEGORIES:Sponsored Events,Upcoming Events
ATTACH;FMTTYPE=image/png:https://womenagainstmilitarymadness.org/wp-content/uploads/2025/06/Screenshot-2025-06-05-at-3.15.57 PM.png
END:VEVENT
BEGIN:VEVENT
DTSTART;TZID=America/Chicago:20250501T163000
DTEND;TZID=America/Chicago:20250501T193000
DTSTAMP:20260423T192053
CREATED:20250417T201953Z
LAST-MODIFIED:20250421T154532Z
UID:10005138-1746117000-1746127800@womenagainstmilitarymadness.org
SUMMARY:May 1st: Immigrant Rights are Workers Rights
DESCRIPTION:Thursday\, May 1\, 2025\, rally at 4:30PM march at 5:30PM\, MN State Capitol\, 75 Rev Dr Martin Luther King Jr Blvd\, St Paul \nWAMM endorses! \nMay 1 International Workers DayRally and MarchRally 4:30pmMarch 5:30pmMinnesota State Capitol\nFor Immigrant Rights and Workers Rights\nInitiated by MIRAC\, MN Workers United\, MN Immigrant Movement\, Asamblea de Derechos Civiles\, Kalpulli Ketzal Coaltlique\, MN8\, CAIR-MN\, MFT\, Indigenous Protector Movement\, EPNI (list in formation).\n————\n1 de mayo dia internacional de los trabajadoresmitin y marchamitin 4:30pmmarcha 5:30pm\nUn dia sin inmigrantespor los derechos de los inmigrantesy los derechos de los trabajadores\nIniciado por MIRAC\, MN Workers United\, MN Immigrant Movement\, Asamblea de Derechos Civiles\, Kalpulli Ketzal Coaltlique\, MN8\, CAIR-MN\, MFT\, Indigenous Protector Movement\, EPNI (lista en formación).\n\n\n	Related
URL:https://womenagainstmilitarymadness.org/events/may-1st-immigrant-rights-are-workers-rights/
LOCATION:Minnesota State Capitol\, 75 Rev. Dr. Martin Luther King\, Jr. Blvd\, St Paul\, MN\, 55155\, United States
CATEGORIES:Featured Events,Sponsored Events,Upcoming Events
ATTACH;FMTTYPE=image/webp:https://womenagainstmilitarymadness.org/wp-content/uploads/2025/04/491471258_1072611888229548_68618138172264248_n.webp
END:VEVENT
BEGIN:VEVENT
DTSTART;TZID=America/Chicago:20240810T130000
DTEND;TZID=America/Chicago:20240810T150000
DTSTAMP:20260423T192053
CREATED:20240717T165836Z
LAST-MODIFIED:20240717T165836Z
UID:10002834-1723294800-1723302000@womenagainstmilitarymadness.org
SUMMARY:Protest to Demand the MN State Boards of Investment Divest from Apartheid Israel
DESCRIPTION:From the Boundary Waters to the Bdote: MN Says Divest Today!\nProtest to Demand the MN State Boards of Investment Divest from Apartheid IsraelSaturday\, August 10th @ 1pm @ the MN State Capitol\, 75 Rev Dr Martin Luther King Jr Blvd\, St. Paul\n\nJoin us to send a loud message to the State Board of Investment before their meeting on August 14th.Initiated by the Anti-War Committee\, sponsored by WAMM\n\n\n	Related
URL:https://womenagainstmilitarymadness.org/events/protest-to-demand-the-mn-state-boards-of-investment-divest-from-apartheid-israel/
LOCATION:Minnesota State Capitol\, 75 Rev. Dr. Martin Luther King\, Jr. Blvd\, St Paul\, MN\, 55155\, United States
CATEGORIES:Featured Events,Sponsored Events,Upcoming Events
ATTACH;FMTTYPE=image/jpeg:https://womenagainstmilitarymadness.org/wp-content/uploads/2024/07/451241637_922509673251073_6786580567145078643_n.jpg
ORGANIZER;CN="Anti-War Committee":MAILTO:info@antiwarcommittee.org
END:VEVENT
BEGIN:VEVENT
DTSTART;TZID=America/Chicago:20240113T100000
DTEND;TZID=America/Chicago:20240114T133000
DTSTAMP:20260423T192053
CREATED:20240112T201741Z
LAST-MODIFIED:20240112T201741Z
UID:10002669-1705140000-1705239000@womenagainstmilitarymadness.org
SUMMARY:Fly a Kite 4 Gaza
DESCRIPTION:Kite Art Build: Saturday\, January 13\, 10:00 am – 1:00 pm\, Public Functionary\, 1500 Jackson St NE Studio 247\nFly a Kite 4 Gaza: Sunday\, January 14\, 12:30 – 1:30 pm\, MN Capitol Lawn\n\nCelebrate International Kite Day honoring the martyrs of Gaza and calling for a free Palestine!!! Kites will be provided at this event where we will chant and hear music as we demand no more US aid to Israel and an end to the Zionist occupation. This event was largely inspired by the poem If I Must Die by Refaat Alareer.\nJoin us the day before to build kites together at Public Functionary to make sure we fill the sky with hundreds of beautiful kites for Gaza.\n\nInitiated by UMN SDS and SJP UMN> Sponsored by WAMM\n\n\n	Related
URL:https://womenagainstmilitarymadness.org/events/fly-a-kite-4-gaza/
LOCATION:Minnesota State Capitol\, 75 Rev. Dr. Martin Luther King\, Jr. Blvd\, St Paul\, MN\, 55155\, United States
CATEGORIES:Featured Events,Sponsored Events,Upcoming Events
ATTACH;FMTTYPE=image/jpeg:https://womenagainstmilitarymadness.org/wp-content/uploads/2024/01/418574214_754172606748474_6278373933132457523_n-copy.jpg
ORGANIZER;CN="Students for a Democratic Society at UMN":MAILTO:umnsds@gmail.com
END:VEVENT
BEGIN:VEVENT
DTSTART;TZID=America/Chicago:20231018T173000
DTEND;TZID=America/Chicago:20231018T183000
DTSTAMP:20260423T192053
CREATED:20231017T155037Z
LAST-MODIFIED:20231017T155037Z
UID:10002641-1697650200-1697653800@womenagainstmilitarymadness.org
SUMMARY:Stand with Palestine Rally
DESCRIPTION:Wednesday\, October 18th @ 5:30 pm @ MN State Capitol \n75 Rev. Dr. Martin Luther King\, Jr. Blvd\, St. Paul\, MN \nGovernor Walz is leading the charge in MN to rally people to stand with Israel while being silent on the 75 year occupation of Palestine\, and on the war crimes Israel is committing right now. Israel’s leveling of Gaza and the use of white phosphorus are horrible atrocities and need to be stopped. Join us for a rally to stand with Palestine and to challenge the narrative that Israel’s crimes are justified. \nOrganized by Anti-War Committee\,  American Muslims for Palestine MN and Students for Justice in Palestine – UMN. Endorsed by WAMM. \n\n\n	Related
URL:https://womenagainstmilitarymadness.org/events/stand-with-palestine-rally/
LOCATION:Minnesota State Capitol\, 75 Rev. Dr. Martin Luther King\, Jr. Blvd\, St Paul\, MN\, 55155\, United States
CATEGORIES:Featured Events,Sponsored Events,Upcoming Events
ATTACH;FMTTYPE=image/jpeg:https://womenagainstmilitarymadness.org/wp-content/uploads/2023/10/Stand-with-Palestine.jpg
ORGANIZER;CN="Anti-War Committee":MAILTO:info@antiwarcommittee.org
END:VEVENT
END:VCALENDAR