BEGIN:VCALENDAR
VERSION:2.0
PRODID:-//Women Against Military Madness - ECPv6.15.20//NONSGML v1.0//EN
CALSCALE:GREGORIAN
METHOD:PUBLISH
X-ORIGINAL-URL:https://womenagainstmilitarymadness.org
X-WR-CALDESC:Events for Women Against Military Madness
REFRESH-INTERVAL;VALUE=DURATION:PT1H
X-Robots-Tag:noindex
X-PUBLISHED-TTL:PT1H
BEGIN:VTIMEZONE
TZID:America/Chicago
BEGIN:DAYLIGHT
TZOFFSETFROM:-0600
TZOFFSETTO:-0500
TZNAME:CDT
DTSTART:20220313T080000
END:DAYLIGHT
BEGIN:STANDARD
TZOFFSETFROM:-0500
TZOFFSETTO:-0600
TZNAME:CST
DTSTART:20221106T070000
END:STANDARD
BEGIN:DAYLIGHT
TZOFFSETFROM:-0600
TZOFFSETTO:-0500
TZNAME:CDT
DTSTART:20230312T080000
END:DAYLIGHT
BEGIN:STANDARD
TZOFFSETFROM:-0500
TZOFFSETTO:-0600
TZNAME:CST
DTSTART:20231105T070000
END:STANDARD
BEGIN:DAYLIGHT
TZOFFSETFROM:-0600
TZOFFSETTO:-0500
TZNAME:CDT
DTSTART:20240310T080000
END:DAYLIGHT
BEGIN:STANDARD
TZOFFSETFROM:-0500
TZOFFSETTO:-0600
TZNAME:CST
DTSTART:20241103T070000
END:STANDARD
END:VTIMEZONE
BEGIN:VEVENT
DTSTART;TZID=America/Chicago:20230501T040000
DTEND;TZID=America/Chicago:20230501T180000
DTSTAMP:20260424T110406
CREATED:20230424T152827Z
LAST-MODIFIED:20230424T154306Z
UID:10002510-1682913600-1682964000@womenagainstmilitarymadness.org
SUMMARY:May Day March
DESCRIPTION:May Day March for Immigrant and Worker’s Rights\nMonday\, May 1\, 2023\, 4:00 pm\nMPS Adult Education Building\n2015 East Lake Street in Minneapolis \nMay 1st is International Workers Day\, a day for protest and a day for the working class to get in the streets and march!\nMarch will start outside the MPS Adult Education Building at 2015 E Lake St\, Minneapolis\, MN 55407.\nJoin a growing list of labor and immigrant rights organizations for a May Day March.\nMarch initiated by Minnesota Immigrants Rights Action Committee (MIRAC) and Minnesota Workers United (MWU).\nEndorsers (list in formation):\nAFSCME Local 2822\nAFSCME Local 3800\nAFSCME Local 3937\nAnti-War Committee\nAsamblea de Derechos Civiles\nCAIR-MN\nClimate Justice Committee\nEast Phillips Neighborhood Institute\nForprogress.org\nFreedom Road Socialist Organization Twin Cities\nInterfaith Coalition on Immigration\nMinneapolis Federation of Teachers Local 59\nMinnesota Abortion Action Committee\nMinnesota Immigrant Movement\nMinnesota Immigrant Rights Action Committee\nMinnesota Starbucks Workers United\nMinnesota Workers United\nOPEIU Local 12\nParty for Socialism and Liberation Minneapolis\nSEIU Healthcare Minnesota & Iowa\nStudents for a Democratic Society-UMN\nTwin Cities Coalition for Justice 4 Jamar\nTwin Cities Communist Party USA\nTwin Cities Democratic Socialists of America\nVeterans for Peace Local 27\nWomen Against Military Madness\nYoung Workers Caucus\n\n\n  \n\n\n	Related
URL:https://womenagainstmilitarymadness.org/events/may-day-march/
LOCATION:MPS Center for Adult Learning\, 2015 East Lake St\, Minneapolis\, MN\, 55407\, United States
CATEGORIES:Featured Events,Upcoming Events
ATTACH;FMTTYPE=image/jpeg:https://womenagainstmilitarymadness.org/wp-content/uploads/2023/04/March12023.jpeg
END:VEVENT
END:VCALENDAR