BEGIN:VCALENDAR
VERSION:2.0
PRODID:-//Women Against Military Madness - ECPv6.15.20//NONSGML v1.0//EN
CALSCALE:GREGORIAN
METHOD:PUBLISH
X-WR-CALNAME:Women Against Military Madness
X-ORIGINAL-URL:https://womenagainstmilitarymadness.org
X-WR-CALDESC:Events for Women Against Military Madness
REFRESH-INTERVAL;VALUE=DURATION:PT1H
X-Robots-Tag:noindex
X-PUBLISHED-TTL:PT1H
BEGIN:VTIMEZONE
TZID:America/Chicago
BEGIN:DAYLIGHT
TZOFFSETFROM:-0600
TZOFFSETTO:-0500
TZNAME:CDT
DTSTART:20230312T080000
END:DAYLIGHT
BEGIN:STANDARD
TZOFFSETFROM:-0500
TZOFFSETTO:-0600
TZNAME:CST
DTSTART:20231105T070000
END:STANDARD
BEGIN:DAYLIGHT
TZOFFSETFROM:-0600
TZOFFSETTO:-0500
TZNAME:CDT
DTSTART:20240310T080000
END:DAYLIGHT
BEGIN:STANDARD
TZOFFSETFROM:-0500
TZOFFSETTO:-0600
TZNAME:CST
DTSTART:20241103T070000
END:STANDARD
BEGIN:DAYLIGHT
TZOFFSETFROM:-0600
TZOFFSETTO:-0500
TZNAME:CDT
DTSTART:20250309T080000
END:DAYLIGHT
BEGIN:STANDARD
TZOFFSETFROM:-0500
TZOFFSETTO:-0600
TZNAME:CST
DTSTART:20251102T070000
END:STANDARD
BEGIN:DAYLIGHT
TZOFFSETFROM:-0600
TZOFFSETTO:-0500
TZNAME:CDT
DTSTART:20260308T080000
END:DAYLIGHT
BEGIN:STANDARD
TZOFFSETFROM:-0500
TZOFFSETTO:-0600
TZNAME:CST
DTSTART:20261101T070000
END:STANDARD
END:VTIMEZONE
BEGIN:VEVENT
DTSTART;TZID=America/Chicago:20251007T100000
DTEND;TZID=America/Chicago:20251007T120000
DTSTAMP:20260425T080850
CREATED:20251002T182537Z
LAST-MODIFIED:20251002T182537Z
UID:10006101-1759831200-1759838400@womenagainstmilitarymadness.org
SUMMARY:Normandale Protest Against Genocide
DESCRIPTION:Tuesday\, October 7\, 2025\, 10:00 AM\, Main Parking Lot entrance of Normandale Community College\, 9700 France Ave S\, Bloomington\, MN 55431\n \nMark your calendars\, adjust your schedules\, make room for the people of Palestine. Let people know that you oppose genocide and stand with Gaza. October 7\, 10 AM\, BE THERE!!! \nOctober 7 marks two years on genocide against Gaza. Join us as we call out against injustice and honor the martyrs of Gaza. \nWe will provide signs or can make your own. \nOrganized by Students for Palestine – Normandale \n\n\n	Related
URL:https://womenagainstmilitarymadness.org/events/normandale-protest-against-genocide/
LOCATION:Normandale Community College\, 9700 France Ave S\, Bloomington\, MN\, 55431\, United States
CATEGORIES:Featured Events,Sponsored Events,Upcoming Events
ATTACH;FMTTYPE=image/webp:https://womenagainstmilitarymadness.org/wp-content/uploads/2025/10/Copy-of-Flyer-Protest-Against-Genocide-Instagram-Post-45.webp
END:VEVENT
BEGIN:VEVENT
DTSTART;TZID=America/Chicago:20250422T110000
DTEND;TZID=America/Chicago:20250422T130000
DTSTAMP:20260425T080850
CREATED:20250417T200726Z
LAST-MODIFIED:20250421T164729Z
UID:10005136-1745319600-1745326800@womenagainstmilitarymadness.org
SUMMARY:We Are All Palestinian
DESCRIPTION:Tuesday\, April 22\, 2025\, 11am – 1pm\, Partnership Center Room P0806\, Normandale Community College\, 9700 France Ave S\, Bloomington\, MN \nStudents for Palestine – Normandale is proud to present two nationally known speakers addressing the relationship of the genocide in Gaza to the many other struggles for human rights Organized by SFP Normandale\, endorsed by WAMM \nHybrid Zoom to join us virtually: https://minnstate.zoom.us/j/99646658834 \n\n\n	Related
URL:https://womenagainstmilitarymadness.org/events/we-are-all-palestinian/
LOCATION:Normandale Community College\, 9700 France Ave S\, Bloomington\, MN\, 55431\, United States
CATEGORIES:Featured Events,Sponsored Events,Upcoming Events
ATTACH;FMTTYPE=image/png:https://womenagainstmilitarymadness.org/wp-content/uploads/2025/04/Screenshot-2025-04-15-at-1.58.11 PM.png
END:VEVENT
BEGIN:VEVENT
DTSTART;TZID=America/Chicago:20241212T110000
DTEND;TZID=America/Chicago:20241212T120000
DTSTAMP:20260425T080850
CREATED:20241210T210751Z
LAST-MODIFIED:20241210T210751Z
UID:10003241-1734001200-1734004800@womenagainstmilitarymadness.org
SUMMARY:Know Your Rights Training
DESCRIPTION:Thursday\, December 12\, 2024\, 11:00 AM\, Normandale Community College\, 9501 Collegeview Rd\, Room P0806\, Minneapolis\, MN 55431 \nStudents For Palestine Normandale is proud to sponsor a presentation by Jaylani Hussein (CAIR-MN) this Thursday at 11:00 AM at Normandale Community College.  He will be discussing “Know Your Rights” a must for all activists and people of color. He will also be discussing Islamophobia and how it affects us all. This event is free and open to the public\, we hope to see you there. \nOrganized by Students for Palestine – Normandale \n\n\n	Related
URL:https://womenagainstmilitarymadness.org/events/know-your-rights-training/
LOCATION:Normandale Community College\, 9700 France Ave S\, Bloomington\, MN\, 55431\, United States
CATEGORIES:Featured Events,Upcoming Events
ATTACH;FMTTYPE=image/jpeg:https://womenagainstmilitarymadness.org/wp-content/uploads/2024/12/Jaylani-Speaker-poster.pdf-1-scaled.jpg
END:VEVENT
END:VCALENDAR