BEGIN:VCALENDAR
VERSION:2.0
PRODID:-//Women Against Military Madness - ECPv6.15.20//NONSGML v1.0//EN
CALSCALE:GREGORIAN
METHOD:PUBLISH
X-ORIGINAL-URL:https://womenagainstmilitarymadness.org
X-WR-CALDESC:Events for Women Against Military Madness
REFRESH-INTERVAL;VALUE=DURATION:PT1H
X-Robots-Tag:noindex
X-PUBLISHED-TTL:PT1H
BEGIN:VTIMEZONE
TZID:America/Chicago
BEGIN:DAYLIGHT
TZOFFSETFROM:-0600
TZOFFSETTO:-0500
TZNAME:CDT
DTSTART:20220313T080000
END:DAYLIGHT
BEGIN:STANDARD
TZOFFSETFROM:-0500
TZOFFSETTO:-0600
TZNAME:CST
DTSTART:20221106T070000
END:STANDARD
BEGIN:DAYLIGHT
TZOFFSETFROM:-0600
TZOFFSETTO:-0500
TZNAME:CDT
DTSTART:20230312T080000
END:DAYLIGHT
BEGIN:STANDARD
TZOFFSETFROM:-0500
TZOFFSETTO:-0600
TZNAME:CST
DTSTART:20231105T070000
END:STANDARD
BEGIN:DAYLIGHT
TZOFFSETFROM:-0600
TZOFFSETTO:-0500
TZNAME:CDT
DTSTART:20240310T080000
END:DAYLIGHT
BEGIN:STANDARD
TZOFFSETFROM:-0500
TZOFFSETTO:-0600
TZNAME:CST
DTSTART:20241103T070000
END:STANDARD
END:VTIMEZONE
BEGIN:VEVENT
DTSTART;TZID=America/Chicago:20230816T160000
DTEND;TZID=America/Chicago:20230816T210000
DTSTAMP:20260424T043733
CREATED:20230814T163347Z
LAST-MODIFIED:20230814T163859Z
UID:10002547-1692201600-1692219600@womenagainstmilitarymadness.org
SUMMARY:Middle East Peace Now Potluck and Picnic
DESCRIPTION:Middle East Peace Now Potluck and Picnic!\nWednesday\, August 16\, 2023- Rain or Shine!\n4:00 – 9:00 p.m. Program begins at 5:00 PM\nRosland Park Picnic Shelter\n4300 West 66th Street\, Edina\, MN 55035\nReflections from the Occupied Palestinian Territories\nPresented by Jenny Hartley and Fred Rogers\nFred Rogers and Jenny Hartley are active with Northfielders for Justice in Palestine/Israel. Recently they returned from an extended visit in Palestine. They were there during a time of escalating Israeli military attacks and settler violence in the Occupied Territories. Presentation will be followed by general discussion and sharing. \nSample a Middle Eastern dish\nWin a gift certificate for dinner\nBring a dish to share.\nWater provided.\n2 Free Drawings: \n\n$50 gift certificate for Mediterranean Cruise Café Restaurant In Burnsville – Live entertainment\n$50 gift certificate for Hummus House Restaurant & Bakery Uptown on Lyndale Avenue – new opening!\n\nParking:\nThe Rosland Park pavilion is at the Edina pool off of Valley View road. There is parking in front of the pool as you enter and if you follow the small road around (running along the freeway) to the back\, there is more parking and it is closer to the pavilion. \nRSVP with an email to mepn@mepn.org\, and please forward this announcement to your friends and connections! RSVP preferred but not required. \nSponsored by Middle East Peace Now \n\n\n	Related
URL:https://womenagainstmilitarymadness.org/events/middle-east-peace-now-potluck-and-picnic/
LOCATION:Roslind Park Picnic Shelter\, 4300 W. 66th Avenuue\, Edina\, MN\, 55435\, United States
CATEGORIES:Featured Events,Upcoming Events
ATTACH;FMTTYPE=image/png:https://womenagainstmilitarymadness.org/wp-content/uploads/2023/08/MEPNLogo.png
ORGANIZER;CN="Middle East Peace Now":MAILTO:mepn@mepn.org
END:VEVENT
END:VCALENDAR