BEGIN:VCALENDAR
VERSION:2.0
PRODID:-//Women Against Military Madness - ECPv6.15.20//NONSGML v1.0//EN
CALSCALE:GREGORIAN
METHOD:PUBLISH
X-ORIGINAL-URL:https://womenagainstmilitarymadness.org
X-WR-CALDESC:Events for Women Against Military Madness
REFRESH-INTERVAL;VALUE=DURATION:PT1H
X-Robots-Tag:noindex
X-PUBLISHED-TTL:PT1H
BEGIN:VTIMEZONE
TZID:America/Chicago
BEGIN:DAYLIGHT
TZOFFSETFROM:-0600
TZOFFSETTO:-0500
TZNAME:CDT
DTSTART:20220313T080000
END:DAYLIGHT
BEGIN:STANDARD
TZOFFSETFROM:-0500
TZOFFSETTO:-0600
TZNAME:CST
DTSTART:20221106T070000
END:STANDARD
BEGIN:DAYLIGHT
TZOFFSETFROM:-0600
TZOFFSETTO:-0500
TZNAME:CDT
DTSTART:20230312T080000
END:DAYLIGHT
BEGIN:STANDARD
TZOFFSETFROM:-0500
TZOFFSETTO:-0600
TZNAME:CST
DTSTART:20231105T070000
END:STANDARD
BEGIN:DAYLIGHT
TZOFFSETFROM:-0600
TZOFFSETTO:-0500
TZNAME:CDT
DTSTART:20240310T080000
END:DAYLIGHT
BEGIN:STANDARD
TZOFFSETFROM:-0500
TZOFFSETTO:-0600
TZNAME:CST
DTSTART:20241103T070000
END:STANDARD
BEGIN:DAYLIGHT
TZOFFSETFROM:-0600
TZOFFSETTO:-0500
TZNAME:CDT
DTSTART:20250309T080000
END:DAYLIGHT
BEGIN:STANDARD
TZOFFSETFROM:-0500
TZOFFSETTO:-0600
TZNAME:CST
DTSTART:20251102T070000
END:STANDARD
END:VTIMEZONE
BEGIN:VEVENT
DTSTART;TZID=America/Chicago:20240901T130000
DTEND;TZID=America/Chicago:20240901T130000
DTSTAMP:20260423T185915
CREATED:20240829T181015Z
LAST-MODIFIED:20240829T181630Z
UID:10002857-1725195600-1725195600@womenagainstmilitarymadness.org
SUMMARY:Banner with SCOTA at the MN State Fair
DESCRIPTION:Sunday\, September 1\, 2024\, 1:00 pm\, Snelling Ave & Midway Parkway entrance\, St Paul\, MN \nAt the end of Trump’s administration\, he put Cuba back on the State Sponsored Terrorism List. \nSince the Great Minnesota Get Together is happening today\, we are going to gather to hold a banner\, flags\, signs and pass out information and stickers at the main gate entrance located on Snelling Ave and Midway Parkway\, St. Paul.\nBring your banners\, signs\, flags and join us! \n-End the U.S. Blockade of Cuba\n-Take Cuba off the U.S. State Sponsors of Terrorism\nWe focus on ending the 60 year U.S. blockade on Cuba and the continuation of Cuba on the list of nations that the U.S. designates as “terrorist.”\nMore than 10\,000 people and 100 progressive advocacy groups have signed an open letter urging President Joe Biden to end the Trump administration’s terrorism designation for Cuba and to reinstate Obama-era policy for the island.\nThe international outcry against the U.S. intentional starvation blockade of Cuba is growing. These actions powerfully refute the claims by anti-Cuba Senators Marco Rubio\, Robert Menendez and Ted Cruz. \nOrganized by Solidarity Committee on the Americas (SCOTA)\, a committee of WAMM. \n\n\n	Related
URL:https://womenagainstmilitarymadness.org/events/banner-with-scota-at-the-mn-state-fair/
LOCATION:Snelling Ave and Midway Parkway\, St. Paul
ATTACH;FMTTYPE=image/png:https://womenagainstmilitarymadness.org/wp-content/uploads/2024/08/Banner-scota.png
ORGANIZER;CN="SCOTA":MAILTO:solidaritycommitteeofamericas@gmail.com
END:VEVENT
BEGIN:VEVENT
DTSTART;TZID=America/Chicago:20230827T130000
DTEND;TZID=America/Chicago:20230827T150000
DTSTAMP:20260423T185915
CREATED:20230817T152858Z
LAST-MODIFIED:20230824T160420Z
UID:10002551-1693141200-1693148400@womenagainstmilitarymadness.org
SUMMARY:August Cuba Bannering in St. Paul
DESCRIPTION:August Cuba Bannering in St. Paul\nSunday\, August 27\, 2023\, 1:00-3:00 pm\nMain Gate of the MN State Fair\, Snelling Ave and Midway Parkway\, St. Paul. \nNOTE THE NEW LOCATION – IN ST. PAUL!!\n\nNot a caravan but a Bannering for Cuba!\nSince the Great Minnesota Get Together is happening today\, we are going to gather to hold a banner\, flags\, signs and pass out information at the main gate entrance located on Snelling Ave and Midway Parkway\, St. Paul.\nBring your banners\, signs\, flags and join us!\n \nBackground: Miami-based Puentes de Amor (Bridges of Love) to show our love for Cuba has nationwide monthly caravans and was the first to organize them.\n-End the U.S. Blockade of Cuba-Take Cuba off the U.S. State Sponsors of Terrorism\nWe focus on ending the 60 year U.S. blockade on Cuba and the continuation of Cuba on the list of nations that the U.S. designates as “terrorist.”\nMore than 10\,000 people and 100 progressive advocacy groups have signed an open letter urging President Joe Biden to end the Trump administration’s terrorism designation for Cuba and to reinstate Obama-era policy for the island.\nThe international outcry against the U.S. intentional starvation blockade of Cuba is growing. These actions powerfully refute the claims by anti-Cuba Senators Marco Rubio\, Robert Menendez and Ted Cruz.\nNow in their third year\, the public bike and car caravans that started in Miami\, and led by Cuban-Americans\, have broken up that myth\n\nSponsored by Solidarity Committee of the Americas and the MN Cuba Committee.\n\n\n\n	Related
URL:https://womenagainstmilitarymadness.org/events/august-cuba-car-caravan-in-st-paul/
LOCATION:Snelling Ave and Midway Parkway\, St. Paul
CATEGORIES:Featured Events,Upcoming Events
ATTACH;FMTTYPE=image/jpeg:https://womenagainstmilitarymadness.org/wp-content/uploads/2023/08/MNCubaCaravanJuly2023_crop.jpg
ORGANIZER;CN="Solidarity Committee on the Americas":MAILTO:solidaritycommitteeofamericas@gmail.com
END:VEVENT
END:VCALENDAR