BEGIN:VCALENDAR
VERSION:2.0
PRODID:-//Women Against Military Madness - ECPv6.15.20//NONSGML v1.0//EN
CALSCALE:GREGORIAN
METHOD:PUBLISH
X-ORIGINAL-URL:https://womenagainstmilitarymadness.org
X-WR-CALDESC:Events for Women Against Military Madness
REFRESH-INTERVAL;VALUE=DURATION:PT1H
X-Robots-Tag:noindex
X-PUBLISHED-TTL:PT1H
BEGIN:VTIMEZONE
TZID:America/Chicago
BEGIN:DAYLIGHT
TZOFFSETFROM:-0600
TZOFFSETTO:-0500
TZNAME:CDT
DTSTART:20240310T080000
END:DAYLIGHT
BEGIN:STANDARD
TZOFFSETFROM:-0500
TZOFFSETTO:-0600
TZNAME:CST
DTSTART:20241103T070000
END:STANDARD
BEGIN:DAYLIGHT
TZOFFSETFROM:-0600
TZOFFSETTO:-0500
TZNAME:CDT
DTSTART:20250309T080000
END:DAYLIGHT
BEGIN:STANDARD
TZOFFSETFROM:-0500
TZOFFSETTO:-0600
TZNAME:CST
DTSTART:20251102T070000
END:STANDARD
BEGIN:DAYLIGHT
TZOFFSETFROM:-0600
TZOFFSETTO:-0500
TZNAME:CDT
DTSTART:20260308T080000
END:DAYLIGHT
BEGIN:STANDARD
TZOFFSETFROM:-0500
TZOFFSETTO:-0600
TZNAME:CST
DTSTART:20261101T070000
END:STANDARD
END:VTIMEZONE
BEGIN:VEVENT
DTSTART;TZID=America/Chicago:20250419T130000
DTEND;TZID=America/Chicago:20250419T150000
DTSTAMP:20260425T065444
CREATED:20250417T200336Z
LAST-MODIFIED:20250417T200336Z
UID:10005135-1745067600-1745074800@womenagainstmilitarymadness.org
SUMMARY:Fight for a People's Earth Day 2025
DESCRIPTION:Saturday\, April 19\, 2025\, 1:00PM\, start at Wabasha St N & W 7th Place\, St Paul\, MN \nFight for a People’s Earth Day! The climate crisis is already here: it’s time to FIGHT BACK! \nThe Trump administration is already waging an all-out war on the people and the planet\, and we have no time to waste in building an environmental movement that will *actually* fight like our future depends on it. Let’s get in the streets and make this a PEOPLE’S EARTH DAY 🌎 \n🗓️ Saturday\, April 19th\n⏰ 1:00PM\n📍 Start at Wabasha St North & W 7th Place\, St Paul (in front of Wells Fargo building)\n➡️ March to the MN State Capitol \nOrganized by Climate Justice Committee\, endorsed by WAMM and FAMM \n\n\n	Related
URL:https://womenagainstmilitarymadness.org/events/fight-for-a-peoples-earth-day-2025/
LOCATION:Wabasha St N & W 7th Place
CATEGORIES:Featured Events,Sponsored Events,Upcoming Events
ATTACH;FMTTYPE=image/webp:https://womenagainstmilitarymadness.org/wp-content/uploads/2025/04/490781028_980365994300700_6449524013228835390_n.webp
END:VEVENT
END:VCALENDAR