BEGIN:VCALENDAR
VERSION:2.0
PRODID:-//Women Against Military Madness - ECPv6.15.20//NONSGML v1.0//EN
CALSCALE:GREGORIAN
METHOD:PUBLISH
X-ORIGINAL-URL:https://womenagainstmilitarymadness.org
X-WR-CALDESC:Events for Women Against Military Madness
REFRESH-INTERVAL;VALUE=DURATION:PT1H
X-Robots-Tag:noindex
X-PUBLISHED-TTL:PT1H
BEGIN:VTIMEZONE
TZID:America/Chicago
BEGIN:DAYLIGHT
TZOFFSETFROM:-0600
TZOFFSETTO:-0500
TZNAME:CDT
DTSTART:20230312T080000
END:DAYLIGHT
BEGIN:STANDARD
TZOFFSETFROM:-0500
TZOFFSETTO:-0600
TZNAME:CST
DTSTART:20231105T070000
END:STANDARD
BEGIN:DAYLIGHT
TZOFFSETFROM:-0600
TZOFFSETTO:-0500
TZNAME:CDT
DTSTART:20240310T080000
END:DAYLIGHT
BEGIN:STANDARD
TZOFFSETFROM:-0500
TZOFFSETTO:-0600
TZNAME:CST
DTSTART:20241103T070000
END:STANDARD
BEGIN:DAYLIGHT
TZOFFSETFROM:-0600
TZOFFSETTO:-0500
TZNAME:CDT
DTSTART:20250309T080000
END:DAYLIGHT
BEGIN:STANDARD
TZOFFSETFROM:-0500
TZOFFSETTO:-0600
TZNAME:CST
DTSTART:20251102T070000
END:STANDARD
END:VTIMEZONE
BEGIN:VEVENT
DTSTART;TZID=America/Chicago:20241208T130000
DTEND;TZID=America/Chicago:20241208T150000
DTSTAMP:20260425T163041
CREATED:20241114T200121Z
LAST-MODIFIED:20241114T200121Z
UID:10003231-1733662800-1733670000@womenagainstmilitarymadness.org
SUMMARY:Rally & March for Human Rights Day
DESCRIPTION:Sunday\, December 8\, 2024\, 1:00 PM\, Washburn Fair Oaks Park\, 200 E. 24th St. Minneapolis\nHuman Rights Day Protest and March\n\nThis Human Rights Day\, Palestine is every issue!\nWe demand the right of return\, land back and for MN to divest from genocide!\nInitiated by the Anti-War Committee\, endorsed by WAMM\n\n\n	Related
URL:https://womenagainstmilitarymadness.org/events/rally-march-for-human-rights-day/
LOCATION:Washburn Fair Oaks Park\, 200 E. 24th St\, Minneapolis\, MN\, 55404\, United States
CATEGORIES:Featured Events,Sponsored Events,Upcoming Events
ATTACH;FMTTYPE=image/png:https://womenagainstmilitarymadness.org/wp-content/uploads/2024/11/Screenshot-2024-11-14-at-1.56.29 PM.png
ORGANIZER;CN="Anti-War Committee":MAILTO:info@antiwarcommittee.org
END:VEVENT
END:VCALENDAR